{"text_format":"1","workbook":"xlsx","n_sheets":19,"sheets":["IQData","2_Sample","2_Means","4_Sample","4_Means","16_Sample","16_Means","25_Sample","25_Means","100_Sample","100_Means","400_Sample","400_Means","900_Sample","900_Means","1600_Sample","1600_Means","Histogram","SampleNdata"],"not_rendered":{"charts":7,"images":0,"macros":1,"external_links":0,"defined_names":0,"comments":0,"pivot_tables":0},"unopened":[],"bounds":{"document_bytes":16777216,"sheet_cells":100000,"rows_first":2000,"rows_last":500,"rows_between":2000,"halvings":0,"cell_chars":16384,"cell_head_chars":4096},"cells_cut":0,"cells_raw":0,"read":"whole","date_system":"1900"}

{"sheet":"IQData","index":0,"n_rows":100001,"n_cols":10,"rows_kept":4500,"cut":true,"hidden":false,"merged":[],"bounds":{"rows_first":2000,"rows_last":500,"rows_between":2000,"halvings":0}}
["ser","rawData","IQ",null,null,"n=n","n","se","ob_se","ob_mean_samples"]
[1,118.002754701,{"$f":"ROUND(B2,0)","v":118},"stdev",{"$f":"STDEV(C2:C100001)","v":15.001946999231047},"n=2",2,{"$f":"E2/(SQRT(2))","v":10.60797845415745},{"$f":"'2_Means'!C6","v":11.048876719724779},{"$f":"'2_Means'!C2","v":100.41}]
[2,106.61434044000001,{"$f":"ROUND(B3,0)","v":107},"mean",{"$f":"AVERAGE(C2:C100001)","v":100.02858000000001},"n=4",4,{"$f":"$E$2/(SQRT(G3))","v":7.5009734996155233},{"$f":"'4_Means'!C6","v":8.5290838584601989},{"$f":"'4_Means'!C2","v":99.767499999999998}]
[3,95.239346428199994,95,null,null,"n=16",16,3.7504867498077616,{"$f":"'16_Means'!C6","v":3.5430106073098617},{"$f":"'16_Means'!C2","v":100.03937500000001}]
[4,93.276729703900003,93,null,null,"n=25",25,3.0003893998462092,{"$f":"'25_Means'!C6","v":3.7329328573079446},{"$f":"'25_Means'!$C$2","v":100.39960000000001}]
[5,88.288096557100005,88,null,null,"n=100",100,1.5001946999231046,{"$f":"'100_Means'!C6","v":1.4981028406653134},{"$f":"'100_Means'!$C$2","v":100.221}]
[6,78.1210185236,78,null,null,"n=400",400,0.75009734996155231,{"$f":"'400_Means'!C6","v":0.68395631432963},{"$f":"'400_Means'!$C$2","v":99.959149999999951}]
[7,85.627934432399996,86,null,null,"n=900",900,0.5000648999743682,{"$f":"'900_Means'!C6","v":0.51791797835251252},{"$f":"'900_Means'!$C$2","v":100.05311111111108}]
[8,97.770495553399996,98,null,null,"n=1600",1600,0.37504867498077615,{"$f":"'1600_Means'!C6","v":0.40060748831598358},{"$f":"'1600_Means'!$C$2","v":100.0511875}]
[9,114.926553717,115]
[10,80.090196559500001,80]
[11,98.159049971800002,98,null,"계급","빈도수"]
[12,83.844098931399998,84,null,37,3]
[13,86.044029215799995,86,null,37.395569620253163,0]
[14,71.773620431500007,72,null,37.791139240506332,0]
[15,120.359144652,120,null,38.186708860759495,0]
[16,88.500217860099994,89,null,38.582278481012658,0]
[17,121.813286834,122,null,38.97784810126582,0]
[18,106.934341264,107,null,39.37341772151899,0]
[19,105.020232526,105,null,39.768987341772153,0]
[20,96.244250961500001,96,null,40.164556962025316,0]
[21,104.645883846,105,null,40.560126582278478,0]
[22,85.641555885599999,86,null,40.955696202531648,0]
[23,111.26870876700001,111,null,41.351265822784811,2]
[24,92.613788996099998,93,null,41.746835443037973,0]
[25,114.177464992,114,null,42.142405063291136,1]
[26,100.41602844000001,100,null,42.537974683544306,0]
[27,76.959553161399995,77,null,42.933544303797468,0]
[28,84.244452119300007,84,null,43.329113924050631,0]
[29,103.317517505,103,null,43.724683544303801,0]
[30,110.126327242,110,null,44.120253164556964,6]
[31,94.361933528799995,94,null,44.515822784810126,0]
[32,97.115491755899995,97,null,44.911392405063289,0]
[33,92.879025722500003,93,null,45.306962025316452,4]
[34,83.165425429500004,83,null,45.702531645569621,0]
[35,104.68206436600001,105,null,46.098101265822784,6]
[36,115.92938062,116,null,46.493670886075947,0]
[37,87.209557859900002,87,null,46.889240506329116,0]
[38,84.004500679100005,84,null,47.284810126582279,2]
[39,87.813065086600005,88,null,47.680379746835442,0]
[40,96.123459757099994,96,null,48.075949367088612,6]
[41,93.6722510126,94,null,48.471518987341774,0]
[42,79.551204758300003,80,null,48.867088607594937,0]
[43,88.369188103400006,88,null,49.2626582278481,8]
[44,99.893659423700001,100,null,49.658227848101262,0]
[45,116.05849845100001,116,null,50.053797468354432,7]
[46,111.685346486,112,null,50.449367088607595,0]
[47,89.552876941199997,90,null,50.844936708860757,0]
[48,96.699730532100006,97,null,51.240506329113927,7]
[49,99.513974844399996,100,null,51.63607594936709,0]
[50,86.085986044600006,86,null,52.031645569620252,19]
[51,89.603926326199996,90,null,52.427215189873415,0]
[52,111.314968689,111,null,52.822784810126578,0]
[53,87.349127878800005,87,null,53.218354430379748,18]
[54,98.437921392999996,98,null,53.61392405063291,0]
[55,76.266097288099999,76,null,54.009493670886073,21]
[56,94.652471647799999,95,null,54.405063291139243,0]
[57,109.529735047,110,null,54.800632911392405,0]
[58,108.446936482,108,null,55.196202531645568,27]
[59,120.650769031,121,null,55.591772151898738,0]
[60,80.112902267400003,80,null,55.9873417721519,0]
[61,133.77417643300001,134,null,56.382911392405063,45]
[62,103.011902577,103,null,56.778481012658233,0]
[63,104.403624261,104,null,57.174050632911388,37]
[64,129.50659704700001,130,null,57.569620253164558,0]
[65,81.052543133599997,81,null,57.965189873417721,0]
[66,57.4482590836,{"$f":"ROUND(B67,0)","v":57},null,58.360759493670884,58]
[67,94.748010563700007,95,null,58.756329113924053,0]
[68,103.28420305500001,103,null,59.151898734177216,63]
[69,77.843478173700007,78,null,59.547468354430379,0]
[70,119.12034946,119,null,59.943037974683548,0]
[71,108.67369300199999,109,null,60.338607594936704,70]
[72,102.92834660299999,103,null,60.734177215189874,0]
[73,113.93584374300001,114,null,61.129746835443036,97]
[74,92.461717996999994,92,null,61.525316455696199,0]
[75,94.265598418899998,94,null,61.920886075949369,0]
[76,99.165078546000004,99,null,62.316455696202532,96]
[77,105.691776965,106,null,62.712025316455694,0]
[78,88.802034569300005,89,null,63.107594936708864,117]
[79,108.975371119,109,null,63.503164556962027,0]
[80,91.017034802400005,91,null,63.898734177215189,0]
[81,107.812333044,108,null,64.294303797468359,139]
[82,105.572383031,106,null,64.689873417721515,0]
[83,82.998360972200004,83,null,65.085443037974684,193]
[84,114.34301196,114,null,65.481012658227854,0]
[85,87.790083367500003,88,null,65.87658227848101,0]
[86,102.466447909,102,null,66.27215189873418,172]
[87,104.573104465,105,null,66.667721518987349,0]
[88,109.903147817,110,null,67.063291139240505,249]
[89,107.52314231699999,108,null,67.458860759493675,0]
[90,120.487494665,120,null,67.85443037974683,0]
[91,97.848032736099995,98,null,68.25,267]
[92,80.829556136700006,81,null,68.645569620253156,0]
[93,107.003558946,107,null,69.04113924050634,301]
[94,121.65832337800001,122,null,69.436708860759495,0]
[95,69.612376871199999,70,null,69.832278481012651,0]
[96,125.268812509,125,null,70.22784810126582,379]
[97,102.526922747,103,null,70.62341772151899,0]
[98,81.460179386299998,81,null,71.018987341772146,420]
[99,124.31114398,124,null,71.414556962025316,0]
[100,77.364408964399999,77,null,71.810126582278485,0]
[101,103.860497001,104,null,72.205696202531641,477]
[102,116.112423648,116,null,72.601265822784811,0]
[103,121.83630583199999,122,null,72.99683544303798,0]
[104,116.39500531100001,116,null,73.392405063291136,508]
[105,116.358101593,116,null,73.787974683544306,0]
[106,81.440030714000002,81,null,74.183544303797476,614]
[107,85.382326652200007,85,null,74.579113924050631,0]
[108,109.731064213,110,null,74.974683544303801,0]
[109,118.45057710099999,118,null,75.370253164556971,664]
[110,92.564354173300003,93,null,75.765822784810126,0]
[111,96.899551296699997,97,null,76.161392405063282,780]
[112,96.311302881000003,96,null,76.556962025316466,0]
[113,91.827363956300005,92,null,76.952531645569621,0]
[114,102.867364673,103,null,77.348101265822777,765]
[115,113.36271508,113,null,77.743670886075947,0]
[116,108.99968566,109,null,78.139240506329116,902]
[117,101.53551526,102,null,78.534810126582272,0]
[118,88.304083410100006,88,null,78.930379746835442,0]
[119,109.483711993,109,null,79.325949367088612,1016]
[120,99.233197059299997,99,null,79.721518987341767,0]
[121,96.449733254400002,96,null,80.117088607594937,1098]
[122,102.42652908300001,102,null,80.512658227848107,0]
[123,76.8163253978,77,null,80.908227848101262,0]
[124,84.741053926800006,85,null,81.303797468354432,1214]
[125,90.5159431342,91,null,81.699367088607602,0]
[126,103.745655927,104,null,82.094936708860757,1287]
[127,109.14510656900001,109,null,82.490506329113927,0]
[128,114.1121825,114,null,82.886075949367097,0]
[129,93.275887734600005,93,null,83.281645569620252,1390]
[130,84.473298910500006,{"$f":"ROUND(B131,0)","v":84},null,83.677215189873408,0]
[131,86.824140228800005,87,null,84.072784810126592,1522]
[132,98.576666111400002,99,null,84.468354430379748,0]
[133,102.436505901,102,null,84.863924050632903,0]
[134,76.817070473100003,77,null,85.259493670886073,1579]
[135,130.31660518999999,130,null,85.655063291139243,0]
[136,83.285179270399993,83,null,86.050632911392398,1730]
[137,90.038839586099996,90,null,86.446202531645568,0]
[138,96.017819242499996,96,null,86.841772151898738,0]
[139,100.634313494,101,null,87.237341772151893,1854]
[140,105.25224884399999,105,null,87.632911392405063,0]
[141,107.738605014,108,null,88.028481012658233,1884]
[142,98.653843746099994,99,null,88.424050632911388,0]
[143,96.459311024800002,96,null,88.819620253164558,0]
[144,97.287715377699996,97,null,89.215189873417728,2034]
[145,103.13911689,103,null,89.610759493670884,0]
[146,74.997216722700003,75,null,90.006329113924053,2208]
[147,106.166982304,106,null,90.401898734177223,0]
[148,121.61768011300001,122,null,90.797468354430379,0]
[149,81.818430999200004,82,null,91.193037974683534,2220]
[150,119.74115623199999,120,null,91.588607594936718,0]
[151,82.2650934726,82,null,91.984177215189874,0]
[152,85.920947661400007,86,null,92.379746835443029,2308]
[153,126.63852455,127,null,92.775316455696199,0]
[154,87.2542355251,87,null,93.170886075949369,2369]
[155,112.91682032,113,null,93.566455696202524,0]
[156,95.178006609500002,95,null,93.962025316455694,0]
[157,124.441561569,124,null,94.357594936708864,2452]
[158,103.847501919,104,null,94.75316455696202,0]
[159,83.748652479599997,84,null,95.148734177215189,2501]
[160,92.592128369199997,93,null,95.544303797468359,0]
[161,97.366330272300004,97,null,95.939873417721515,0]
[162,60.859161780599997,61,null,96.335443037974684,2522]
[163,121.689785069,122,null,96.731012658227854,0]
[164,103.99971353399999,104,null,97.12658227848101,2554]
[165,118.273093188,118,null,97.52215189873418,0]
[166,113.526839094,114,null,97.917721518987349,0]
[167,106.683265319,107,null,98.313291139240505,2584]
[168,114.07542642600001,114,null,98.70886075949366,0]
[169,115.865304092,116,null,99.104430379746844,2721]
[170,93.969539290499995,94,null,99.5,0]
[171,113.120431228,113,null,99.895569620253156,0]
[172,107.532134812,108,null,100.29113924050633,2716]
[173,93.094091037799998,93,null,100.6867088607595,0]
[174,116.482310209,116,null,101.08227848101266,2612]
[175,94.709067955799995,95,null,101.47784810126582,0]
[176,107.900774415,108,null,101.87341772151899,0]
[177,106.322549331,106,null,102.26898734177215,2664]
[178,115.26734497699999,115,null,102.66455696202532,0]
[179,95.3771081119,95,null,103.06012658227849,2593]
[180,98.283713027199994,98,null,103.45569620253164,0]
[181,61.152638185699999,61,null,103.85126582278481,0]
[182,99.151576501700006,99,null,104.24683544303798,2549]
[183,99.649774441999995,100,null,104.64240506329114,0]
[184,95.674558989000005,96,null,105.03797468354431,2523]
[185,124.607622261,125,null,105.43354430379746,0]
[186,101.24714332000001,101,null,105.82911392405063,0]
[187,89.440784337300002,89,null,106.2246835443038,2420]
[188,108.216453065,108,null,106.62025316455696,0]
[189,111.63126745,112,null,107.01582278481013,2403]
[190,127.913243329,128,null,107.4113924050633,0]
[191,94.100390691399994,94,null,107.80696202531645,0]
[192,105.46082284000001,105,null,108.20253164556962,2304]
[193,68.044683546200005,68,null,108.59810126582279,0]
[194,90.698213989400003,{"$f":"ROUND(B195,0)","v":91},null,108.99367088607595,0]
[195,101.998689602,102,null,109.38924050632912,2243]
[196,111.16161713,111,null,109.78481012658227,0]
[197,113.68021218,114,null,110.18037974683544,2073]
[198,101.068776904,101,null,110.57594936708861,0]
[199,69.607941692500006,70,null,110.97151898734177,0]
[200,85.944513779299996,86,null,111.36708860759494,1992]
[201,97.015712582999996,97,null,111.76265822784811,0]
[202,119.941459905,120,null,112.15822784810126,1939]
[203,88.588586591199999,89,null,112.55379746835443,0]
[204,83.640965226800006,84,null,112.9493670886076,0]
[205,103.120295488,103,null,113.34493670886076,1845]
[206,100.12800135000001,100,null,113.74050632911393,0]
[207,85.484307971899995,85,null,114.13607594936708,1684]
[208,129.62770455099999,130,null,114.53164556962025,0]
[209,96.651812304299995,97,null,114.92721518987342,0]
[210,83.141282093699999,83,null,115.32278481012658,1578]
[211,127.226311645,127,null,115.71835443037975,0]
[212,70.062622238200007,70,null,116.11392405063292,1520]
[213,101.86787476400001,102,null,116.50949367088607,0]
[214,90.417644458200002,90,null,116.90506329113924,0]
[215,90.854196703,91,null,117.3006329113924,1395]
[216,114.998093016,115,null,117.69620253164557,0]
[217,80.292350163199998,80,null,118.09177215189874,1348]
[218,94.4379615454,94,null,118.48734177215189,0]
[219,91.178281479800006,91,null,118.88291139240506,0]
[220,99.659280727300001,100,null,119.27848101265823,1218]
[221,106.42192398,106,null,119.67405063291139,0]
[222,109.003022238,109,null,120.06962025316456,1115]
[223,110.795881264,111,null,120.46518987341773,0]
[224,112.17746834,112,null,120.86075949367088,0]
[225,89.318286400000005,89,null,121.25632911392405,1009]
[226,104.157475827,104,null,121.65189873417721,0]
[227,93.608050777700001,94,null,122.04746835443038,947]
[228,76.529921482999995,77,null,122.44303797468355,0]
[229,57.6040794468,58,null,122.8386075949367,0]
[230,124.813675796,125,null,123.23417721518987,816]
[231,77.897079478099997,78,null,123.62974683544304,0]
[232,82.079046332600001,82,null,124.0253164556962,764]
[233,86.191396922799996,86,null,124.42088607594937,0]
[234,126.52275953100001,127,null,124.81645569620252,0]
[235,104.600757802,105,null,125.21202531645569,703]
[236,110.07438256099999,110,null,125.60759493670886,0]
[237,89.1047432875,89,null,126.00316455696202,615]
[238,116.39808776300001,116,null,126.39873417721519,0]
[239,80.765124052999994,81,null,126.79430379746836,0]
[240,100.03492256299999,100,null,127.18987341772151,508]
[241,81.599546562,82,null,127.58544303797468,0]
[242,102.601929962,103,null,127.98101265822785,0]
[243,113.03750090699999,113,null,128.37658227848101,456]
[244,105.829805428,106,null,128.77215189873419,0]
[245,81.256216468399998,81,null,129.16772151898732,400]
[246,101.130831312,101,null,129.5632911392405,0]
[247,76.335686758700007,76,null,129.95886075949369,0]
[248,83.887952409999997,84,null,130.35443037974682,406]
[249,104.59173347700001,105,null,130.75,0]
[250,112.873139123,113,null,131.14556962025318,297]
[251,97.2121734256,97,null,131.54113924050631,0]
[252,79.390925665500006,79,null,131.9367088607595,0]
[253,103.551291694,104,null,132.33227848101268,250]
[254,55.470611608200002,55,null,132.72784810126581,0]
[255,79.439990767699996,79,null,133.12341772151899,229]
[256,90.2627246423,90,null,133.51898734177215,0]
[257,81.570958734399994,82,null,133.9145569620253,0]
[258,124.080909328,{"$f":"ROUND(B259,0)","v":124},null,134.31012658227849,226]
[259,105.979042413,106,null,134.70569620253164,0]
[260,101.104720555,101,null,135.1012658227848,176]
[261,89.237483505100002,89,null,135.49683544303798,0]
[262,104.330227835,104,null,135.89240506329114,0]
[263,97.375274012700004,97,null,136.28797468354429,130]
[264,103.516976876,104,null,136.68354430379748,0]
[265,64.830569808299998,65,null,137.07911392405063,128]
[266,120.228610188,120,null,137.47468354430379,0]
[267,117.886519646,118,null,137.87025316455697,0]
[268,102.979195851,103,null,138.26582278481013,93]
[269,80.252735407499998,80,null,138.66139240506328,0]
[270,76.641520380299994,77,null,139.05696202531647,84]
[271,79.981094687699994,80,null,139.45253164556962,0]
[272,105.39563124199999,105,null,139.84810126582278,0]
[273,98.557873079000004,99,null,140.24367088607596,84]
[274,101.91662998,102,null,140.63924050632912,0]
[275,124.226363173,124,null,141.03481012658227,67]
[276,128.10350830600001,128,null,141.43037974683546,0]
[277,96.572218945200007,97,null,141.82594936708861,0]
[278,95.369387282999995,95,null,142.22151898734177,48]
[279,101.12820100899999,101,null,142.61708860759495,0]
[280,103.969522066,104,null,143.01265822784811,33]
[281,127.29864961200001,127,null,143.40822784810126,0]
[282,125.553430443,126,null,143.80379746835445,0]
[283,84.871942565599994,85,null,144.19936708860757,40]
[284,94.309076407299997,94,null,144.59493670886076,0]
[285,96.152477287400004,96,null,144.99050632911394,0]
[286,94.260426526200007,94,null,145.38607594936707,28]
[287,110.36291325800001,110,null,145.78164556962025,0]
[288,121.849238563,122,null,146.17721518987344,24]
[289,113.22463188099999,113,null,146.57278481012656,0]
[290,103.425910977,103,null,146.96835443037975,0]
[291,103.95494902900001,104,null,147.36392405063293,21]
[292,117.141598503,117,null,147.75949367088606,0]
[293,105.255670208,105,null,148.15506329113924,20]
[294,107.62992400500001,108,null,148.5506329113924,0]
[295,107.76667051299999,108,null,148.94620253164555,0]
[296,99.033199185200004,99,null,149.34177215189874,25]
[297,88.757622578400003,89,null,149.73734177215189,0]
[298,109.34315034399999,109,null,150.13291139240505,9]
[299,117.412338327,117,null,150.52848101265823,0]
[300,95.798803830300002,96,null,150.92405063291139,0]
[301,82.938211006499998,83,null,151.31962025316454,9]
[302,100.34133461899999,100,null,151.71518987341773,0]
[303,100.097194355,100,null,152.11075949367088,7]
[304,127.821682212,128,null,152.50632911392404,0]
[305,76.515034331699994,77,null,152.90189873417722,0]
[306,104.365625638,104,null,153.29746835443038,3]
[307,96.713715658200002,97,null,153.69303797468353,0]
[308,115.551142767,116,null,154.08860759493672,4]
[309,112.364149583,112,null,154.48417721518987,0]
[310,107.733949923,108,null,154.87974683544303,0]
[311,114.734448089,115,null,155.27531645569621,5]
[312,81.422471333600001,81,null,155.67088607594937,0]
[313,93.342881905499993,93,null,156.06645569620252,1]
[314,118.55991484099999,119,null,156.46202531645571,0]
[315,94.905775295200002,95,null,156.85759493670886,0]
[316,88.6832252528,89,null,157.25316455696202,1]
[317,75.602921097099994,76,null,157.6487341772152,0]
[318,105.050669801,105,null,158.04430379746836,1]
[319,97.643646641000004,98,null,158.43987341772151,0]
[320,93.094539685599997,93,null,158.8354430379747,0]
[321,87.009425989099995,87,null,159.23101265822785,0]
[322,102.73553165200001,{"$f":"ROUND(B323,0)","v":103},null,159.62658227848101,0]
[323,103.27512866399999,103,null,160.02215189873419,0]
[324,110.726543815,111,null,160.41772151898732,0]
[325,86.740907122199999,87,null,160.8132911392405,0]
[326,128.29994127800001,128,null,161.20886075949369,1]
[327,117.270017411,117,null,161.60443037974682,0]
[328,102.00745099300001,102,null,"기타",1]
[329,124.48631856999999,124]
[330,78.284502044500002,78]
[331,105.373272769,105]
[332,88.673744120600006,89]
[333,89.050597614599994,89]
[334,97.787925451700005,98]
[335,126.30010738,126]
[336,96.247313368099995,96]
[337,103.81662431700001,104]
[338,98.947700761799993,99]
[339,79.152402118699996,79]
[340,102.22580790000001,102]
[341,126.283058623,126]
[342,103.400227841,103]
[343,97.608819524099999,98]
[344,101.922122398,102]
[345,96.218655218999999,96]
[346,106.70752895699999,107]
[347,126.422914828,126]
[348,92.461248018500001,92]
[349,81.760598639899996,82]
[350,90.125172734499998,90]
[351,79.035629309300006,79]
[352,102.65754274,103]
[353,98.267172437799999,98]
[354,127.335227355,127]
[355,97.428621354399993,97]
[356,99.962247700199995,100]
[357,102.84151610000001,103]
[358,119.712595314,120]
[359,98.842611537099998,99]
[360,110.54236119799999,111]
[361,139.29066155800001,139]
[362,82.580147282900001,83]
[363,101.81759982200001,102]
[364,82.09517314,82]
[365,113.743786055,114]
[366,105.77799226499999,106]
[367,68.871009744000006,69]
[368,105.97620508200001,106]
[369,106.374193629,106]
[370,105.82192240800001,106]
[371,92.1171418335,92]
[372,108.412648123,108]
[373,102.910883243,103]
[374,113.32331548400001,113]
[375,108.91184646799999,109]
[376,91.824525679700002,92]
[377,116.682519364,117]
[378,99.581704864900004,100]
[379,100.79917626300001,101]
[380,108.85779976000001,109]
[381,85.315220760800003,85]
[382,110.514040932,111]
[383,78.696935710600002,79]
[384,103.70644089699999,104]
[385,112.725197748,113]
[386,76.385208508600002,{"$f":"ROUND(B387,0)","v":76}]
[387,116.602400058,117]
[388,147.11390064400001,147]
[389,114.575037022,115]
[390,104.245861839,104]
[391,99.557654574099999,100]
[392,83.2057261737,83]
[393,104.439682574,104]
[394,108.10301051099999,108]
[395,104.958138627,105]
[396,130.723713433,131]
[397,111.327505313,111]
[398,95.473416105799998,95]
[399,85.6870409972,86]
[400,101.33182721599999,101]
[401,105.649587526,106]
[402,130.23194700499999,130]
[403,107.772684031,108]
[404,109.26130399900001,109]
[405,104.576374634,105]
[406,130.11184263499999,130]
[407,109.881433223,110]
[408,103.762911385,104]
[409,95.638072997999998,96]
[410,121.327384233,121]
[411,107.873721101,108]
[412,116.712588662,117]
[413,65.770104057899999,66]
[414,83.8263889973,84]
[415,84.246246241099996,84]
[416,98.604119479999994,99]
[417,93.038375731499997,93]
[418,106.122869706,106]
[419,94.863748111899994,95]
[420,107.85502190699999,108]
[421,99.633725403,100]
[422,133.60057032,134]
[423,83.520172800300003,84]
[424,91.755223892800004,92]
[425,85.048080561999996,85]
[426,96.502464269599997,97]
[427,121.737850334,122]
[428,104.029421795,104]
[429,117.182918664,117]
[430,110.59832631800001,111]
[431,81.645259060499995,82]
[432,115.490872462,115]
[433,87.986612996100007,88]
[434,135.383166636,135]
[435,87.309281236700002,87]
[436,80.6602564218,81]
[437,99.724594858399996,100]
[438,108.069762219,108]
[439,69.298464372500007,69]
[440,101.722570688,102]
[441,100.46310291,100]
[442,78.596290914600004,79]
[443,77.042577699199995,77]
[444,84.413287814599997,84]
[445,121.776517723,122]
[446,88.972190609500004,89]
[447,102.171760119,102]
[448,76.388826115900002,76]
[449,110.436299918,110]
[450,98.2205088356,{"$f":"ROUND(B451,0)","v":98}]
[451,94.221540749900001,94]
[452,73.1598539198,73]
[453,122.19970116899999,122]
[454,80.185654472300001,80]
[455,103.232623788,103]
[456,115.285308714,115]
[457,91.655186847099998,92]
[458,80.730506329899995,81]
[459,106.63124919099999,107]
[460,95.541719832699997,96]
[461,124.07507279799999,124]
[462,94.245016873500006,94]
[463,102.816295819,103]
[464,107.70309341799999,108]
[465,95.675666724500005,96]
[466,100.89315372199999,101]
[467,81.025943275200007,81]
[468,121.806439779,122]
[469,93.186067437600002,93]
[470,108.53631932499999,109]
[471,94.310642657499997,94]
[472,75.593518307300002,76]
[473,64.796744513700006,65]
[474,123.75232271500001,124]
[475,94.285758379399994,94]
[476,68.438924452999998,68]
[477,121.278794819,121]
[478,81.2995570904,81]
[479,125.586926038,126]
[480,102.64353979000001,103]
[481,92.634102542600004,93]
[482,107.71678964900001,108]
[483,117.672148824,118]
[484,107.269211648,107]
[485,113.08371267699999,113]
[486,100.603021238,101]
[487,106.022858533,106]
[488,117.288432677,117]
[489,105.931780769,106]
[490,86.782346277200006,87]
[491,73.478670493199999,73]
[492,97.974281519800002,98]
[493,84.6301160955,85]
[494,99.623634635100004,100]
[495,89.772125897699993,90]
[496,79.547876099800007,80]
[497,96.679967247299999,97]
[498,102.413512119,102]
[499,88.326811928599994,88]
[500,94.5744269769,95]
[501,93.715543193900004,94]
[502,113.76883245499999,114]
[503,110.046588996,110]
[504,109.54902682700001,110]
[505,113.15681612,113]
[506,87.665666979700006,88]
[507,90.015596886599994,90]
[508,85.144265378300005,85]
[509,84.653248761599997,85]
[510,105.864069688,106]
[511,104.55064802,105]
[512,82.959290601999996,83]
[513,96.386306958099993,96]
[514,103.67111909899999,{"$f":"ROUND(B515,0)","v":104}]
[515,76.105397630699997,76]
[516,69.682460249100004,70]
[517,122.381956222,122]
[518,101.54896060199999,102]
[519,120.046553274,120]
[520,96.653300215200005,97]
[521,98.132549177200005,98]
[522,61.7480516655,62]
[523,99.741998790099998,100]
[524,127.781937724,128]
[525,101.160958251,101]
[526,105.947902001,106]
[527,95.545007432700004,96]
[528,73.355787327100003,73]
[529,110.504197205,111]
[530,118.45312106999999,118]
[531,87.178901012599994,87]
[532,106.24679073599999,106]
[533,80.408335016400002,80]
[534,95.625989823899999,96]
[535,101.430934373,101]
[536,97.249290952400003,97]
[537,115.479800032,115]
[538,103.58918248099999,104]
[539,76.996020713299998,77]
[540,105.36854923600001,105]
[541,83.091895962799995,83]
[542,100.278923049,100]
[543,77.725016206899994,78]
[544,102.988836686,103]
[545,90.949818117299998,91]
[546,105.32283097200001,105]
[547,95.638180195000004,96]
[548,102.061423447,102]
[549,96.848827856400007,97]
[550,89.259428511899998,89]
[551,115.342208466,115]
[552,111.20598508400001,111]
[553,117.922089782,118]
[554,107.458734088,107]
[555,114.923378531,115]
[556,119.422375632,119]
[557,108.64034827,109]
[558,91.118137673000007,91]
[559,116.278704617,116]
[560,92.527127260499995,93]
[561,104.388149189,104]
[562,113.00413711500001,113]
[563,81.627048265699997,82]
[564,101.002283521,101]
[565,91.437795805299999,91]
[566,101.16141244799999,101]
[567,105.163069048,105]
[568,98.798069769199998,99]
[569,99.9973696526,100]
[570,77.166360765299999,77]
[571,90.365524920599995,90]
[572,78.312275109200002,78]
[573,120.321487713,120]
[574,91.230954740800001,91]
[575,92.578786388400005,93]
[576,108.323165295,108]
[577,75.373708316199995,75]
[578,86.308997879299994,{"$f":"ROUND(B579,0)","v":86}]
[579,89.430330863099996,89]
[580,87.289745405199994,87]
[581,93.621874832100005,94]
[582,125.34572388300001,125]
[583,93.645150445699997,94]
[584,79.919623256899996,80]
[585,110.205618203,110]
[586,100.691016707,101]
[587,92.683790887900003,93]
[588,88.307688606699998,88]
[589,98.698406912300001,99]
[590,99.119781480900002,99]
[591,102.62663772800001,103]
[592,97.627258496300001,98]
[593,115.898964796,116]
[594,86.1892180798,86]
[595,112.95576398599999,113]
[596,105.185886963,105]
[597,99.374859344200004,99]
[598,105.11655503,105]
[599,91.195605331600007,91]
[600,98.547953434999997,99]
[601,85.091212568000003,85]
[602,97.306713694600006,97]
[603,115.323393392,115]
[604,93.150519872199993,93]
[605,72.569253766700001,73]
[606,97.473730684000003,97]
[607,75.156992528800004,75]
[608,85.048654407900003,85]
[609,97.437027878400002,97]
[610,88.893482665400001,89]
[611,99.772774056800003,100]
[612,106.008366595,106]
[613,92.9781278257,93]
[614,113.585955508,114]
[615,96.862678322999997,97]
[616,81.392333566999994,81]
[617,113.757046219,114]
[618,96.704405567500004,97]
[619,109.14737157899999,109]
[620,115.582318947,116]
[621,90.498090313700004,90]
[622,87.3514749765,87]
[623,90.041803606599998,90]
[624,95.493607050400001,95]
[625,108.749235168,109]
[626,95.847637777800003,96]
[627,110.299861154,110]
[628,91.965388661700004,92]
[629,97.528741826300006,98]
[630,109.557773216,110]
[631,75.609191059599993,76]
[632,117.12227175699999,117]
[633,111.02891019099999,111]
[634,120.712348776,121]
[635,88.319979761400006,88]
[636,116.506672026,117]
[637,89.640664042599994,90]
[638,88.522773609799998,89]
[639,75.923560145799996,76]
[640,107.09235630400001,107]
[641,67.4200618335,67]
[642,91.613612338600007,{"$f":"ROUND(B643,0)","v":92}]
[643,94.184859303799996,94]
[644,128.10748170299999,128]
[645,97.168607002200005,97]
[646,80.526272461999994,81]
[647,101.833112504,102]
[648,76.126947315099997,76]
[649,96.782195029600004,97]
[650,86.194108385199996,86]
[651,79.890640340800005,80]
[652,119.85182335,120]
[653,82.200085476500007,82]
[654,94.340017580600005,94]
[655,128.55115484500001,129]
[656,90.653245835500002,91]
[657,99.393574919399995,99]
[658,91.553025164900006,92]
[659,80.373833366300005,80]
[660,93.540509729299998,94]
[661,87.726131519000006,88]
[662,105.899690736,106]
[663,117.399201647,117]
[664,110.288584767,110]
[665,114.153876518,114]
[666,63.414825262800001,63]
[667,99.1213655249,99]
[668,95.810011209999999,96]
[669,98.784934633000006,99]
[670,88.317634345299993,88]
[671,81.965966054399999,82]
[672,74.241796687800004,74]
[673,84.167482448599998,84]
[674,77.522463267600003,78]
[675,102.982611816,103]
[676,118.831203171,119]
[677,121.205326728,121]
[678,89.0459162999,89]
[679,91.567455676999998,92]
[680,117.727874521,118]
[681,88.544458026699999,89]
[682,78.770555351499993,79]
[683,102.25304029199999,102]
[684,95.000236747200006,95]
[685,88.235752273900005,88]
[686,77.328746093299998,77]
[687,121.916604162,122]
[688,115.837987731,116]
[689,91.761457985199996,92]
[690,103.782301057,104]
[691,114.666067876,115]
[692,92.997175721100007,93]
[693,108.590600868,109]
[694,103.56945700999999,104]
[695,116.300007893,116]
[696,85.618438764999993,86]
[697,118.575878774,119]
[698,80.408738833000001,80]
[699,107.552959887,108]
[700,117.980949682,118]
[701,116.29857925,116]
[702,100.635696557,101]
[703,87.806305214700004,88]
[704,115.990575475,116]
[705,92.139752811299999,92]
[706,94.150043256900005,{"$f":"ROUND(B707,0)","v":94}]
[707,102.587875587,103]
[708,62.023567195799998,62]
[709,122.226281473,122]
[710,117.309124606,117]
[711,108.975220044,109]
[712,133.857204545,134]
[713,110.90751852699999,111]
[714,118.509334861,119]
[715,75.038824181199999,75]
[716,111.018944933,111]
[717,90.735790397100004,91]
[718,107.387346592,107]
[719,103.52054349799999,104]
[720,87.901212429500006,88]
[721,92.4325707964,92]
[722,105.56599060800001,106]
[723,91.851255216300004,92]
[724,113.53098000999999,114]
[725,108.12520818199999,108]
[726,85.264908472299993,85]
[727,100.13865987699999,100]
[728,84.670885027300002,85]
[729,76.955284058499998,77]
[730,78.506850984799996,79]
[731,121.34541532599999,121]
[732,122.783866152,123]
[733,105.182030549,105]
[734,66.275363592999994,66]
[735,108.97936800700001,109]
[736,92.656951295599995,93]
[737,98.211874692400002,98]
[738,69.531509663899996,70]
[739,82.856412038200006,83]
[740,116.08415886,116]
[741,82.353650262599999,82]
[742,120.19190293299999,120]
[743,89.302423525500004,89]
[744,115.575892561,116]
[745,81.717065675200004,82]
[746,85.618548542200003,86]
[747,95.104801515600002,95]
[748,79.8465034261,80]
[749,84.494156666999999,84]
[750,103.792859517,104]
[751,116.94511890299999,117]
[752,115.028184123,115]
[753,80.382769284099993,80]
[754,90.327677293400001,90]
[755,91.057014708300002,91]
[756,85.246412823200004,85]
[757,104.55644028899999,105]
[758,114.720764766,115]
[759,124.536457951,125]
[760,112.736304504,113]
[761,109.611403728,110]
[762,130.30682235200001,130]
[763,109.81045659500001,110]
[764,96.848989646600003,97]
[765,112.502636404,113]
[766,107.552185325,108]
[767,94.476866573999999,94]
[768,109.88486158400001,110]
[769,109.54560622,110]
[770,85.3618002029,{"$f":"ROUND(B771,0)","v":85}]
[771,102.315131045,102]
[772,98.566513479799994,99]
[773,106.336319984,106]
[774,96.174737480399997,96]
[775,101.844850984,102]
[776,89.827569683600004,90]
[777,103.22428329500001,103]
[778,113.437266794,113]
[779,79.267442369999998,79]
[780,104.609300275,105]
[781,124.294932768,124]
[782,104.750621639,105]
[783,88.891838364400002,89]
[784,121.508056147,122]
[785,114.31157347,114]
[786,89.482050812500006,89]
[787,102.25563602299999,102]
[788,117.601109905,118]
[789,95.540423607299999,96]
[790,103.26659616800001,103]
[791,108.53447742,109]
[792,83.332750473900006,83]
[793,112.199891944,112]
[794,117.08397819299999,117]
[795,102.72101109899999,103]
[796,109.748604145,110]
[797,108.85431204,109]
[798,109.985752789,110]
[799,115.821907581,116]
[800,92.081533856999997,92]
[801,86.760716736299997,87]
[802,97.995995178200005,98]
[803,92.881181982900003,93]
[804,105.288564169,105]
[805,94.184756860099995,94]
[806,94.238980101099997,94]
[807,126.619496146,127]
[808,87.569191971400002,88]
[809,131.74524159500001,132]
[810,109.401239718,109]
[811,103.88690486500001,104]
[812,125.166464875,125]
[813,87.301198346000007,87]
[814,114.18581503199999,114]
[815,92.642935685699996,93]
[816,81.577755870000004,82]
[817,88.8512172537,89]
[818,110.68038138,111]
[819,100.171576956,100]
[820,95.113607535300005,95]
[821,103.525993126,104]
[822,90.417983807499994,90]
[823,84.908945545400002,85]
[824,79.674615138500002,80]
[825,111.912011628,112]
[826,80.952710440900006,81]
[827,123.136233421,123]
[828,93.241155448399994,93]
[829,71.811432359999998,72]
[830,109.680340082,110]
[831,79.432379650800002,79]
[832,76.607900576000006,77]
[833,96.857279109800004,97]
[834,107.44868580000001,{"$f":"ROUND(B835,0)","v":107}]
[835,91.305449788499999,91]
[836,90.357690296200005,90]
[837,98.274937962099997,98]
[838,90.230383388000007,90]
[839,118.215756403,118]
[840,126.95093899699999,127]
[841,94.674364010299996,95]
[842,74.130824257800001,74]
[843,104.03896112300001,104]
[844,94.484417654500007,94]
[845,117.752505927,118]
[846,124.556521117,125]
[847,99.725300537600006,100]
[848,91.945711913099998,92]
[849,69.657167283500002,70]
[850,110.613356473,111]
[851,116.437206135,116]
[852,110.072983862,110]
[853,94.485209648700007,94]
[854,107.385230198,107]
[855,114.06804384599999,114]
[856,101.256130411,101]
[857,104.113935751,104]
[858,107.75105167300001,108]
[859,98.051180301200006,98]
[860,94.497654483399998,94]
[861,109.111111802,109]
[862,103.560566818,104]
[863,104.080431975,104]
[864,107.892175193,108]
[865,119.764538481,120]
[866,117.477712518,117]
[867,95.952166931600004,96]
[868,119.635398049,120]
[869,93.3208999406,93]
[870,67.865417311399995,68]
[871,88.504009866299995,89]
[872,93.9546673567,94]
[873,113.319557215,113]
[874,103.715334043,104]
[875,109.407749866,109]
[876,120.407803168,120]
[877,78.325821669800007,78]
[878,97.951046562000002,98]
[879,79.334756348400006,79]
[880,99.579219334000001,100]
[881,136.150082782,136]
[882,106.314076625,106]
[883,101.757955903,102]
[884,91.515368922999997,92]
[885,81.299961377000002,81]
[886,83.646430679299996,84]
[887,119.475062999,119]
[888,117.37260516800001,117]
[889,105.791548091,106]
[890,83.866721313799999,84]
[891,143.31865637199999,143]
[892,98.926586355400005,99]
[893,117.327403129,117]
[894,88.611797503899993,89]
[895,108.868788319,109]
[896,105.46473041500001,105]
[897,135.31314604100001,135]
[898,122.650152136,{"$f":"ROUND(B899,0)","v":123}]
[899,82.670197362300001,83]
[900,103.19883082,103]
[901,68.296640992799993,68]
[902,125.953392712,126]
[903,101.43621259699999,101]
[904,93.117999436000005,93]
[905,98.870328432700006,99]
[906,102.507798077,103]
[907,101.54764486800001,102]
[908,101.869070034,102]
[909,99.881289995299994,100]
[910,109.325782007,109]
[911,109.073288265,109]
[912,89.658692596199998,90]
[913,108.543501488,109]
[914,124.172197345,124]
[915,121.16776633400001,121]
[916,74.248640666200004,74]
[917,99.202717507700001,99]
[918,108.157185122,108]
[919,139.530626439,140]
[920,83.487056313799997,83]
[921,103.972810115,104]
[922,74.008721828299997,74]
[923,78.955456937799994,79]
[924,102.011716298,102]
[925,106.248135623,106]
[926,93.918896782999994,94]
[927,89.474845740399999,89]
[928,114.943201485,115]
[929,72.2730060154,72]
[930,105.2148191,105]
[931,101.012366718,101]
[932,54.120434000499998,54]
[933,71.167160968900006,71]
[934,97.681678121600001,98]
[935,87.462052424700005,87]
[936,120.349598413,120]
[937,112.40811401800001,112]
[938,105.044436914,105]
[939,75.7959744554,76]
[940,82.649628095899999,83]
[941,116.42841907899999,116]
[942,115.610063377,116]
[943,110.27042609999999,110]
[944,119.654530861,120]
[945,104.517078377,105]
[946,122.230266676,122]
[947,80.065785637199994,80]
[948,117.203174706,117]
[949,96.876406545999998,97]
[950,110.838374476,111]
[951,97.042263019499998,97]
[952,89.518122590499999,90]
[953,101.10313258399999,101]
[954,97.941990269000001,98]
[955,122.771462337,123]
[956,101.795646193,102]
[957,91.595266449899995,92]
[958,84.9900730982,85]
[959,108.56121190099999,109]
[960,125.418648581,125]
[961,89.954064449800001,90]
[962,109.907130739,{"$f":"ROUND(B963,0)","v":110}]
[963,94.203490973499996,94]
[964,100.690511925,101]
[965,112.519349362,113]
[966,107.028274623,107]
[967,135.65683742499999,136]
[968,106.17915081,106]
[969,101.202848515,101]
[970,114.96908144299999,115]
[971,82.032488992400005,82]
[972,110.51286663899999,111]
[973,88.037417624200003,88]
[974,80.435229503900004,80]
[975,78.762565888500006,79]
[976,113.45305062600001,113]
[977,132.033596555,132]
[978,126.94834798799999,127]
[979,101.110407538,101]
[980,95.211045453099999,95]
[981,112.71510567599999,113]
[982,111.433578478,111]
[983,120.628312501,121]
[984,92.855248140699999,93]
[985,100.658276806,101]
[986,76.789148209900006,77]
[987,123.065705227,123]
[988,72.895683435799995,73]
[989,118.602389171,119]
[990,111.477587738,111]
[991,99.254758876300002,99]
[992,112.345140636,112]
[993,102.833722049,103]
[994,126.547386617,127]
[995,82.049194080199996,82]
[996,98.977235503100005,99]
[997,98.161953473400004,98]
[998,104.454778777,104]
[999,83.215521573900006,83]
[1000,92.788485330399993,93]
[1001,129.221572159,129]
[1002,81.397765494400005,81]
[1003,101.60305719,102]
[1004,90.128197326000006,90]
[1005,110.752201046,111]
[1006,93.023199028999997,93]
[1007,84.628984707200004,85]
[1008,90.045812781799995,90]
[1009,80.776263327400002,81]
[1010,110.27366272499999,110]
[1011,95.801431037699999,96]
[1012,94.082736111000003,94]
[1013,114.220080322,114]
[1014,89.1656165622,89]
[1015,82.418735146100005,82]
[1016,85.990439913499998,86]
[1017,98.956216616999995,99]
[1018,120.30755891699999,120]
[1019,112.686745132,113]
[1020,106.76775196,107]
[1021,102.14669743100001,102]
[1022,114.991115923,115]
[1023,123.569190484,124]
[1024,91.197955916799998,91]
[1025,90.352604210600006,90]
[1026,90.003654620999995,{"$f":"ROUND(B1027,0)","v":90}]
[1027,111.98221641400001,112]
[1028,110.768152941,111]
[1029,114.354031838,114]
[1030,84.401556980600006,84]
[1031,102.03889113,102]
[1032,89.337039789399995,89]
[1033,93.761895671000005,94]
[1034,94.036373138399995,94]
[1035,92.918123523600002,93]
[1036,115.169457237,115]
[1037,112.51418981899999,113]
[1038,117.179979268,117]
[1039,77.526213582599993,78]
[1040,93.227126853599998,93]
[1041,125.257086793,125]
[1042,81.603560825399995,82]
[1043,72.866794154700003,73]
[1044,110.698322578,111]
[1045,112.67475285499999,113]
[1046,122.39421758100001,122]
[1047,107.000464952,107]
[1048,119.343010982,119]
[1049,91.482644485700007,91]
[1050,102.340588467,102]
[1051,101.848547541,102]
[1052,130.134923375,130]
[1053,82.144219122999999,82]
[1054,116.475654529,116]
[1055,90.989011196199996,91]
[1056,117.10484243400001,117]
[1057,127.469819427,127]
[1058,89.093670450299996,89]
[1059,107.567142745,108]
[1060,91.470184359800001,91]
[1061,85.908668866599996,86]
[1062,97.232339865900002,97]
[1063,95.4226619449,95]
[1064,76.929235371000004,77]
[1065,116.020969769,116]
[1066,90.799186162799998,91]
[1067,103.68347126800001,104]
[1068,89.536870000099995,90]
[1069,100.991662676,101]
[1070,101.58728195499999,102]
[1071,107.817635336,108]
[1072,87.182236402000001,87]
[1073,77.479125614500006,77]
[1074,107.578672201,108]
[1075,92.750756601999996,93]
[1076,94.856423312399997,95]
[1077,105.68916808500001,106]
[1078,130.967849137,131]
[1079,99.336406441999998,99]
[1080,110.27844493000001,110]
[1081,87.819141545600004,88]
[1082,97.719149659899998,98]
[1083,108.10168956,108]
[1084,127.01775268599999,127]
[1085,105.69700720900001,106]
[1086,82.839929025499998,83]
[1087,109.256173707,109]
[1088,108.10539775700001,108]
[1089,102.49362059400001,102]
[1090,97.361050836100006,{"$f":"ROUND(B1091,0)","v":97}]
[1091,96.347772796699999,96]
[1092,87.569829850000005,88]
[1093,120.216112325,120]
[1094,104.768271849,105]
[1095,113.952797342,114]
[1096,96.6985207062,97]
[1097,97.131419909399995,97]
[1098,105.706939725,106]
[1099,105.874843672,106]
[1100,101.23613763900001,101]
[1101,107.36086020099999,107]
[1102,105.976236898,106]
[1103,79.674646605099994,80]
[1104,127.029381871,127]
[1105,110.430190274,110]
[1106,115.465423358,115]
[1107,109.913269087,110]
[1108,109.836542567,110]
[1109,110.659428776,111]
[1110,85.501275257800003,86]
[1111,107.459081962,107]
[1112,60.2888448852,60]
[1113,106.67340953,107]
[1114,99.255638231000006,99]
[1115,82.524630628300002,83]
[1116,92.064178090699997,92]
[1117,98.572654054300003,99]
[1118,109.237644231,109]
[1119,102.34560596,102]
[1120,104.20591976,104]
[1121,125.37800918000001,125]
[1122,93.212344961900001,93]
[1123,79.495387706200006,79]
[1124,79.113242132099998,79]
[1125,93.318231283800003,93]
[1126,83.206853615200004,83]
[1127,57.282272731100001,57]
[1128,84.527921753499996,85]
[1129,82.325866086900007,82]
[1130,97.886369829200007,98]
[1131,129.46207358000001,129]
[1132,96.135593376499997,96]
[1133,92.014149383200007,92]
[1134,79.026367199000006,79]
[1135,87.395276135900005,87]
[1136,129.62242910200001,130]
[1137,93.792502222799996,94]
[1138,102.144466792,102]
[1139,97.357276447000004,97]
[1140,113.498567796,113]
[1141,100.69021073899999,101]
[1142,89.307977055799995,89]
[1143,147.31178214299999,147]
[1144,75.872980342199995,76]
[1145,75.889076753200001,76]
[1146,131.877007596,132]
[1147,95.035519738299996,95]
[1148,101.075832128,101]
[1149,97.400788850400005,97]
[1150,77.582137967099996,78]
[1151,63.737813844400002,64]
[1152,77.875066168100005,78]
[1153,79.927730490100004,80]
[1154,78.9633477199,{"$f":"ROUND(B1155,0)","v":79}]
[1155,100.172399661,100]
[1156,102.00824323099999,102]
[1157,93.378530965300001,93]
[1158,79.893413354800003,80]
[1159,93.5075015253,94]
[1160,110.01186183199999,110]
[1161,108.629802399,109]
[1162,93.574991656500004,94]
[1163,104.37295837000001,104]
[1164,88.946084102399993,89]
[1165,118.47608269600001,118]
[1166,102.942507445,103]
[1167,80.512423629400004,81]
[1168,110.392219473,110]
[1169,95.709473859400006,96]
[1170,101.190790406,101]
[1171,82.668141366100002,83]
[1172,106.27447559700001,106]
[1173,104.641768673,105]
[1174,90.959784851999999,91]
[1175,114.513684172,115]
[1176,128.02888655800001,128]
[1177,115.773169768,116]
[1178,102.967394997,103]
[1179,92.090463983000006,92]
[1180,99.837432604599996,100]
[1181,113.496597202,113]
[1182,82.588794741000001,83]
[1183,91.700818832899998,92]
[1184,116.219862546,116]
[1185,97.821501376200004,98]
[1186,109.061811491,109]
[1187,112.891977408,113]
[1188,108.50663359399999,109]
[1189,108.81947374400001,109]
[1190,102.991927807,103]
[1191,94.555138432000007,95]
[1192,126.69631982999999,127]
[1193,101.230219315,101]
[1194,119.492680928,119]
[1195,81.167445596299999,81]
[1196,106.426483928,106]
[1197,111.182846141,111]
[1198,98.589775402100003,99]
[1199,107.39264147900001,107]
[1200,104.447303261,104]
[1201,112.128040461,112]
[1202,104.51978573700001,105]
[1203,133.08163235999999,133]
[1204,126.140063545,126]
[1205,79.775773334999997,80]
[1206,105.82933978299999,106]
[1207,108.259679779,108]
[1208,73.658702848499999,74]
[1209,93.520098677199996,94]
[1210,110.886640113,111]
[1211,82.703293339599995,83]
[1212,118.804165525,119]
[1213,79.569551694699996,80]
[1214,92.440073297799998,92]
[1215,80.220609478200004,80]
[1216,90.365466964000007,90]
[1217,111.18312028299999,111]
[1218,86.9712372356,{"$f":"ROUND(B1219,0)","v":87}]
[1219,98.644571133100001,99]
[1220,87.468356277599995,87]
[1221,98.8269937699,99]
[1222,99.2568348864,99]
[1223,91.300441767600006,91]
[1224,104.522308017,105]
[1225,113.594966524,114]
[1226,76.303743227400005,76]
[1227,104.148185678,104]
[1228,98.765172534800001,99]
[1229,106.281600557,106]
[1230,83.019577358600003,83]
[1231,94.697242484900002,95]
[1232,101.953199302,102]
[1233,123.858958082,124]
[1234,101.060562905,101]
[1235,105.362786898,105]
[1236,107.370637755,107]
[1237,95.977149101600006,96]
[1238,85.042128573200003,85]
[1239,93.082187590399997,93]
[1240,66.138511752799999,66]
[1241,107.437692484,107]
[1242,61.944159267899998,62]
[1243,92.304981823800006,92]
[1244,97.977454456800004,98]
[1245,92.395334239099995,92]
[1246,121.552964668,122]
[1247,85.020980120399997,85]
[1248,85.217591386999999,85]
[1249,107.854369607,108]
[1250,107.51659566799999,108]
[1251,100.54241654800001,101]
[1252,95.599874832899999,96]
[1253,93.377384292000002,93]
[1254,94.292368910700006,94]
[1255,104.483438075,104]
[1256,100.972198633,101]
[1257,111.74448736799999,112]
[1258,88.968326834099997,89]
[1259,66.069533430600003,66]
[1260,83.866434084999995,84]
[1261,75.599832852700004,76]
[1262,114.420544908,114]
[1263,122.922460638,123]
[1264,102.04902575600001,102]
[1265,74.592378219699995,75]
[1266,81.920385422300001,82]
[1267,71.826324182799993,72]
[1268,119.133620218,119]
[1269,86.861863167300001,87]
[1270,94.125505418100005,94]
[1271,94.826515168100002,95]
[1272,107.408446539,107]
[1273,79.860708605599996,80]
[1274,128.32262434,128]
[1275,119.867523388,120]
[1276,105.458011412,105]
[1277,101.79270183600001,102]
[1278,81.6939252329,82]
[1279,90.375102145900001,90]
[1280,74.189460710399999,74]
[1281,79.9264809461,80]
[1282,122.640748022,{"$f":"ROUND(B1283,0)","v":123}]
[1283,90.928364684800002,91]
[1284,86.002512167000006,86]
[1285,117.867251177,118]
[1286,111.004887739,111]
[1287,103.244426842,103]
[1288,111.99568822800001,112]
[1289,104.99737608300001,105]
[1290,122.85872336200001,123]
[1291,115.62087675799999,116]
[1292,86.892684999400004,87]
[1293,112.321724876,112]
[1294,102.858632965,103]
[1295,86.919892302700006,87]
[1296,79.266462916199998,79]
[1297,109.04336354100001,109]
[1298,88.284085041400004,88]
[1299,140.659238547,141]
[1300,90.951590119100004,91]
[1301,98.718717053099994,99]
[1302,97.331949916599996,97]
[1303,122.829687698,123]
[1304,112.09870046899999,112]
[1305,105.848300158,106]
[1306,105.06264485200001,105]
[1307,93.426223632200006,93]
[1308,98.3098389588,98]
[1309,100.68479413,101]
[1310,73.5662918668,74]
[1311,114.633919347,115]
[1312,103.50947539400001,104]
[1313,114.32759552,114]
[1314,93.771645488199994,94]
[1315,89.515816669800003,90]
[1316,80.653594763200005,81]
[1317,122.26220813800001,122]
[1318,107.272960406,107]
[1319,107.804431569,108]
[1320,72.980943800399999,73]
[1321,99.223436318200001,99]
[1322,97.643806929600004,98]
[1323,87.821187311700001,88]
[1324,105.07422188699999,105]
[1325,83.649330572099998,84]
[1326,86.844311415199996,87]
[1327,91.662132563399993,92]
[1328,114.047841194,114]
[1329,90.229653555799999,90]
[1330,118.143580977,118]
[1331,79.292458100399998,79]
[1332,126.376233965,126]
[1333,115.046666172,115]
[1334,75.628931925299995,76]
[1335,135.26563119599999,135]
[1336,101.941351877,102]
[1337,104.76800642800001,105]
[1338,107.8684695,108]
[1339,119.67742532600001,120]
[1340,87.876954803900006,88]
[1341,111.353370064,111]
[1342,98.009848904199998,98]
[1343,110.51532861299999,111]
[1344,106.47474848900001,106]
[1345,106.13970738099999,106]
[1346,97.538756960699999,{"$f":"ROUND(B1347,0)","v":98}]
[1347,74.004875842999994,74]
[1348,109.809581296,110]
[1349,104.478003113,104]
[1350,71.057127489099997,71]
[1351,70.510349805700002,71]
[1352,80.316490324599997,80]
[1353,113.13109022,113]
[1354,89.409048912599999,89]
[1355,92.872472237799997,93]
[1356,95.622689615400006,96]
[1357,121.74743999099999,122]
[1358,115.19295782099999,115]
[1359,91.958246920099995,92]
[1360,95.944789714300001,96]
[1361,92.197308007900006,92]
[1362,105.02807183199999,105]
[1363,99.276144797499995,99]
[1364,99.782765111800003,100]
[1365,106.367284978,106]
[1366,112.71417416200001,113]
[1367,85.689815472800007,86]
[1368,82.465542625400005,82]
[1369,102.76221187199999,103]
[1370,111.26837235399999,111]
[1371,79.184294266500004,79]
[1372,73.896904418999995,74]
[1373,69.020476187900002,69]
[1374,114.40551382300001,114]
[1375,73.874763698500004,74]
[1376,67.368669844899998,67]
[1377,128.47553525399999,128]
[1378,106.260155443,106]
[1379,112.96115546199999,113]
[1380,100.356518048,100]
[1381,105.67850780400001,106]
[1382,81.4683425642,81]
[1383,133.341071648,133]
[1384,98.355283235800002,98]
[1385,92.441978211399999,92]
[1386,115.45746092500001,115]
[1387,95.369637227799998,95]
[1388,111.00041768,111]
[1389,88.223025608100002,88]
[1390,108.923719742,109]
[1391,100.899119106,101]
[1392,100.57691132399999,101]
[1393,114.796583541,115]
[1394,91.637029425899996,92]
[1395,78.5617847324,79]
[1396,70.1232499961,70]
[1397,119.488341952,119]
[1398,116.336039629,116]
[1399,99.531362822999995,100]
[1400,108.702494387,109]
[1401,134.73547441700001,135]
[1402,109.532488328,110]
[1403,86.853297400399995,87]
[1404,96.784324314800003,97]
[1405,100.37364373699999,100]
[1406,86.433030173000006,86]
[1407,71.866302539100005,72]
[1408,102.761321487,103]
[1409,75.547530447200003,76]
[1410,122.085345124,{"$f":"ROUND(B1411,0)","v":122}]
[1411,90.781395603799993,91]
[1412,80.505862651900003,81]
[1413,107.49369271499999,107]
[1414,118.311807926,118]
[1415,93.816398015800004,94]
[1416,105.08197872,105]
[1417,100.22514922400001,100]
[1418,103.248648,103]
[1419,104.664061686,105]
[1420,106.770543483,107]
[1421,100.425422725,100]
[1422,117.241596488,117]
[1423,93.771710363799997,94]
[1424,105.442227292,105]
[1425,96.523170305799994,97]
[1426,116.550642295,117]
[1427,106.149523016,106]
[1428,105.025358189,105]
[1429,93.178689859200006,93]
[1430,85.154141932200005,85]
[1431,103.993707825,104]
[1432,104.057372301,104]
[1433,81.218799966500001,81]
[1434,94.905972052400003,95]
[1435,110.754371277,111]
[1436,104.338374938,104]
[1437,127.347276818,127]
[1438,102.300147994,102]
[1439,118.60129040699999,119]
[1440,88.083588973199994,88]
[1441,99.569820987499995,100]
[1442,104.923092369,105]
[1443,117.90294953900001,118]
[1444,102.994355114,103]
[1445,78.266604805499995,78]
[1446,86.546151332400001,87]
[1447,100.822957817,101]
[1448,114.320125468,114]
[1449,110.70532358299999,111]
[1450,119.24926348699999,119]
[1451,84.460908458999995,84]
[1452,101.749637486,102]
[1453,79.405923711300005,79]
[1454,94.730760279199998,95]
[1455,102.86495946300001,103]
[1456,97.440264145300006,97]
[1457,99.887310130900005,100]
[1458,131.79516881000001,132]
[1459,112.17544487399999,112]
[1460,94.556213720800002,95]
[1461,114.36134879700001,114]
[1462,88.820937001700003,89]
[1463,78.813449597800002,79]
[1464,103.228239159,103]
[1465,103.943620788,104]
[1466,85.598989145499999,86]
[1467,110.08962087,110]
[1468,97.332865483199996,97]
[1469,93.326158404200001,93]
[1470,98.337938508999997,98]
[1471,74.943354011599993,75]
[1472,109.319718063,109]
[1473,113.927255472,114]
[1474,99.2324644248,{"$f":"ROUND(B1475,0)","v":99}]
[1475,89.533902836099998,90]
[1476,98.361603427800006,98]
[1477,115.116870292,115]
[1478,98.8273488934,99]
[1479,85.086326628099997,85]
[1480,111.093210556,111]
[1481,94.912653332700003,95]
[1482,96.941918317299994,97]
[1483,88.667293735000001,89]
[1484,99.8376213807,100]
[1485,117.747266431,118]
[1486,107.32606511500001,107]
[1487,93.492559917400001,93]
[1488,87.467219758200002,87]
[1489,75.918452069200001,76]
[1490,117.289062105,117]
[1491,86.263641359600001,86]
[1492,96.290142056299999,96]
[1493,98.8303895958,99]
[1494,124.996400818,125]
[1495,126.40728322299999,126]
[1496,68.428336840200004,68]
[1497,132.417435665,132]
[1498,139.294548402,139]
[1499,77.842797705099997,78]
[1500,86.070521329499996,86]
[1501,99.501528099300003,100]
[1502,99.534939532199999,100]
[1503,75.998118590299995,76]
[1504,103.755831896,104]
[1505,83.1275025865,83]
[1506,66.570136368099995,67]
[1507,72.1858259288,72]
[1508,114.814054696,115]
[1509,73.219618791599999,73]
[1510,109.63464327600001,110]
[1511,88.041649156899993,88]
[1512,85.482286874500005,85]
[1513,57.685189563500003,58]
[1514,104.714374519,105]
[1515,125.890442083,126]
[1516,100.676470256,101]
[1517,97.636119601399997,98]
[1518,99.849263084599997,100]
[1519,94.586831052600004,95]
[1520,103.880006381,104]
[1521,110.58356038700001,111]
[1522,112.743878724,113]
[1523,79.321546860699996,79]
[1524,134.41663869000001,134]
[1525,91.973147600600001,92]
[1526,74.823021766500005,75]
[1527,96.1386815818,96]
[1528,98.934568712000001,99]
[1529,117.306925611,117]
[1530,108.637397197,109]
[1531,97.979263557199999,98]
[1532,86.779722200099997,87]
[1533,106.160130942,106]
[1534,121.36332881200001,121]
[1535,94.248514056499999,94]
[1536,102.18080165000001,102]
[1537,118.689465627,119]
[1538,101.378352608,{"$f":"ROUND(B1539,0)","v":101}]
[1539,115.51102604899999,116]
[1540,99.496186166900003,99]
[1541,108.79989991799999,109]
[1542,111.47166316400001,111]
[1543,72.135679427300005,72]
[1544,127.035061849,127]
[1545,93.855745553899993,94]
[1546,86.8956842849,87]
[1547,108.77615991899999,109]
[1548,92.0985731066,92]
[1549,93.470107806200005,93]
[1550,119.68938431799999,120]
[1551,86.947498278400005,87]
[1552,97.730302032400004,98]
[1553,92.553404718500005,93]
[1554,77.456347122400004,77]
[1555,83.317381060499997,83]
[1556,94.466857084099999,94]
[1557,138.277886884,138]
[1558,105.965039038,106]
[1559,87.121647755200001,87]
[1560,103.718420268,104]
[1561,63.658117521199998,64]
[1562,141.673914715,142]
[1563,95.930893677,96]
[1564,102.782138577,103]
[1565,112.96543910699999,113]
[1566,94.019365233900004,94]
[1567,85.083508980600001,85]
[1568,97.0367704831,97]
[1569,97.669018036500006,98]
[1570,114.543851253,115]
[1571,101.94042994599999,102]
[1572,105.756251861,106]
[1573,55.4075991956,55]
[1574,105.010650125,105]
[1575,96.192531743900005,96]
[1576,117.66196239,118]
[1577,110.14095929,110]
[1578,106.80898998000001,107]
[1579,68.064298505400004,68]
[1580,113.315257151,113]
[1581,124.10923875500001,124]
[1582,105.459478354,105]
[1583,76.647399841799995,77]
[1584,84.559491856500003,85]
[1585,115.45667647499999,115]
[1586,106.502654335,107]
[1587,124.262228659,124]
[1588,95.383122117699997,95]
[1589,83.5471994241,84]
[1590,102.39913760100001,102]
[1591,111.945743538,112]
[1592,90.954901018900003,91]
[1593,87.458543860199995,87]
[1594,101.01850475099999,101]
[1595,99.172225662700001,99]
[1596,100.775571711,101]
[1597,105.598632009,106]
[1598,80.546155531300002,81]
[1599,102.209978842,102]
[1600,87.626382062199994,88]
[1601,101.460021619,101]
[1602,94.664200343100006,{"$f":"ROUND(B1603,0)","v":95}]
[1603,84.607860358400004,85]
[1604,66.857471867599997,67]
[1605,107.66895077300001,108]
[1606,111.09853815,111]
[1607,104.589173432,105]
[1608,88.160197086400004,88]
[1609,112.12754487399999,112]
[1610,77.091691999999995,77]
[1611,77.564023229900002,78]
[1612,105.776872689,106]
[1613,102.45894400900001,102]
[1614,103.879286134,104]
[1615,123.587665071,124]
[1616,110.297935831,110]
[1617,92.510661521499998,93]
[1618,94.192167928499998,94]
[1619,108.88064051000001,109]
[1620,133.32567688899999,133]
[1621,95.234194294700004,95]
[1622,91.378048309600004,91]
[1623,109.04726099200001,109]
[1624,90.889867870900005,91]
[1625,103.43063006200001,103]
[1626,89.371263639700004,89]
[1627,90.866059409399995,91]
[1628,105.666940666,106]
[1629,101.848876163,102]
[1630,95.5879217361,96]
[1631,98.601545051499997,99]
[1632,88.932697659499993,89]
[1633,110.87797072799999,111]
[1634,97.140320848599998,97]
[1635,92.033539595500002,92]
[1636,116.980510817,117]
[1637,91.623357910699994,92]
[1638,89.544614625299999,90]
[1639,82.231965888399998,82]
[1640,95.722521688900002,96]
[1641,128.347874115,128]
[1642,102.59803721599999,103]
[1643,72.116763528899995,72]
[1644,64.329498100699993,64]
[1645,118.960181242,119]
[1646,86.728570640499996,87]
[1647,92.320149743399995,92]
[1648,113.868192851,114]
[1649,95.780444180999993,96]
[1650,129.83099835199999,130]
[1651,106.109905926,106]
[1652,99.798637527899999,100]
[1653,81.926698239999993,82]
[1654,114.28439747,114]
[1655,92.362791044800005,92]
[1656,85.114898063699997,85]
[1657,97.876276661199995,98]
[1658,79.024709169100007,79]
[1659,89.265137168099997,89]
[1660,100.906146346,101]
[1661,85.707940470899999,86]
[1662,126.786580708,127]
[1663,76.6366917,77]
[1664,93.365131928899999,93]
[1665,84.852204717399999,85]
[1666,91.872931172600005,{"$f":"ROUND(B1667,0)","v":92}]
[1667,114.96519788000001,115]
[1668,73.628353675599996,74]
[1669,110.62875841899999,111]
[1670,133.885371744,134]
[1671,71.509941080100006,72]
[1672,115.949500239,116]
[1673,107.024068953,107]
[1674,82.792576110799999,83]
[1675,87.039172542900005,87]
[1676,129.50000504900001,130]
[1677,119.019984423,119]
[1678,122.496660378,122]
[1679,96.680769309599995,97]
[1680,92.356024932500006,92]
[1681,111.600970456,112]
[1682,112.754141178,113]
[1683,79.570724129300004,80]
[1684,106.32356675699999,106]
[1685,89.917565616900006,90]
[1686,122.60100982900001,123]
[1687,81.803740748500005,82]
[1688,94.0846385782,94]
[1689,119.90779207200001,120]
[1690,105.773303427,106]
[1691,114.589162982,115]
[1692,73.4227595479,73]
[1693,115.463721146,115]
[1694,87.728934194000004,88]
[1695,103.289379475,103]
[1696,129.55394177299999,130]
[1697,103.04432339500001,103]
[1698,78.258973988400001,78]
[1699,74.204753451100004,74]
[1700,126.38917416,126]
[1701,109.07816562399999,109]
[1702,89.156775341499994,89]
[1703,69.466164836100006,69]
[1704,94.790312159799996,95]
[1705,118.14524075200001,118]
[1706,107.320142367,107]
[1707,69.560855220700006,70]
[1708,99.174194493499996,99]
[1709,94.091736594799997,94]
[1710,125.168810892,125]
[1711,116.826728997,117]
[1712,96.529858852800004,97]
[1713,88.360145966199994,88]
[1714,83.568375293900004,84]
[1715,107.210110618,107]
[1716,118.01512999800001,118]
[1717,112.68887803,113]
[1718,80.375155617999994,80]
[1719,112.81617314899999,113]
[1720,92.172704949800007,92]
[1721,118.974425094,119]
[1722,116.997356643,117]
[1723,106.337357461,106]
[1724,104.87522042400001,105]
[1725,83.934610789000004,84]
[1726,80.021787363100003,80]
[1727,97.989803580399993,98]
[1728,100.678650276,101]
[1729,99.538936580300003,100]
[1730,69.618307667300002,{"$f":"ROUND(B1731,0)","v":70}]
[1731,55.5974492259,56]
[1732,119.43393980800001,119]
[1733,112.277467497,112]
[1734,84.449910410000001,84]
[1735,100.70507523400001,101]
[1736,96.322164289699998,96]
[1737,123.171116575,123]
[1738,88.157572456099999,88]
[1739,95.664155063199999,96]
[1740,97.555558250299995,98]
[1741,110.925226845,111]
[1742,115.846014754,116]
[1743,117.623267215,118]
[1744,88.258539635100007,88]
[1745,116.02511438400001,116]
[1746,124.429305149,124]
[1747,95.972917394600003,96]
[1748,89.747307654500005,90]
[1749,80.780495555599998,81]
[1750,99.590791852999999,100]
[1751,88.784404269500001,89]
[1752,87.921464619600002,88]
[1753,111.816945852,112]
[1754,90.614615709399999,91]
[1755,87.762784487800005,88]
[1756,121.922434217,122]
[1757,92.004975458499999,92]
[1758,124.60131029199999,125]
[1759,81.058167022700005,81]
[1760,120.603231321,121]
[1761,96.8620468835,97]
[1762,124.42812778699999,124]
[1763,78.301811339400004,78]
[1764,96.420684015999996,96]
[1765,93.471070830299993,93]
[1766,96.213210163799999,96]
[1767,108.343246841,108]
[1768,78.169483445099999,78]
[1769,97.256343035300006,97]
[1770,91.946976234900006,92]
[1771,73.718325315399994,74]
[1772,118.012121697,118]
[1773,69.326789038300006,69]
[1774,79.030067185500002,79]
[1775,84.5936438162,85]
[1776,108.495557096,108]
[1777,113.726318213,114]
[1778,98.020159907500002,98]
[1779,119.129714427,119]
[1780,91.892850722199995,92]
[1781,114.128606659,114]
[1782,103.170413548,103]
[1783,90.877569393300007,91]
[1784,96.713018600200002,97]
[1785,87.962891517200006,88]
[1786,76.186392350999995,76]
[1787,101.482745761,101]
[1788,82.071328584,82]
[1789,133.71197224400001,134]
[1790,89.501132715300002,90]
[1791,98.565475547899993,99]
[1792,108.473215039,108]
[1793,87.714275039200004,88]
[1794,76.132678768100007,{"$f":"ROUND(B1795,0)","v":76}]
[1795,115.447873602,115]
[1796,127.26659429999999,127]
[1797,107.05125807899999,107]
[1798,118.141383156,118]
[1799,87.851545052800006,88]
[1800,84.9456459787,85]
[1801,93.079947167699999,93]
[1802,64.556887415999995,65]
[1803,86.140373714800006,86]
[1804,107.219970162,107]
[1805,98.951991686,99]
[1806,85.024145528999995,85]
[1807,88.877809145499995,89]
[1808,104.721093459,105]
[1809,115.374209456,115]
[1810,123.150275745,123]
[1811,86.841620564400003,87]
[1812,124.37172533899999,124]
[1813,98.155839074699998,98]
[1814,120.524421377,121]
[1815,109.15544229699999,109]
[1816,86.585893145399993,87]
[1817,116.71637795700001,117]
[1818,105.789352491,106]
[1819,101.76185673099999,102]
[1820,105.15947750799999,105]
[1821,89.649808215099995,90]
[1822,103.071482648,103]
[1823,91.596752805999998,92]
[1824,117.674179731,118]
[1825,66.626635286699994,67]
[1826,106.74276537999999,107]
[1827,109.057148645,109]
[1828,98.998376349599994,99]
[1829,106.930730805,107]
[1830,94.006302697699994,94]
[1831,96.967827779800004,97]
[1832,87.991117952699994,88]
[1833,97.500950181299999,98]
[1834,83.449270202400001,83]
[1835,98.239675485500001,98]
[1836,133.05172323599999,133]
[1837,81.105845541600004,81]
[1838,107.094561613,107]
[1839,98.913011789899997,99]
[1840,88.041604543800005,88]
[1841,99.930929505999998,100]
[1842,72.987921943000003,73]
[1843,86.388939247799996,86]
[1844,103.198454548,103]
[1845,120.699586865,121]
[1846,110.728020117,111]
[1847,130.09739361499999,130]
[1848,103.99638281999999,104]
[1849,119.075546288,119]
[1850,118.99621160300001,119]
[1851,117.31438812099999,117]
[1852,123.304992427,123]
[1853,118.014716737,118]
[1854,109.571555691,110]
[1855,98.5249750702,99]
[1856,97.655206081399996,98]
[1857,79.505522727699997,80]
[1858,81.887069506800003,{"$f":"ROUND(B1859,0)","v":82}]
[1859,89.324941230299999,89]
[1860,99.233627475500001,99]
[1861,69.282220675100007,69]
[1862,126.903072486,127]
[1863,86.109996248100003,86]
[1864,74.771394644699996,75]
[1865,81.386828980999994,81]
[1866,80.263753592300006,80]
[1867,103.073163495,103]
[1868,121.102364819,121]
[1869,102.624990423,103]
[1870,132.51931177399999,133]
[1871,132.81118161699999,133]
[1872,100.654378196,101]
[1873,90.984857691399995,91]
[1874,109.653510892,110]
[1875,93.060269162899999,93]
[1876,91.937953438899996,92]
[1877,82.986811920899996,83]
[1878,95.463234349100006,95]
[1879,98.331718680899996,98]
[1880,109.78620515999999,110]
[1881,108.68888198800001,109]
[1882,75.757469180200005,76]
[1883,100.769458953,101]
[1884,95.857609616900007,96]
[1885,106.31745324000001,106]
[1886,111.83639662900001,112]
[1887,99.761631403699994,100]
[1888,97.589052025800001,98]
[1889,86.547332199500005,87]
[1890,78.207150849399994,78]
[1891,92.9450279064,93]
[1892,102.79353277,103]
[1893,105.851170907,106]
[1894,79.469836847899998,79]
[1895,103.00095440600001,103]
[1896,98.763263764000001,99]
[1897,84.111562433499998,84]
[1898,128.43838742599999,128]
[1899,106.35649316999999,106]
[1900,80.8360362154,81]
[1901,80.281387011099994,80]
[1902,102.428473411,102]
[1903,87.8438845899,88]
[1904,91.1617658017,91]
[1905,124.567602682,125]
[1906,102.577602568,103]
[1907,99.638260796500006,100]
[1908,91.614377451199999,92]
[1909,113.98986338500001,114]
[1910,106.193323826,106]
[1911,115.448314491,115]
[1912,109.57523182600001,110]
[1913,105.46591684000001,105]
[1914,94.803140312699995,95]
[1915,99.395175502599997,99]
[1916,125.89125896199999,126]
[1917,93.139347254200004,93]
[1918,81.893013416299993,82]
[1919,96.132450498599994,96]
[1920,97.9814782471,98]
[1921,103.47068059999999,103]
[1922,115.363830253,{"$f":"ROUND(B1923,0)","v":115}]
[1923,98.871336051300005,99]
[1924,102.14805648700001,102]
[1925,85.062271123399995,85]
[1926,105.334750606,105]
[1927,91.316984452200003,91]
[1928,107.12885221800001,107]
[1929,124.80890094,125]
[1930,92.532499678299999,93]
[1931,105.43981673899999,105]
[1932,81.250880794099999,81]
[1933,121.830349865,122]
[1934,79.565040735899998,80]
[1935,105.71399197,106]
[1936,86.974940819099999,87]
[1937,97.523596796500001,98]
[1938,107.591045104,108]
[1939,101.13326820899999,101]
[1940,88.864817217899997,89]
[1941,106.425616097,106]
[1942,98.836036188500003,99]
[1943,126.819862812,127]
[1944,114.901303888,115]
[1945,92.044594797499997,92]
[1946,95.553881513299999,96]
[1947,100.852277375,101]
[1948,101.68615164800001,102]
[1949,97.783848449299995,98]
[1950,134.12956622900001,134]
[1951,79.085560853999993,79]
[1952,105.17895861,105]
[1953,79.154025442700004,79]
[1954,87.512176424200007,88]
[1955,123.54728477499999,124]
[1956,121.687722908,122]
[1957,105.198693174,105]
[1958,92.223494395299994,92]
[1959,102.75573262100001,103]
[1960,98.2024784858,98]
[1961,80.069927210900005,80]
[1962,78.694894534499994,79]
[1963,98.137864719500001,98]
[1964,86.616410583000004,87]
[1965,126.254040721,126]
[1966,85.847074284499996,86]
[1967,101.477923381,101]
[1968,105.572501544,106]
[1969,97.673364994400004,98]
[1970,97.011476358600007,97]
[1971,120.252148152,120]
[1972,107.490554209,107]
[1973,99.654610657399999,100]
[1974,109.885731201,110]
[1975,105.66302440600001,106]
[1976,102.24907299100001,102]
[1977,100.93712974499999,101]
[1978,92.061606631399997,92]
[1979,102.825283941,103]
[1980,97.391857315099998,97]
[1981,90.017948380500002,90]
[1982,114.07304662999999,114]
[1983,85.033199798599995,85]
[1984,109.62787148,110]
[1985,109.379393193,109]
[1986,105.119236038,{"$f":"ROUND(B1987,0)","v":105}]
[1987,98.526003483400004,99]
[1988,76.989337071500003,77]
[1989,87.370000626299998,87]
[1990,116.848066983,117]
[1991,84.428945748100006,84]
[1992,105.867047259,106]
[1993,111.83642348399999,112]
[1994,111.68965175699999,112]
[1995,130.07424116999999,130]
[1996,90.618339836800004,91]
[1997,111.683225173,112]
[1998,82.643138287699998,83]
[1999,115.574850723,116]
[2009,110.90834329499999,111]
[2064,107.474989459,107]
[2142,96.005424208500003,96]
[2161,125.280589538,125]
[2224,121.77452802400001,122]
[2267,84.868967515899996,85]
[2335,90.375086079499994,90]
[2364,115.538946736,116]
[2391,106.013819509,106]
[2460,111.211928618,111]
[2489,90.888432327700002,91]
[2557,108.540494147,109]
[2590,145.06421717800001,145]
[2663,89.604430518000001,90]
[2682,118.486179224,118]
[2760,96.718564058699997,97]
[2805,107.11732573800001,107]
[2856,93.684801079500005,94]
[2885,112.086213996,112]
[2953,119.27537230199999,119]
[3004,100.12407798700001,100]
[3049,83.654142590199996,84]
[3078,116.90823095499999,117]
[3156,102.843270537,103]
[3171,109.100325099,109]
[3252,77.823544631800004,78]
[3281,91.664875273500002,92]
[3349,121.877916755,122]
[3370,88.156924242100004,88]
[3445,108.10872824499999,108]
[3474,112.810905151,113]
[3552,117.017076342,117]
[3585,94.203396860699996,94]
[3648,95.851395279100004,96]
[3677,114.793659639,115]
[3745,118.53053064700001,119]
[3784,110.877946889,111]
[3841,102.796704155,103]
[3870,109.48208058900001,109]
[3948,134.82667640599999,135]
[3951,93.555870955499998,94]
[4044,115.620669319,116]
[4063,120.621853886,121]
[4141,103.841274829,104]
[4150,94.1514921104,94]
[4237,118.580683467,119]
[4266,81.873840416700006,82]
[4295,75.771707441199993,76]
[4365,70.963875626000004,71]
[4391,93.893436041499996,94]
[4459,112.51845446900001,113]
[4488,129.550613169,130]
[4564,96.585085406700003,97]
[4584,100.85855891200001,101]
[4662,87.252665119699998,87]
[4681,120.98602913400001,121]
[4731,104.857396126,105]
[4787,95.807108016800001,96]
[4855,68.757942543499993,69]
[4884,91.984363565199999,92]
[4930,111.79433692800001,{"$f":"ROUND(B4931,0)","v":112}]
[4980,132.02189258199999,132]
[5058,83.697055528500002,{"$f":"ROUND(B5059,0)","v":84}]
[5077,89.766989576900002,90]
[5145,73.039060989000006,73]
[5183,88.433306813900003,88]
[5251,123.69794504799999,124]
[5280,87.923041470399994,88]
[5344,103.718392825,104]
[5376,81.658968229199999,82]
[5454,87.126641669999998,87]
[5473,88.228389718499997,88]
[5511,102.534448653,103]
[5579,94.906522261800006,95]
[5647,107.497826452,107]
[5676,123.277542844,123]
[5726,102.672791538,103]
[5772,83.643279167900005,84]
[5850,91.696121964200003,92]
[5869,126.91810578499999,127]
[5925,88.099947698600005,88]
[5975,98.447838298899995,98]
[6043,133.89202503000001,134]
[6072,106.635812992,107]
[6140,100.233347557,100]
[6168,110.924781454,111]
[6197,100.092575618,100]
[6265,111.04462370900001,111]
[6291,96.818696797499996,97]
[6371,86.267770241600005,86]
[6390,97.748997794700003,98]
[6468,77.818540254400006,78]
[6506,102.109816215,102]
[6564,122.966783495,123]
[6593,93.240161830800005,93]
[6661,80.131087533300004,80]
[6705,96.068665314599997,96]
[6757,105.678243447,106]
[6786,105.912962835,{"$f":"ROUND(B6787,0)","v":106}]
[6864,83.913685195499994,84]
[6920,131.40390813900001,131]
[6960,101.391397923,101]
[6989,107.120142159,107]
[7057,95.864149768000004,96]
[7071,99.9068245144,100]
[7153,118.508203021,119]
[7182,108.554796466,109]
[7260,100.14576162,100]
[7286,95.9739727929,96]
[7356,114.545047263,115]
[7375,96.983117649199997,97]
[7453,83.999028673699996,84]
[7485,114.84758118000001,115]
[7549,115.316859275,115]
[7578,117.05458432899999,117]
[7607,108.43447646600001,108]
[7700,79.888382505099997,80]
[7703,113.451895682,113]
[7771,127.535101209,128]
[7849,115.301086669,115]
[7851,115.250260782,115]
[7945,89.716972676899999,90]
[7974,95.9461347811,96]
[8003,95.446485094400003,95]
[8066,109.31949066999999,{"$f":"ROUND(B8067,0)","v":109}]
[8099,101.616664159,102]
[8167,90.521168180199993,91]
[8196,86.850300915199995,87]
[8265,114.230525757,114]
[8292,123.979048142,124]
[8370,93.800435658699996,94]
[8389,85.839567548199994,86]
[8480,130.159604105,130]
[8495,106.675824671,107]
[8563,102.630031957,103]
[8592,99.056428226400001,99]
[8631,98.630456235699995,99]
[8688,96.579330692799999,97]
[8766,103.361805581,103]
[8785,99.513862028899993,100]
[8846,127.21350953,127]
[8891,69.702242291100006,70]
[8959,87.659258269399999,88]
[8988,96.685703092899999,97]
[9061,88.2365644323,88]
[9084,89.713429423899996,90]
[9162,109.640835689,110]
[9181,83.0741485649,83]
[9260,94.609225391199999,95]
[9287,76.373898650800001,76]
[9355,90.763176934100002,91]
[9384,110.617783632,111]
[9427,87.507970747399995,88]
[9480,103.365083793,103]
[9509,87.994644312299997,88]
[9577,106.015116189,106]
[9626,78.294621938500001,78]
[9683,83.483378567200006,83]
[9702,100.569472397,101]
[9780,103.25939299300001,103]
[9841,58.078474359300003,58]
[9876,81.447294351699995,81]
[9905,97.006245708999998,97]
[9973,81.907926121200006,82]
[10040,71.143731611199996,71]
[10069,110.833852721,111]
[10098,111.75030228200001,112]
[10176,104.828868063,105]
[10207,121.507909169,122]
[10272,113.669098116,114]
[10301,117.88911995399999,118]
[10369,90.173449646799995,90]
[10406,112.39998768300001,112]
[10465,118.669569538,119]
[10494,92.354482876099993,92]
[10572,104.118895649,104]
[10621,103.104213059,103]
[10668,96.6507996932,97]
[10697,90.445605372599999,90]
[10765,107.94545361599999,108]
[10820,89.9966548413,90]
[10861,99.2289695897,99]
[10890,114.9272138,115]
[10968,93.141256022899995,93]
[10987,99.065822886700005,99]
[11064,103.575096675,104]
[11083,92.706266953400004,93]
[11161,91.838468875100006,92]
[11186,105.290507949,105]
[11257,123.921185036,124]
[11286,106.13559054,106]
[11315,109.572660575,110]
[11401,87.484078820400001,87]
[11411,95.509608553899994,96]
[11479,88.367481197900005,88]
[11508,82.193896876599993,82]
[11600,105.13499212799999,105]
[11604,122.038540786,122]
[11682,91.411668184899995,91]
[11701,108.94883684,109]
[11767,96.671908328499995,97]
[11807,104.63967960399999,105]
[11875,112.309654487,112]
[11904,110.217431448,110]
[11966,88.720680454800004,89]
[12000,101.699445504,102]
[12078,94.5083341988,95]
[12097,109.094832629,109]
[12181,101.847477916,102]
[12203,89.530697396899996,90]
[12271,102.612539637,103]
[12300,98.576852113000001,99]
[12380,91.602820134500007,92]
[12396,119.795119227,120]
[12474,98.366208233600005,98]
[12493,75.983513995099997,76]
[12547,78.179778618900002,78]
[12599,87.429736127300004,87]
[12667,88.653715145199996,89]
[12696,110.484401357,110]
[12762,104.66172037699999,105]
[12792,111.967439782,112]
[12870,92.653130754499998,93]
[12889,95.9444889074,96]
[12961,119.487016344,119]
[12995,97.928712049799998,98]
[13063,96.323513889300003,96]
[13092,109.90860038,110]
[13128,91.3348118989,91]
[13188,103.95080531799999,104]
[13217,126.98482061,127]
[13285,86.623401235399996,87]
[13327,125.718374203,126]
[13391,112.198682179,112]
[13410,113.081941531,113]
[13488,97.032651328,97]
[13542,94.258815624999997,94]
[13584,85.865722663499994,86]
[13613,113.841128681,114]
[13681,113.142441322,113]
[13741,93.050186381299994,93]
[13777,123.30056116199999,123]
[13806,74.193865414399994,74]
[13884,74.211175998800002,74]
[13908,112.998148251,113]
[13980,74.7465573259,75]
[14009,88.718071555400002,89]
[14077,90.166841577400007,90]
[14107,88.801002358199995,89]
[14173,116.07521944699999,116]
[14202,98.322382895000004,98]
[14280,102.220660185,102]
[14322,101.459608652,101]
[14376,110.607579388,111]
[14395,90.642712279099996,91]
[14473,96.186976648200002,96]
[14521,109.421178693,109]
[14569,107.731824069,108]
[14598,105.661162115,106]
[14627,76.514061013700001,77]
[14688,115.19787001,115]
[14723,105.25840314200001,105]
[14791,87.776990653200002,88]
[14869,90.420233779,90]
[14887,130.26518629500001,130]
[14965,147.67098781000001,148]
[14994,102.646329276,103]
[15023,94.281759065200006,94]
[15102,107.140048394,107]
[15119,86.823106279300006,87]
[15187,113.128149233,113]
[15216,85.811062264499995,86]
[15301,99.0811717542,99]
[15312,118.30791691899999,118]
[15390,96.599865069200007,97]
[15409,90.775578708300003,91]
[15468,110.753538363,111]
[15515,90.784916243599994,91]
[15583,89.970128749200001,90]
[15612,117.968080106,118]
[15667,108.952915288,109]
[15708,80.0829958729,80]
[15786,128.28409636399999,128]
[15805,104.062806653,104]
[15882,97.671376073900007,98]
[15911,100.46768632200001,100]
[15979,98.672600845199995,99]
[16008,67.335201167099996,67]
[16049,85.362356976399994,85]
[16104,92.936100710700003,93]
[16182,112.028706684,112]
[16201,107.886462228,108]
[16248,100.147726588,100]
[16307,110.90144804099999,111]
[16375,117.171447093,117]
[16404,105.448766068,105]
[16463,120.905253883,121]
[16500,77.063574082299994,77]
[16529,120.910834882,121]
[16597,84.5044837035,85]
[16662,106.400127665,106]
[16703,121.864748662,122]
[16722,100.003530963,100]
[16800,89.574606227000004,90]
[16829,106.22429264199999,106]
[16896,94.075865414899994,94]
[16925,101.967712237,102]
[16993,84.1567154751,84]
[17028,92.093608450199994,92]
[17089,113.724049767,114]
[17118,116.652272927,117]
[17196,116.045785611,116]
[17243,111.426904033,111]
[17292,93.896757071899998,94]
[17321,110.00573298099999,110]
[17389,129.62141263300001,130]
[17442,97.0291973832,97]
[17485,100.737085076,101]
[17514,88.844104054100001,89]
[17592,112.746897281,113]
[17609,94.1067641243,94]
[17688,86.000967035499997,86]
[17717,92.560945356100007,93]
[17785,85.439882263200005,85]
[17808,125.815127401,126]
[17881,92.953462631400001,93]
[17910,109.26152258899999,109]
[17988,91.980108517600002,92]
[18023,104.25366214899999,104]
[18084,91.189324086200003,91]
[18103,93.253120575200001,93]
[18181,96.823787145400004,97]
[18222,114.51443265100001,115]
[18277,104.891326228,105]
[18306,84.551381907199996,{"$f":"ROUND(B18307,0)","v":85}]
[18335,111.65047766399999,112]
[18389,94.805737846400007,95]
[18431,81.277158516300005,81]
[18499,96.306904630199995,96]
[18528,123.810831034,124]
[18588,109.00305077500001,109]
[18624,105.824683529,106]
[18702,88.448865134200005,88]
[18721,76.420692045799996,76]
[18803,109.950083814,110]
[18827,116.952679109,117]
[18895,103.20034679299999,103]
[18924,93.915777716400001,94]
[19002,95.145937593300005,95]
[19020,102.40166822499999,102]
[19098,111.99763000599999,112]
[19117,90.755028336799995,91]
[19169,82.302710108100001,82]
[19223,118.384718397,118]
[19291,105.834487559,106]
[19320,129.30499947999999,129]
[19368,108.633837156,109]
[19416,102.631785556,103]
[19494,109.59486383300001,110]
[19513,84.209278987299996,84]
[19583,111.436632519,111]
[19619,141.65102523100001,142]
[19687,58.056297863499999,58]
[19716,87.389404161399995,87]
[19750,137.20402167,137]
[19812,89.332559198799999,89]
[19890,92.966251658499999,93]
[19909,102.70753261,103]
[19949,134.567375701,135]
[20015,107.29924395099999,107]
[20083,115.89464220399999,116]
[20112,103.147156061,103]
[20164,112.242572532,112]
[20208,95.152321546099998,95]
[20237,103.00303538999999,103]
[20305,79.297600469000002,79]
[20363,123.24382724900001,123]
[20401,82.395094813,82]
[20430,89.8152797045,90]
[20508,95.8043530825,96]
[20530,103.941789517,104]
[20604,97.258967022299998,97]
[20633,96.8496249775,97]
[20701,107.772271296,108]
[20729,117.06403682600001,117]
[20797,102.785122298,103]
[20826,97.079789736999999,97]
[20904,77.188516080699998,77]
[20944,113.833046233,114]
[21000,110.43940508199999,110]
[21029,95.803252771900006,96]
[21097,98.645663464699993,99]
[21143,96.696861281300002,97]
[21193,100.69669812799999,101]
[21222,101.22247240199999,101]
[21300,99.087508262300005,99]
[21310,99.049093103700002,99]
[21396,118.80589645000001,119]
[21415,99.359805046399998,99]
[21493,105.249061965,105]
[21509,104.606726951,105]
[21589,101.05189944999999,101]
[21618,79.567744635599993,80]
[21647,96.924211180100002,97]
[21724,89.613533741799998,90]
[21743,86.550076333600003,87]
[21811,92.189967894700004,92]
[21889,97.995755499200001,98]
[21923,114.090479457,114]
[21985,104.982761121,105]
[22014,122.612733504,123]
[22043,97.272760603899997,97]
[22090,89.589610317600005,90]
[22139,71.304709285200005,71]
[22207,91.136765611900003,91]
[22236,125.00771414099999,125]
[22289,88.511356656900006,89]
[22332,91.068030593000003,91]
[22410,97.270329388099995,97]
[22429,69.521509664600003,70]
[22504,127.979083672,128]
[22535,106.051731518,106]
[22603,117.586923627,118]
[22632,117.20668513699999,117]
[22703,75.702412036300004,76]
[22728,120.695194094,121]
[22806,105.184087342,105]
[22825,84.815065459099998,85]
[22870,105.102935763,105]
[22931,101.350382821,101]
[22999,118.364870755,118]
[23028,95.363618368900006,95]
[23085,95.985244843399997,96]
[23124,109.763700039,110]
[23202,91.347962131599999,91]
[23221,116.857231551,117]
[23284,100.46694106,100]
[23327,77.748450466899996,78]
[23395,102.736338328,103]
[23424,106.284207581,106]
[23451,95.888271488800001,96]
[23520,118.155928002,118]
[23549,91.497274473600001,91]
[23617,97.765658307099997,98]
[23650,106.711254912,107]
[23723,92.043651935499994,92]
[23742,103.931995454,104]
[23820,104.533595033,105]
[23865,88.842642624999996,89]
[23916,110.69384651999999,111]
[23945,110.658523543,111]
[24013,124.24281647399999,124]
[24064,89.339240521500003,89]
[24109,84.280919573399999,84]
[24138,126.349780966,126]
[24216,85.069279751699995,85]
[24231,91.927732276100002,92]
[24312,102.49484486999999,102]
[24341,85.417126289999999,85]
[24409,101.548531849,102]
[24430,117.92594134799999,118]
[24505,99.002869788200002,99]
[24534,134.05354321600001,134]
[24612,91.846414585199994,92]
[24645,82.680013456300003,83]
[24708,122.250271853,122]
[24737,97.683340172000001,98]
[24805,93.298435350099993,93]
[24844,99.915105387300002,100]
[24901,115.932770605,116]
[24930,87.226217461999994,87]
[25008,109.290059189,109]
[25011,98.597106245099994,99]
[25104,117.255408219,117]
[25123,98.598476158599993,99]
[25201,105.330113758,105]
[25210,105.287952754,105]
[25297,90.519393503900005,91]
[25326,100.316647081,100]
[25355,95.886893309100003,96]
[25425,97.4656524703,97]
[25451,88.856746336300006,89]
[25519,88.906861090700005,89]
[25548,103.463070476,103]
[25624,100.93989590699999,101]
[25644,107.08788166399999,107]
[25722,85.267604672100006,85]
[25741,113.875923015,114]
[25791,104.820392208,105]
[25847,92.961147666900004,93]
[25915,109.406550927,109]
[25944,91.327826180499997,91]
[25990,100.784591951,101]
[26040,109.061960641,109]
[26118,115.225657313,115]
[26137,80.847691425799994,81]
[26205,120.016936532,120]
[26243,106.68913388,107]
[26311,111.417628744,111]
[26340,82.298728346000004,82]
[26418,96.925237644399999,97]
[26454,117.69931061299999,118]
[26514,103.376149183,103]
[26533,92.236390427700002,92]
[26611,117.205760711,117]
[26653,111.20173114399999,111]
[26707,108.353808511,108]
[26736,79.740118186399997,80]
[26804,88.083286400199995,88]
[26820,111.857813217,112]
[26910,89.949684344299996,90]
[26929,128.225530201,128]
[27007,88.885480021700005,89]
[27019,111.798829442,112]
[27103,88.362799680799995,88]
[27132,107.031523752,107]
[27200,115.343844401,115]
[27234,101.61221027800001,102]
[27257,101.653181913,102]
[27325,118.68312678700001,119]
[27354,104.631837249,105]
[27401,103.518952429,104]
[27450,101.98419499800001,102]
[27528,107.320822331,107]
[27547,95.249151470900003,95]
[27600,115.325450124,115]
[27653,127.18537581,127]
[27721,86.823432865699999,87]
[27750,106.458309766,106]
[27815,108.378431771,108]
[27846,66.889927226500006,67]
[27924,85.314720498499995,85]
[27943,83.398080564200001,83]
[28014,95.514059461599999,96]
[28049,107.666036961,108]
[28117,115.997274111,116]
[28146,92.117591911700003,92]
[28181,109.12924183299999,109]
[28242,103.648182582,104]
[28320,73.949003793399996,74]
[28339,113.811144681,114]
[28380,118.52499734,119]
[28435,113.608248273,114]
[28513,93.569074432899995,94]
[28542,102.15238994400001,102]
[28595,81.730473350500006,82]
[28638,126.890054252,127]
[28667,96.206226858199997,96]
[28735,114.659013015,115]
[28794,102.19845115,102]
[28831,132.307013555,132]
[28909,135.66417436899999,136]
[28938,80.973755827800005,81]
[28961,108.350008061,108]
[29034,107.18306518999999,107]
[29063,106.319347984,106]
[29131,105.589930827,106]
[29160,114.435617056,114]
[29227,113.91572281800001,114]
[29256,90.247765727100003,90]
[29334,123.01409758200001,123]
[29375,104.771748699,105]
[29430,74.038014708700004,74]
[29449,95.969402333299996,96]
[29527,103.0883678,103]
[29574,66.764314806000002,67]
[29623,93.122630774300006,93]
[29652,123.22093411,123]
[29730,114.66338096,115]
[29741,84.825464890800006,85]
[29826,80.166862083500007,{"$f":"ROUND(B29827,0)","v":80}]
[29845,111.736586608,112]
[29923,98.5478267859,99]
[29940,101.776862966,102]
[30019,96.447900484499996,96]
[30048,108.142736939,108]
[30116,92.952357659,93]
[30155,83.067650653200005,83]
[30222,121.058319661,121]
[30241,92.008163086099998,92]
[30319,99.965021208699994,100]
[30354,102.482523972,102]
[30415,127.606313039,128]
[30444,84.306564542199993,84]
[30512,91.812909820800002,92]
[30521,114.143274195,114]
[30569,77.053520543900007,77]
[30637,107.67645854,108]
[30666,101.40842723599999,101]
[30720,91.964829571199999,92]
[30762,97.893192488300002,98]
[30840,92.471450661700004,92]
[30908,100.469294222,100]
[30935,112.575539091,113]
[30965,94.395207880699999,94]
[31033,111.321648997,111]
[31062,85.349889432500007,85]
[31150,85.182142317100002,85]
[31158,90.495727676399994,90]
[31236,95.192568637500003,95]
[31255,109.226498041,109]
[31301,102.79381246200001,103]
[31361,93.430336809600007,93]
[31429,104.64190688799999,105]
[31458,108.582646686,109]
[31516,89.353169751199999,89]
[31554,65.956618207000005,{"$f":"ROUND(B31555,0)","v":66}]
[31632,113.44306010299999,113]
[31651,86.952898339499995,87]
[31715,88.572038805899993,89]
[31757,101.893086934,102]
[31825,105.088595977,105]
[31854,112.096730873,112]
[31930,110.249062229,110]
[31950,95.180806415399999,95]
[32028,96.998643747000003,97]
[32047,118.67278955499999,119]
[32081,97.336923173100004,97]
[32143,79.667955774299998,80]
[32221,110.92781053900001,111]
[32250,78.2007029528,78]
[32296,97.917844387900004,98]
[32346,105.047069216,105]
[32375,101.374525299,101]
[32443,88.8182753703,89]
[32495,83.621937848000002,84]
[32539,97.186390120400006,97]
[32568,116.369356762,116]
[32646,116.622130501,117]
[32710,93.888551010300006,94]
[32742,114.24964439199999,114]
[32761,94.749486632200004,95]
[32839,102.398142865,102]
[32861,92.003063041299995,92]
[32935,94.5101725297,95]
[32964,103.885965513,104]
[33042,105.266170355,105]
[33076,88.701255035200006,89]
[33138,82.321758243800005,82]
[33157,98.106161746300003,98]
[33235,98.863196404000007,99]
[33275,123.256364397,123]
[33331,125.33319928900001,125]
[33360,91.439147824100004,91]
[33438,97.793994278699998,98]
[33490,83.289620889099993,83]
[33534,89.557426895099994,90]
[33553,79.494601066800001,79]
[33631,94.379135578200007,94]
[33641,76.159450388899998,76]
[33727,127.853873779,128]
[33756,75.961074599900002,76]
[33824,77.975932493800002,78]
[33856,116.183781162,116]
[33930,113.406511018,113]
[33949,125.154442684,125]
[34027,105.470861129,105]
[34055,118.18444383800001,118]
[34123,129.76541724800001,130]
[34152,130.80981831,131]
[34220,107.895848274,108]
[34270,121.16528894299999,121]
[34277,96.742721131600007,97]
[34345,107.355034514,107]
[34374,88.200104246999999,88]
[34437,71.632726155300006,72]
[34470,91.965491972899997,92]
[34548,118.318869393,118]
[34567,106.818348441,107]
[34636,103.004448747,103]
[34673,120.79086471399999,121]
[34741,91.635519628599994,92]
[34770,111.088361443,111]
[34851,135.474099298,135]
[34866,104.034964641,104]
[34944,100.029390566,100]
[34963,101.720227257,102]
[35050,91.753691292300005,92]
[35069,98.178540999999996,98]
[35137,78.007572271100003,78]
[35166,90.491292069500005,90]
[35217,102.94757454099999,103]
[35262,101.567585249,102]
[35340,103.146201788,103]
[35359,88.546048333000002,89]
[35416,110.91075435800001,111]
[35455,68.743569849400004,69]
[35533,99.009933584799995,99]
[35562,109.799839173,110]
[35631,102.10526022499999,102]
[35658,104.287300759,104]
[35687,77.363390823700001,77]
[35755,110.85231240100001,111]
[35830,77.590676002899997,78]
[35851,100.172887116,100]
[35929,84.033884232700004,84]
[35958,102.08646812400001,102]
[35997,102.047643806,102]
[36054,92.232260253700005,92]
[36083,107.96424692399999,108]
[36151,101.865502889,102]
[36196,84.630072368900002,85]
[36247,82.395191253299998,82]
[36276,99.956929650800006,100]
[36354,100.235106445,{"$f":"ROUND(B36355,0)","v":100}]
[36411,76.734068470400004,77]
[36450,123.541653459,124]
[36469,91.365731393800004,91]
[36547,82.086772657699996,82]
[36610,94.464712751199997,{"$f":"ROUND(B36611,0)","v":94}]
[36643,122.504632641,123]
[36672,116.548522461,117]
[36750,90.086752983099998,90]
[36777,104.79819216600001,105]
[36846,106.36904337199999,106]
[36865,113.02759631799999,113]
[36943,107.14743636,107]
[36976,87.793258923799996,88]
[37039,112.746340428,113]
[37068,81.390683787399993,81]
[37136,86.793354668099994,87]
[37191,81.887770508900005,82]
[37242,98.447257613900007,98]
[37261,78.015343026300002,78]
[37339,101.964359118,102]
[37390,107.17051615299999,107]
[37435,81.074312652900005,81]
[37464,108.078018421,108]
[37532,123.0871528,123]
[37557,119.437450008,119]
[37589,85.093144434099997,85]
[37657,113.06460631900001,113]
[37686,95.642475267500004,96]
[37756,107.930522943,108]
[37782,89.729251408799996,90]
[37860,90.191206383999997,90]
[37928,103.574573414,104]
[37971,106.98384944199999,107]
[37985,93.4070914542,93]
[38053,88.382380760299995,88]
[38082,123.530119363,{"$f":"ROUND(B38083,0)","v":124}]
[38138,96.650370361300006,97]
[38178,86.645414922900002,87]
[38256,111.615154508,112]
[38275,113.486220886,113]
[38337,118.63005399799999,119]
[38381,98.420899090099994,98]
[38449,119.008734788,119]
[38478,101.37473715199999,101]
[38552,113.399585586,113]
[38574,109.281127103,109]
[38652,95.862894065299997,96]
[38671,101.217539449,101]
[38751,108.90808046399999,109]
[38767,97.754422488000003,98]
[38845,117.713312609,118]
[38874,90.220601397999999,90]
[38918,100.487693038,100]
[38970,100.94808276000001,101]
[39048,89.316666495700005,89]
[39067,84.437231921899993,84]
[39117,124.11112105799999,124]
[39163,104.467494481,104]
[39241,145.928724187,146]
[39270,125.051368543,125]
[39332,104.841496695,105]
[39366,123.212887083,123]
[39395,93.730221502199996,94]
[39463,113.124272191,113]
[39531,88.877275976799993,89]
[39559,104.144519612,104]
[39588,103.08190506299999,103]
[39666,71.070880859100001,71]
[39698,67.723764260300001,68]
[39762,88.053435117299998,88]
[39781,70.2259028908,70]
[39859,108.43325035300001,108]
[39897,101.343782741,101]
[39955,87.391708286699995,87]
[39984,84.969513624300006,85]
[40062,84.767023596900003,85]
[40112,93.162689179099999,93]
[40158,65.282211347499995,65]
[40177,105.85389502300001,106]
[40255,108.846638734,109]
[40311,107.61987634,108]
[40351,87.851080197800002,88]
[40380,110.770253454,111]
[40458,115.958568434,116]
[40478,89.457050756399994,89]
[40554,85.656604814800005,86]
[40573,112.632726531,113]
[40651,89.899194578000007,90]
[40677,85.349159211699998,85]
[40747,96.721617364699995,97]
[40776,109.444634706,109]
[40844,103.768941063,104]
[40892,104.975248507,105]
[40950,102.36585729399999,102]
[40969,99.933904795800004,100]
[41047,151.538847159,152]
[41091,102.12293822300001,102]
[41143,126.120226723,126]
[41172,97.126680729499995,97]
[41240,68.580422578099999,69]
[41258,108.54036136000001,109]
[41297,74.543134053399996,75]
[41365,76.407655428200002,76]
[41394,96.4446155073,96]
[41473,118.36622388799999,118]
[41490,114.193296999,114]
[41568,117.97557979699999,118]
[41587,105.76348662300001,106]
[41672,105.347218794,105]
[41693,124.698581256,125]
[41761,103.336738387,103]
[41790,64.825373314299995,65]
[41839,118.221398995,118]
[41886,91.029895910500002,91]
[41964,57.5337036373,58]
[41983,92.080237108999995,92]
[42038,110.922968094,111]
[42089,76.132653351399995,76]
[42157,85.894347495900007,86]
[42186,90.719597452299993,91]
[42253,114.70034280599999,115]
[42282,110.597527142,111]
[42360,117.36615996800001,117]
[42379,96.725802489100005,97]
[42452,98.015811026700007,98]
[42475,116.61864636,117]
[42553,104.653453137,105]
[42582,110.23250852,110]
[42619,113.297852603,113]
[42678,84.697075169800002,85]
[42707,86.414361920100006,86]
[42775,90.139394543500003,90]
[42818,79.423429646100004,{"$f":"ROUND(B42819,0)","v":79}]
[42871,84.2042498749,84]
[42949,93.361544164500003,93]
[42978,94.756458094099997,95]
[43033,83.858448418999998,84]
[43074,89.859504886600007,{"$f":"ROUND(B43075,0)","v":90}]
[43103,92.033639897499995,92]
[43171,118.29884844199999,118]
[43232,78.551639736499993,79]
[43267,103.28242545400001,103]
[43296,109.82604092299999,110]
[43374,121.26397382,121]
[43399,98.520753484400004,99]
[43470,117.350902748,117]
[43489,81.063139872600004,81]
[43567,127.20948458700001,127]
[43598,115.620062066,116]
[43663,107.585243284,108]
[43692,85.337210134200006,85]
[43770,109.263187366,109]
[43813,82.853035601399995,83]
[43866,98.028780634300006,98]
[43885,117.321117429,117]
[43963,104.350833802,104]
[44012,134.032233886,134]
[44059,72.640453641600004,73]
[44088,109.298645665,109]
[44156,109.503291413,110]
[44179,112.777515595,113]
[44262,127.061361983,127]
[44281,102.92745848200001,103]
[44359,114.37745341,114]
[44378,117.282102655,117]
[44455,93.079267336499996,93]
[44484,126.564005752,127]
[44552,117.230982768,117]
[44593,80.621805258899997,81]
[44609,86.408649618400005,86]
[44677,86.133856333300002,86]
[44706,110.32679002099999,110]
[44792,73.163248953799993,73]
[44802,102.518409869,{"$f":"ROUND(B44803,0)","v":103}]
[44880,111.80536138399999,112]
[44948,109.51871380199999,110]
[44959,114.943601101,115]
[45005,118.54586372999999,119]
[45073,123.78052741,124]
[45102,102.534151904,103]
[45174,106.627376645,107]
[45198,102.37219764,102]
[45276,76.517821465500006,77]
[45295,97.081153260700006,97]
[45373,98.868222460699997,99]
[45401,88.908458641500005,89]
[45469,97.196276014899993,97]
[45498,122.919374785,123]
[45540,98.767726684199999,99]
[45594,89.757577622699998,90]
[45672,96.992114323500005,97]
[45691,113.12394448800001,113]
[45739,101.63614594800001,102]
[45787,90.501541758800002,91]
[45865,93.259108606599995,93]
[45894,82.820386661200004,83]
[45954,68.509598228900003,{"$f":"ROUND(B45955,0)","v":69}]
[45990,101.74783774700001,102]
[46068,121.182028317,121]
[46087,90.610492135200005,91]
[46153,106.39876046000001,106]
[46183,99.463119917200004,99]
[46261,107.40616395399999,107]
[46290,93.914090075900006,94]
[46320,118.778035957,119]
[46386,85.368378089900006,85]
[46415,78.484875354500005,78]
[46483,103.15510888999999,103]
[46519,98.371016923699997,98]
[46579,86.851106308400006,87]
[46608,101.090544814,101]
[46686,105.085708092,105]
[46734,106.507263827,107]
[46782,93.114297467399993,93]
[46801,100.205960656,100]
[46879,116.37857556100001,116]
[46933,102.41049267299999,102]
[46975,87.271754707400007,87]
[47004,127.43461407700001,127]
[47082,123.433970018,123]
[47100,104.49690563999999,104]
[47178,92.849174148900005,93]
[47197,118.209773197,118]
[47275,107.606506067,108]
[47299,59.565682629400001,60]
[47371,115.94312488200001,116]
[47400,86.751377606700004,87]
[47478,104.75512269799999,105]
[47514,100.662556956,101]
[47574,93.323045454099997,93]
[47593,104.14721416099999,104]
[47671,106.849025356,107]
[47713,109.34923136,109]
[47767,89.582253521699997,90]
[47796,96.846456798600002,97]
[47864,90.585533346199995,91]
[47880,97.936988176599996,98]
[47970,74.7991924512,75]
[47989,76.954781883999999,77]
[48067,83.574476495400006,84]
[48079,101.818308371,102]
[48163,122.576719001,123]
[48192,99.962138388100001,100]
[48260,93.0657909727,93]
[48294,89.405286128,89]
[48317,113.27446013700001,113]
[48385,86.436552200600005,86]
[48414,102.959285154,103]
[48461,99.022538737299996,99]
[48510,114.68627184,115]
[48588,90.185589641799993,90]
[48607,100.562289866,101]
[48660,101.90012065800001,102]
[48713,107.794774057,108]
[48781,88.4937288223,88]
[48810,107.910551349,108]
[48875,114.715868351,115]
[48906,130.066610524,130]
[48984,98.958441800000003,99]
[49003,109.584171326,110]
[49074,89.848550670199998,90]
[49109,155.78427740199999,156]
[49177,70.038306166400005,70]
[49206,143.133267029,143]
[49241,94.857849211499996,95]
[49302,94.498710676599998,94]
[49380,112.14345638099999,112]
[49399,110.902141812,111]
[49440,83.039456433500007,83]
[49495,104.182647605,104]
[49573,95.952238706299994,96]
[49602,87.401682424599997,{"$f":"ROUND(B49603,0)","v":87}]
[49655,92.089408643499993,92]
[49698,108.455120619,108]
[49727,90.256941848599993,90]
[49795,94.118746037199998,94]
[49854,84.8187153489,85]
[49891,100.918318907,101]
[49969,106.117127651,106]
[49998,99.365595433500005,99]
[50021,97.204330562300001,97]
[50094,113.208200851,113]
[50162,114.127875088,114]
[50191,109.30669328800001,109]
[50220,109.932393586,110]
[50287,116.360782418,116]
[50316,110.175662742,110]
[50394,113.83450737699999,114]
[50435,87.552587497000005,88]
[50490,77.434606016700002,77]
[50509,108.259351438,108]
[50587,110.819518503,111]
[50634,76.708997409899993,77]
[50683,131.13840519999999,131]
[50712,122.40604010200001,122]
[50790,125.23466517,125]
[50809,127.09735862700001,127]
[50883,109.68011944200001,110]
[50905,110.869884872,111]
[50983,96.602742505799995,97]
[51012,90.336574633200001,90]
[51050,96.034463310099994,96]
[51108,118.983498087,119]
[51176,82.360535540800001,82]
[51205,99.222698336099995,99]
[51249,75.158869090500005,75]
[51301,115.414313595,115]
[51379,126.762033613,127]
[51408,94.690235892600001,95]
[51464,99.005336361700003,99]
[51504,118.224135944,118]
[51572,96.647886111199995,97]
[51601,113.584634611,114]
[51663,78.458530635399995,78]
[51697,88.098333166399996,88]
[51726,101.22854386900001,101]
[51804,115.291645796,115]
[51830,121.746732952,122]
[51900,106.92692103100001,107]
[51968,75.409162447100002,75]
[51997,100.24485250399999,100]
[52029,68.344558493700006,68]
[52093,89.206255646800003,89]
[52122,98.945604723000002,99]
[52190,94.962088382499999,95]
[52244,86.120864133699996,86]
[52296,110.517983966,111]
[52315,84.366962266300007,84]
[52393,85.655807074799995,86]
[52443,88.825273481400004,89]
[52489,114.630155984,115]
[52518,93.192051397599997,93]
[52586,103.099716736,103]
[52610,103.362886133,{"$f":"ROUND(B52611,0)","v":103}]
[52692,93.244050631600004,93]
[52711,93.969387670100005,94]
[52789,91.800803035599998,92]
[52825,104.270723902,104]
[52885,93.032707701299998,93]
[52914,140.25438148999999,140]
[52982,93.576169509300001,94]
[53024,86.082918542900003,86]
[53088,110.961067571,111]
[53107,99.259971324000006,99]
[53185,99.7220355181,100]
[53191,138.51635192399999,139]
[53281,109.26035914400001,109]
[53310,101.87763582300001,102]
[53378,90.089097517400006,{"$f":"ROUND(B53379,0)","v":90}]
[53390,81.601768913200004,82]
[53435,111.51999349499999,112]
[53503,101.058175234,101]
[53532,81.515989484399995,82]
[53605,133.53570324699999,134]
[53628,95.419403408700006,95]
[53706,113.08816343399999,113]
[53725,114.986338613,115]
[53804,93.850389228300003,94]
[53821,116.21039139200001,116]
[53899,105.647616199,106]
[53928,65.728938631299997,66]
[53971,78.116996001000004,78]
[54024,126.206735482,126]
[54102,106.057430083,106]
[54121,97.906907322500004,98]
[54170,93.360112385299999,93]
[54217,111.31735732,111]
[54295,118.047831393,118]
[54324,101.281255379,101]
[54385,126.202100544,126]
[54420,137.52323643899999,138]
[54498,98.392089939200005,98]
[54517,93.948700232500002,94]
[54584,100.601177972,101]
[54613,77.544623720999994,78]
[54691,99.5862759547,100]
[54720,85.000120009400007,85]
[54751,116.95528335100001,117]
[54816,123.100427975,123]
[54884,83.156248059399999,83]
[54913,104.42586410600001,104]
[54950,93.155767348599994,93]
[55009,86.063132783399993,86]
[55087,94.758446354699998,95]
[55116,83.845994302400001,84]
[55165,101.30996127,101]
[55212,82.703082026999994,83]
[55280,111.719562227,112]
[55309,110.001153356,110]
[55364,75.211491710700002,75]
[55405,91.893850954000001,92]
[55434,114.808046948,115]
[55502,95.036630590300007,95]
[55531,101.18780026100001,101]
[55608,106.997566765,107]
[55627,99.160205709400003,99]
[55705,88.958727154499996,89]
[55730,114.590511595,115]
[55801,118.865845158,119]
[55830,105.04526402899999,105]
[55898,110.752492933,111]
[55945,88.846316067499998,89]
[56004,79.575623845300001,80]
[56023,118.101633029,118]
[56101,110.603718497,111]
[56144,116.329330629,116]
[56197,82.315044772999997,82]
[56226,124.87827187400001,125]
[56294,75.356605174999999,75]
[56311,97.805692412699997,98]
[56400,93.503150658600006,94]
[56419,88.345406350199994,88]
[56497,92.731603408200002,93]
[56526,96.9993051509,97]
[56593,91.871989832300002,92]
[56622,77.784265192399999,78]
[56690,99.263287263099997,99]
[56725,128.930641388,129]
[56747,132.29529631,132]
[56815,124.750508267,125]
[56844,98.088163733200005,98]
[56940,98.603814684,99]
[56989,116.183134198,116]
[57018,102.981388864,103]
[57086,126.74724357300001,127]
[57091,111.022481325,111]
[57182,117.620295637,118]
[57211,91.567495272000002,92]
[57240,104.83273009200001,105]
[57306,103.442402161,103]
[57336,87.3914265521,87]
[57414,107.03045702,107]
[57433,117.15574099200001,117]
[57505,117.58217094,118]
[57529,76.942568504600004,77]
[57607,112.51723771899999,113]
[57636,119.669050715,120]
[57720,105.85666562199999,106]
[57732,107.401874959,107]
[57810,101.708758007,102]
[57829,89.502014569699995,90]
[57871,95.587255004900001,96]
[57925,122.33193312500001,122]
[58003,108.213442349,108]
[58032,110.62591984300001,111]
[58086,106.634187928,107]
[58128,90.683566456700007,91]
[58196,103.833426704,104]
[58225,74.162670719299996,74]
[58285,112.542091887,113]
[58321,87.673598446499994,88]
[58399,97.947677662299995,98]
[58428,105.87014193,106]
[58500,110.94857505900001,111]
[58524,80.832600478900005,81]
[58592,117.084495477,117]
[58621,96.791577984499995,97]
[58651,101.86483644400001,102]
[58717,89.635588471099993,90]
[58746,77.277590060700007,77]
[58824,82.074608777500003,82]
[58866,74.569791868300001,75]
[58920,105.731287529,106]
[58988,93.324676553200007,93]
[59017,92.079997275099998,92]
[59065,104.94283319500001,105]
[59113,93.109865023099999,93]
[59142,102.51865707100001,103]
[59210,119.565355439,120]
[59280,107.531081481,108]
[59316,94.616302337099995,95]
[59335,98.093640838699997,98]
[59413,111.91884651399999,112]
[59431,109.654655056,110]
[59509,86.653625922700002,87]
[59538,113.612342313,114]
[59606,92.766067616499996,93]
[59646,92.577937323,93]
[59712,83.6338572306,84]
[59731,106.752254612,107]
[59809,127.82082566699999,128]
[59861,95.012044598700001,95]
[59905,121.12206591,121]
[59934,107.067599118,107]
[60002,86.383222947700006,86]
[60060,100.223012791,100]
[60108,93.672883091599999,94]
[60127,78.186469783600003,78]
[60205,84.882994357200005,85]
[60227,121.851701519,122]
[60301,106.08899279400001,106]
[60330,106.919467768,107]
[60398,82.538938018699994,83]
[60426,104.179342744,104]
[60455,102.3458912,102]
[60523,85.720738354600002,86]
[60552,107.12596616800001,107]
[60641,124.150693753,124]
[60648,74.908812887799996,75]
[60726,111.79678079999999,112]
[60745,101.623386763,102]
[60840,94.403070686500001,94]
[60841,90.392528402600007,90]
[60919,101.18556313099999,101]
[60948,104.751925413,105]
[61007,77.695097537899997,78]
[61044,103.142973508,103]
[61122,80.5599146375,{"$f":"ROUND(B61123,0)","v":81}]
[61141,113.912824762,114]
[61206,81.878453424,82]
[61237,101.59478956700001,102]
[61315,79.877853560700004,80]
[61344,88.292165787399995,88]
[61421,84.118028363199997,84]
[61440,81.457270294899999,81]
[61518,93.273058457999994,93]
[61537,124.96979798300001,125]
[61620,141.09812353000001,141]
[61633,90.931851010700001,91]
[61711,119.475705648,119]
[61740,75.353359227699997,75]
[61787,96.902604422300001,97]
[61836,99.963997845099996,100]
[61904,116.31356052300001,116]
[61933,90.202535437199998,90]
[61986,124.826586573,125]
[62029,86.851131854499997,87]
[62107,86.132387055500004,86]
[62136,96.283167762700003,96]
[62201,87.749998477999995,88]
[62232,102.84122216599999,103]
[62300,91.704613733399995,92]
[62329,107.150809503,107]
[62400,83.468916632599999,83]
[62425,86.935405966000005,87]
[62454,113.451807832,113]
[62522,107.789586101,108]
[62567,101.137154993,101]
[62628,118.286955052,118]
[62647,90.088181421499996,90]
[62725,80.495468414599998,80]
[62766,97.8411843441,98]
[62821,101.744163536,102]
[62850,110.84202343299999,{"$f":"ROUND(B62851,0)","v":111}]
[62918,68.600813681899993,69]
[62981,94.352895735100006,94]
[63024,108.93014894700001,109]
[63043,111.103435007,111]
[63121,129.70368215100001,130]
[63180,109.42648317299999,109]
[63217,99.679580079000004,100]
[63246,82.314078150100002,82]
[63314,96.186236712699994,96]
[63347,83.344607344099998,83]
[63420,119.918986952,120]
[63439,93.526777674100003,94]
[63517,111.47520400800001,111]
[63562,115.36029810700001,115]
[63613,87.749761395199997,88]
[63642,110.556759989,111]
[63710,86.200768421899994,86]
[63761,137.99485180900001,138]
[63767,94.137526441399999,94]
[63835,130.542209794,131]
[63864,83.036641260799996,83]
[63928,114.496962736,114]
[64009,82.479713715399996,82]
[64038,88.267212536599999,88]
[64106,89.565169688799998,90]
[64127,94.190564524899997,94]
[64202,103.75381597000001,104]
[64231,106.64642697799999,107]
[64260,90.343290109799995,90]
[64342,105.356911764,105]
[64356,101.540114453,102]
[64434,89.422775184399995,89]
[64453,118.47176016500001,118]
[64541,113.170188282,113]
[64549,100.596845911,101]
[64627,121.31587553200001,121]
[64656,88.060808427300003,88]
[64708,89.966260453100006,90]
[64752,97.975694541799996,98]
[64830,92.764956276000007,93]
[64849,103.330957426,103]
[64907,89.149922168399996,89]
[64945,88.194917509899994,88]
[65023,112.285203479,112]
[65052,86.406050502100001,86]
[65122,100.58701596,101]
[65148,106.94950822200001,107]
[65216,135.45206917199999,135]
[65245,117.30647837799999,117]
[65321,107.79486123,108]
[65341,80.720787558799998,81]
[65419,97.600235103599999,98]
[65448,124.48750316,124]
[65488,106.86609799599999,107]
[65544,111.297906637,111]
[65612,105.51847734499999,106]
[65641,94.2439953672,94]
[65687,98.749184990499998,99]
[65737,101.477693441,101]
[65766,84.641425426799998,85]
[65844,90.976909901499994,91]
[65902,109.753159959,110]
[65940,84.932240632900005,85]
[66008,110.694954834,111]
[66037,127.44738269200001,127]
[66101,140.136679082,140]
[66133,104.330909742,104]
[66162,91.276506198299998,91]
[66230,90.811838370700002,91]
[66268,90.464504338500006,90]
[66336,93.595427888399996,94]
[66355,89.979407660899994,90]
[66433,121.84718604299999,122]
[66467,104.45120541999999,104]
[66529,140.93110333199999,141]
[66558,122.04913302999999,122]
[66626,90.096589496899995,{"$f":"ROUND(B66627,0)","v":90}]
[66682,105.11513483500001,105]
[66732,107.82867213500001,108]
[66751,76.256306064599997,76]
[66829,107.53273458699999,108]
[66849,108.943783071,109]
[66925,117.788170272,118]
[66954,92.534076302599999,93]
[67022,106.596507691,107]
[67048,91.883994948899996,92]
[67128,94.676950224300001,95]
[67147,129.22581387299999,129]
[67225,115.370746677,115]
[67263,90.614738940400002,91]
[67321,85.627417849099999,86]
[67350,110.542395016,111]
[67418,105.307050058,105]
[67462,84.287318583599998,84]
[67475,103.190472597,103]
[67543,107.577122328,108]
[67572,105.094946282,105]
[67629,131.50666265500001,132]
[67668,92.281648669500001,92]
[67746,75.935202023200006,76]
[67765,129.31322201099999,129]
[67828,88.556833220100003,89]
[67861,107.241512555,107]
[67939,85.019135796499995,85]
[67968,88.561860550199995,89]
[68043,111.13961869000001,111]
[68064,68.246610909799998,68]
[68142,75.7332030898,76]
[68161,123.60804645499999,124]
[68242,134.6470285,135]
[68257,95.554187445799997,96]
[68335,130.856228168,131]
[68364,98.893134832599998,99]
[68409,104.618386616,105]
[68460,104.22308204399999,104]
[68528,90.190820391599999,90]
[68557,70.612445125600004,71]
[68608,87.341706701600003,87]
[68653,95.0136864304,95]
[68731,88.899169745899997,89]
[68760,107.128060718,107]
[68823,101.138360127,101]
[68856,117.256795221,117]
[68924,110.581449834,111]
[68953,116.713579147,117]
[69022,83.077309316500006,83]
[69049,106.45015810699999,106]
[69127,83.064026513100004,83]
[69156,82.474489728500004,82]
[69189,109.41292096799999,109]
[69252,88.544159141899996,89]
[69320,93.079320303100005,93]
[69349,85.887016515100001,86]
[69388,99.996010085699993,100]
[69445,79.431983835899999,79]
[69474,107.179239619,107]
[69542,73.013113555800004,73]
[69603,106.144511096,106]
[69648,83.262632580200005,83]
[69667,97.879437763599995,98]
[69745,96.474754746900004,96]
[69802,95.618744714599998,96]
[69841,95.282850158100004,95]
[69870,111.88520989600001,112]
[69938,90.133414286600001,90]
[69969,119.180551886,119]
[70044,109.893531763,110]
[70063,117.87393302700001,118]
[70141,107.711999306,108]
[70168,108.276323835,108]
[70237,126.941618561,127]
[70266,85.355763600299994,85]
[70334,90.664409597000002,91]
[70383,101.01670369999999,101]
[70440,94.234723595099993,94]
[70459,120.90598075699999,121]
[70537,94.152205656700005,94]
[70550,136.948692489,137]
[70633,119.543145655,120]
[70662,105.573331139,106]
[70730,124.02516227300001,124]
[70749,118.979143987,119]
[70787,87.524976265700005,88]
[70855,110.071928986,110]
[70884,51.569613912299999,52]
[70964,113.047804703,113]
[71029,94.809180779399995,95]
[71058,90.066336865899999,90]
[71126,85.409631173299999,85]
[71163,102.896126853,103]
[71222,91.674033086999998,92]
[71251,149.071120643,149]
[71280,71.148994675500006,71]
[71330,104.554111561,105]
[71376,103.66276741199999,104]
[71454,85.6526550026,86]
[71473,100.498851668,100]
[71529,104.83620575800001,105]
[71569,116.96295830699999,117]
[71647,109.46535753400001,109]
[71676,119.92074946300001,120]
[71744,80.093047990599999,80]
[71772,113.65098834200001,114]
[71850,109.05162998900001,109]
[71869,96.233368786200003,96]
[71943,109.17729279700001,109]
[71965,78.668145995000003,79]
[72043,84.453643763200006,84]
[72072,85.141334912199994,85]
[72110,99.671298009300003,100]
[72168,110.291152752,110]
[72236,98.624454050599994,99]
[72265,102.765935696,103]
[72309,74.325502444700007,74]
[72361,110.60559882699999,111]
[72439,95.857260517300006,96]
[72468,106.543199751,107]
[72524,107.857066151,108]
[72564,84.544876790100005,85]
[72632,95.102604887699997,95]
[72661,84.038320452600004,84]
[72723,82.764312684100005,83]
[72757,103.206976939,103]
[72786,106.16491857,106]
[72864,86.994661294699995,87]
[72890,97.358304229500007,97]
[72960,94.081536866799993,94]
[73028,84.295073540700002,84]
[73057,113.927685827,114]
[73089,127.216925905,127]
[73153,118.88038501299999,119]
[73182,119.802083909,120]
[73250,90.107133169099995,90]
[73304,93.438889301700002,93]
[73356,99.691332208099993,100]
[73375,83.548033756899997,84]
[73453,97.104897411300001,97]
[73503,90.703116513300003,91]
[73549,78.326620562900004,78]
[73578,95.642622865299998,96]
[73646,93.764364525199994,94]
[73670,96.519416242099993,97]
[73752,99.529652623000004,100]
[73771,97.598485434500006,98]
[73849,83.673864061299994,84]
[73885,87.530648548399995,88]
[73945,73.979189670500006,74]
[73974,97.845672893300005,98]
[74042,142.50076565200001,143]
[74084,92.032400992999996,92]
[74148,109.397785398,109]
[74167,106.31789280700001,106]
[74245,130.165925203,130]
[74251,84.133157204499994,84]
[74341,80.698422332899995,81]
[74370,107.317980523,{"$f":"ROUND(B74371,0)","v":107}]
[74438,99.011213561100007,99]
[74450,99.961966183800001,100]
[74495,106.95399931,107]
[74563,96.305422830500007,96]
[74592,111.60061601699999,112]
[74665,94.578642953400006,95]
[74688,93.759624435700005,94]
[74766,104.81122478100001,105]
[74785,114.058664212,114]
[74864,97.551485612899995,98]
[74881,91.438296754899994,91]
[74959,115.95094057599999,116]
[74988,104.32393325,104]
[75031,99.001919990399998,99]
[75084,122.179632365,122]
[75162,85.699297171699996,86]
[75181,94.284722101499995,94]
[75259,91.624774349899994,92]
[75280,68.752935530499997,69]
[75355,107.726317683,108]
[75384,116.363793708,116]
[75452,116.827140695,117]
[75479,110.694577286,111]
[75548,96.204440402100005,96]
[75577,80.947692979600006,81]
[75655,95.569369942199998,96]
[75694,111.943311924,112]
[75751,105.201764084,105]
[75780,122.839827142,123]
[75848,136.15679391800001,136]
[75893,101.614623282,102]
[75944,100.005301754,100]
[75973,96.212994069700002,96]
[76051,119.10453486500001,119]
[76060,106.36572664099999,106]
[76147,99.446662823799997,99]
[76176,110.697619018,111]
[76244,102.18813961799999,102]
[76259,111.78587292100001,112]
[76340,116.418038233,116]
[76369,121.54303499,122]
[76398,74.021024451700001,74]
[76474,125.323088798,125]
[76494,119.77294854100001,120]
[76562,99.165653532899995,99]
[76591,136.48735033200001,136]
[76673,98.008652169399994,98]
[76687,131.73863134800001,132]
[76765,97.322623044699995,97]
[76794,101.548530568,102]
[76840,99.525404371899995,100]
[76890,114.64163548499999,115]
[76958,108.342369097,108]
[76987,79.663743571200001,80]
[77039,83.249917625600006,83]
[77083,75.772278916900007,76]
[77161,100.453607308,100]
[77190,82.400129872799994,82]
[77254,110.002089021,110]
[77286,106.006244772,106]
[77354,81.682531587200003,82]
[77383,76.765413082500004,77]
[77453,78.156452655899997,78]
[77479,105.625495883,106]
[77557,94.501039891600001,95]
[77576,100.907383037,101]
[77620,90.179152357199996,90]
[77682,117.10002462,117]
[77750,94.305186004199996,94]
[77779,110.82980025499999,111]
[77819,107.05530191299999,107]
[77875,84.000055703100003,84]
[77904,89.613880940100003,90]
[77972,88.706864758999998,89]
[78034,94.603325743499994,95]
[78078,122.52394152399999,123]
[78146,85.3075338461,{"$f":"ROUND(B78147,0)","v":85}]
[78175,90.177570607199996,90]
[78201,103.533801066,104]
[78271,95.843464275700001,96]
[78300,95.769318673000001,96]
[78368,124.88850583999999,125]
[78400,100.9919807,101]
[78474,92.172102819800003,92]
[78493,95.020934075699998,95]
[78571,102.409771748,102]
[78615,88.055992342099998,88]
[78667,72.522626528200007,73]
[78696,89.650121894099996,90]
[78764,102.563559008,103]
[78814,118.165972876,118]
[78870,87.740609410299996,88]
[78889,90.278446163400005,90]
[78967,103.256174341,103]
[78981,104.598676072,105]
[79063,64.019284961500006,64]
[79092,126.618691231,127]
[79160,124.304123639,124]
[79180,101.92646519199999,102]
[79256,93.603039854399995,94]
[79285,110.64052786400001,111]
[79363,96.671147403700004,97]
[79395,84.609651359899999,85]
[79459,73.988445952299998,74]
[79488,82.707798932700001,83]
[79556,103.11070668000001,103]
[79594,109.161301407,109]
[79652,105.390907967,105]
[79681,111.391215906,111]
[79710,83.461442037899999,83]
[79761,86.199040218700006,86]
[79806,108.382769827,108]
[79884,119.76325273499999,120]
[79903,115.811172769,116]
[79960,87.162908923399996,87]
[80048,82.802835504100003,83]
[80077,152.07510557099999,152]
[80106,104.320468569,104]
[80175,94.798666036399993,95]
[80202,82.959954371400002,83]
[80270,120.674469284,121]
[80299,73.811145098300003,74]
[80374,98.050966128699997,98]
[80395,74.5944021018,75]
[80473,119.733086814,120]
[80502,74.556335693500003,75]
[80541,106.600805306,107]
[80598,127.56856427300001,128]
[80666,99.141837051400003,99]
[80695,86.465207856700005,86]
[80740,88.572729581600001,89]
[80791,96.959572956399995,97]
[80869,67.546823682300001,68]
[80888,107.249459222,107]
[80955,114.244349812,114]
[80994,121.059881922,121]
[81062,92.784222706700007,93]
[81091,102.413265151,102]
[81154,97.659101275899999,{"$f":"ROUND(B81155,0)","v":98}]
[81187,89.859802573799996,90]
[81265,108.9943442,109]
[81284,89.427583765199998,89]
[81321,103.21625821799999,103]
[81390,100.06124119499999,100]
[81458,91.100766680199996,91]
[81487,111.33287043599999,111]
[81520,93.648123108600004,94]
[81583,90.384442739799994,90]
[81612,92.090890166299999,92]
[81680,116.59371425099999,117]
[81735,80.654686400299994,81]
[81786,72.482186019599993,72]
[81805,112.290158671,112]
[81883,86.082624541399994,86]
[81902,102.714596271,103]
[81979,84.1828688282,84]
[82008,108.079075645,108]
[82076,94.024841570099994,94]
[82101,102.70208413100001,103]
[82182,92.158404271899997,92]
[82201,102.012405433,102]
[82279,107.024908647,107]
[82316,91.267245108799997,91]
[82375,118.016377378,118]
[82404,73.724743105100004,74]
[82472,139.789129753,140]
[82515,100.129826767,100]
[82568,95.005646509300007,95]
[82597,92.5997791713,93]
[82675,91.482217922100006,91]
[82682,100.680593121,101]
[82771,54.456307240400001,54]
[82800,104.189974996,104]
[82868,89.5946576889,90]
[82881,103.22524694099999,103]
[82964,124.201772459,124]
[82993,85.924376126699997,86]
[83071,118.63602591599999,119]
[83096,76.634719582499997,77]
[83167,69.419591463299994,69]
[83196,99.312508563999998,99]
[83264,98.467388502199995,98]
[83295,136.47088203499999,136]
[83360,94.927065118900003,95]
[83389,86.560506224099996,87]
[83418,96.340383274100006,96]
[83462,95.0727479018,95]
[83514,108.51253423599999,109]
[83582,130.68386737599999,131]
[83611,88.788961991299999,89]
[83661,89.675099403499999,90]
[83707,103.727153172,104]
[83785,75.842400362199996,76]
[83814,121.055528585,121]
[83876,100.17121213199999,100]
[83910,104.209067254,104]
[83978,80.219306958199994,80]
[84007,84.102617465199998,84]
[84075,65.995936968899997,66]
[84103,110.287549838,110]
[84181,100.709154179,101]
[84210,90.0747200916,90]
[84242,112.697279615,113]
[84306,98.266906023600001,98]
[84374,105.027507774,105]
[84403,138.600856013,139]
[84441,81.324171641000007,81]
[84499,81.255476460699995,81]
[84577,98.283392520800007,98]
[84596,63.095806375800002,63]
[84656,59.576659667800001,60]
[84702,90.786068456500004,91]
[84770,126.133367502,126]
[84799,109.192355061,109]
[84855,99.952508108100005,100]
[84895,116.15311748000001,116]
[84924,109.65278353399999,110]
[84992,94.652732014799994,95]
[85022,91.943099103600005,92]
[85098,119.77033793,120]
[85166,91.928785142199999,92]
[85195,94.644343132700001,95]
[85237,80.528226063399998,81]
[85291,117.35975999,117]
[85320,116.751245954,117]
[85388,86.733365833899995,87]
[85436,85.414006427199993,85]
[85494,95.712382792100001,96]
[85513,90.439669283300006,90]
[85591,89.396969562899997,89]
[85651,97.163422617099997,97]
[85687,82.208457685100001,82]
[85716,88.587590972200005,89]
[85784,104.589973149,105]
[85802,81.803464210200005,82]
[85890,85.307743355499994,{"$f":"ROUND(B85891,0)","v":85}]
[85909,83.809737699699994,84]
[85987,98.990127264700007,99]
[86017,85.147945281399998,85]
[86083,122.15008903,122]
[86112,112.649465638,113]
[86180,83.523953625299995,84]
[86216,94.147323253699994,94]
[86276,92.749971334199998,93]
[86305,88.838893324899999,89]
[86383,112.428358621,112]
[86431,71.899763015800005,72]
[86479,102.107358209,102]
[86508,106.13169191599999,106]
[86576,125.272499396,125]
[86582,125.20781986999999,125]
[86672,93.500105021899998,94]
[86701,91.359376728900003,91]
[86730,116.393279484,116]
[86797,87.075573978199998,87]
[86826,98.860793384399997,99]
[86894,90.231171940400003,90]
[86923,85.713379440599994,86]
[86996,106.22598663300001,106]
[87068,111.646686293,112]
[87097,90.624000425000006,91]
[87126,116.926962346,117]
[87211,110.791873348,111]
[87222,102.114466346,102]
[87290,97.351788058699995,97]
[87319,99.255762350500007,99]
[87362,71.255443327799995,{"$f":"ROUND(B87363,0)","v":71}]
[87415,76.028386510000004,76]
[87493,91.410173571499996,91]
[87522,87.124927912000004,87]
[87577,84.858352009100003,85]
[87618,89.082603751999997,{"$f":"ROUND(B87619,0)","v":89}]
[87686,112.00180395,112]
[87715,105.63011077100001,106]
[87776,115.33987413600001,115]
[87811,97.087421675200005,97]
[87889,107.997323151,108]
[87908,93.705992588599997,94]
[87991,99.707517328199998,100]
[88014,122.48930720200001,122]
[88082,94.464554922000005,94]
[88111,107.72847310900001,108]
[88142,109.960783509,110]
[88207,97.465733374199999,97]
[88285,119.159249917,119]
[88304,97.847615994999998,98]
[88357,89.448931900800005,89]
[88410,78.998327216299998,79]
[88478,99.910272911899995,100]
[88507,107.531300004,108]
[88556,106.550733769,107]
[88603,98.566331982500003,99]
[88632,110.522076845,111]
[88700,102.30783973299999,102]
[88771,85.500060994400002,86]
[88806,106.698703374,107]
[88825,106.72716410300001,107]
[88903,118.18838256799999,118]
[88938,104.227774291,104]
[88999,111.163088571,111]
[89028,100.556907259,101]
[89096,77.996592662899999,78]
[89137,106.78389835199999,107]
[89202,124.074450992,124]
[89221,90.647403638399993,91]
[89299,119.05115398700001,119]
[89352,89.502288205799999,90]
[89395,108.245440594,108]
[89424,141.28585385299999,141]
[89492,88.299584924100003,88]
[89551,113.135861109,113]
[89588,96.946945784199997,97]
[89617,106.21748204799999,106]
[89695,88.453736523900005,88]
[89718,124.366896126,124]
[89791,92.451891947600004,92]
[89820,124.231171526,124]
[89888,98.208746152299994,98]
[89917,99.135369560200004,99]
[89984,104.659340687,105]
[90013,88.145684997000004,88]
[90091,100.729090501,101]
[90132,112.52407463599999,113]
[90187,128.43691234400001,128]
[90216,68.327584291299999,68]
[90284,116.851991125,117]
[90331,116.039649193,116]
[90380,105.57730374800001,106]
[90409,92.924818354400003,93]
[90438,82.268007281199999,82]
[90498,91.175702809599997,{"$f":"ROUND(B90499,0)","v":91}]
[90534,78.171059125100001,78]
[90602,74.219016048599997,74]
[90631,105.87658254900001,106]
[90697,88.236787137600004,88]
[90727,104.56127648099999,105]
[90805,121.64550628000001,122]
[90834,69.684284544799993,70]
[90912,115.751445557,116]
[90930,66.004265893899998,66]
[90998,103.16259389299999,103]
[91027,99.250156377300002,99]
[91111,99.973163705999994,100]
[91123,108.637754555,109]
[91201,94.474174419099995,94]
[91230,86.293874415800005,86]
[91278,111.892574521,112]
[91326,94.215741374299995,94]
[91394,127.73460734,{"$f":"ROUND(B91395,0)","v":128}]
[91423,104.778620191,105]
[91477,81.225009441300003,81]
[91519,72.142175886499999,72]
[91597,99.287713178499999,99]
[91616,119.751012018,120]
[91692,81.040867638199998,81]
[91722,102.137600853,102]
[91790,96.784640396399993,97]
[91819,130.69439678500001,131]
[91891,105.88641721499999,106]
[91915,93.992486454200005,94]
[91944,78.292919104899994,78]
[92012,90.727107271799994,91]
[92058,92.913285915299994,93]
[92118,92.915426975299994,93]
[92186,97.026830935899994,97]
[92215,87.277631328699997,87]
[92273,87.454952496299995,87]
[92311,69.777239742000006,70]
[92340,126.299351448,126]
[92408,107.28370576499999,107]
[92472,125.42785282,125]
[92514,86.843551658699994,87]
[92533,108.86542280499999,109]
[92611,91.465873823600006,91]
[92639,107.631373264,108]
[92707,79.675239620799999,80]
[92736,84.938765368999995,85]
[92804,96.355460042499999,96]
[92838,92.295059747500005,92]
[92910,98.479093528500002,98]
[92929,94.220466804400004,94]
[93007,83.640725630299997,84]
[93053,113.825047633,114]
[93103,87.877077825000001,88]
[93132,112.279320287,112]
[93200,122.82103070300001,123]
[93252,104.143649243,104]
[93296,90.283410954900006,90]
[93325,111.206047157,111]
[93403,100.414129433,100]
[93419,124.806005943,125]
[93499,96.690571149700006,97]
[93528,80.161820985199995,80]
[93596,99.218759979599994,99]
[93618,96.226531230000006,96]
[93692,91.110884135299997,91]
[93721,104.182016088,104]
[93750,89.073296561299998,89]
[93833,108.465402635,108]
[93846,99.817974532600005,100]
[93914,96.557192701800005,97]
[93943,79.546870293400005,80]
[94032,97.937381408099995,98]
[94088,105.083987878,105]
[94117,83.293107970299999,83]
[94146,80.631941563500007,{"$f":"ROUND(B94147,0)","v":81}]
[94199,92.956788674600006,93]
[94242,108.778715461,109]
[94310,91.209838071999997,91]
[94339,93.785343333399993,94]
[94398,103.209949146,103]
[94435,114.985988139,115]
[94513,104.79475950299999,105]
[94542,75.504599627199994,76]
[94613,130.33740322700001,130]
[94638,119.233924927,119]
[94706,100.83791029299999,101]
[94735,105.072419067,105]
[94812,87.697550569100002,88]
[94831,92.046812157999994,92]
[94909,104.596548007,105]
[94928,105.93372696199999,106]
[94979,101.15742203400001,101]
[95034,101.24327022999999,101]
[95102,152.27898779200001,152]
[95131,121.388781943,121]
[95178,113.886568145,114]
[95227,104.275762133,104]
[95305,65.445286517599996,65]
[95324,120.560502383,121]
[95393,94.172752566,94]
[95430,97.567009156599994,98]
[95498,111.23622278400001,111]
[95527,98.711242042899997,99]
[95592,92.670356296600005,93]
[95623,114.939653006,115]
[95652,83.979601996200003,84]
[95720,80.901899288099997,81]
[95759,116.557367587,117]
[95826,105.620306853,106]
[95845,116.916730868,117]
[95923,122.03800343899999,122]
[95974,109.609649948,110]
[96019,95.191810894200003,95]
[96048,104.04945272000001,104]
[96116,64.304404106199996,64]
[96173,121.61568290300001,122]
[96222,97.476871725999999,97]
[96241,117.791672525,118]
[96319,118.99258257,119]
[96340,116.535472223,117]
[96415,78.208051415400007,78]
[96444,89.266843007399999,89]
[96512,71.107228297899994,71]
[96539,100.05895504,100]
[96608,93.484669253199996,93]
[96637,96.039088828000004,96]
[96715,126.920778267,127]
[96754,92.411227062600005,92]
[96811,107.003847554,107]
[96840,104.24934758800001,104]
[96908,109.75968662,110]
[96953,83.995125313800003,84]
[97004,111.090530452,111]
[97033,114.383980976,114]
[97111,84.556711173400004,85]
[97120,106.37233320999999,106]
[97207,102.858019402,103]
[97236,107.997078313,108]
[97304,104.09760758500001,104]
[97319,101.473149679,101]
[97400,108.41149966499999,108]
[97429,123.409219128,123]
[97458,101.691332832,102]
[97534,94.520404467000006,95]
[97554,86.6116557462,87]
[97622,95.016384224199996,95]
[97651,111.466907621,111]
[97733,114.96900613,115]
[97747,105.51849126,106]
[97825,99.731307634800004,100]
[97854,103.514680662,104]
[97900,114.261918873,114]
[97950,116.914420256,117]
[98018,95.138040304300006,95]
[98047,123.24337679200001,123]
[98099,86.162734451700004,86]
[98143,101.751487967,102]
[98221,116.919962478,117]
[98240,98.657251523200003,99]
[98314,93.330166850400005,93]
[98346,86.356825500499994,86]
[98414,94.671522109500003,95]
[98443,98.651095325900002,99]
[98513,97.761119517400004,98]
[98539,122.47101697399999,122]
[98617,45.883921273699997,46]
[98636,114.3188878,114]
[98680,118.162161553,118]
[98742,69.966892509100006,70]
[98810,119.582710332,120]
[98839,102.64002566000001,103]
[98879,96.846989950600005,97]
[98935,119.828142697,120]
[98964,84.914286146199998,85]
[99032,84.852655156300003,85]
[99094,121.932728998,122]
[99138,88.130438291499999,{"$f":"ROUND(B99139,0)","v":88}]
[99206,79.188042328500003,79]
[99235,72.649020480999994,73]
[99261,98.489629633899995,98]
[99331,99.962385061199996,100]
[99360,114.063578361,114]
[99428,121.400765053,121]
[99457,94.785566894200002,95]
[99501,121.574834326,122]
[99502,103.165294307,103]
[99503,88.370100127900002,88]
[99504,92.946424541799999,93]
[99505,83.678332773899996,84]
[99506,120.518362309,121]
[99507,110.200004725,110]
[99508,74.972398083499996,75]
[99509,105.83825281999999,106]
[99510,77.739063257300003,78]
[99511,111.511187776,112]
[99512,103.85791557100001,104]
[99513,78.888513064999998,79]
[99514,109.63593084,110]
[99515,116.76738169399999,117]
[99516,99.277795674800004,99]
[99517,90.824541866600001,91]
[99518,101.919801593,102]
[99519,116.46645679700001,116]
[99520,102.22784072499999,102]
[99521,109.78213726600001,110]
[99522,91.108918534799997,{"$f":"ROUND(B99523,0)","v":91}]
[99523,90.578873398900001,91]
[99524,104.980595759,105]
[99525,79.388901107699994,79]
[99526,117.331551761,117]
[99527,101.124775766,101]
[99528,88.062309268099995,88]
[99529,99.7548872797,100]
[99530,97.828815108100002,98]
[99531,83.848490494200007,84]
[99532,105.439640371,105]
[99533,91.445992675699998,91]
[99534,71.626471772800002,72]
[99535,127.71685459,128]
[99536,73.104535884000001,73]
[99537,115.650790407,116]
[99538,90.874570243600004,91]
[99539,80.962472469399998,81]
[99540,79.8388772781,80]
[99541,107.425202524,107]
[99542,134.969017799,135]
[99543,119.371959636,119]
[99544,100.791385613,101]
[99545,123.70022953100001,124]
[99546,100.25855307400001,100]
[99547,67.422214736399994,67]
[99548,112.387528761,112]
[99549,94.949808654199998,95]
[99550,121.77870718299999,122]
[99551,94.4077547423,94]
[99552,86.382236813099993,86]
[99553,100.362593369,100]
[99554,110.297564112,110]
[99555,77.985621326200004,78]
[99556,98.7781222224,99]
[99557,104.888178307,105]
[99558,107.23990955799999,107]
[99559,98.547340413499995,99]
[99560,80.431824924599994,80]
[99561,112.109754302,112]
[99562,84.448884293299997,84]
[99563,99.115322761499996,99]
[99564,106.12010073499999,106]
[99565,93.379858596299997,93]
[99566,89.376545668399999,89]
[99567,90.066778136300002,90]
[99568,97.948037805300004,98]
[99569,98.795752262600004,99]
[99570,98.304393793700001,98]
[99571,108.564158492,109]
[99572,102.526279812,103]
[99573,102.970831726,103]
[99574,93.373729417299998,93]
[99575,100.815246624,101]
[99576,79.142777472399999,79]
[99577,97.092178836900004,97]
[99578,109.152972893,109]
[99579,102.594556344,103]
[99580,82.669178038599995,83]
[99581,104.449968748,104]
[99582,107.715582982,108]
[99583,93.638360838799997,94]
[99584,103.98513186300001,104]
[99585,106.67612835,107]
[99586,91.911446867099997,{"$f":"ROUND(B99587,0)","v":92}]
[99587,99.043201757700004,99]
[99588,70.015910040899996,70]
[99589,109.48336666199999,109]
[99590,91.478258651100006,91]
[99591,118.71499426299999,119]
[99592,92.577628767700006,93]
[99593,113.509102411,114]
[99594,97.122233274799996,97]
[99595,88.943916166500003,89]
[99596,102.219370885,102]
[99597,96.645202519799994,97]
[99598,72.117245843500001,72]
[99599,86.593700666800004,87]
[99600,101.338407311,101]
[99601,104.373447712,104]
[99602,80.704837489499994,81]
[99603,83.507355861099995,84]
[99604,101.970842925,102]
[99605,86.088260999499994,86]
[99606,95.882521186299996,96]
[99607,80.194075660500005,80]
[99608,70.502196185499997,71]
[99609,77.372057002600002,77]
[99610,73.524862530700005,74]
[99611,98.235279836499998,98]
[99612,111.13031189599999,111]
[99613,84.544554061400007,85]
[99614,98.884518391200004,99]
[99615,84.030599222899994,84]
[99616,65.014329650899995,65]
[99617,102.012222583,102]
[99618,106.147373167,106]
[99619,122.607789877,123]
[99620,93.596125531200002,94]
[99621,121.794398118,122]
[99622,94.506783995500001,95]
[99623,102.59998303099999,103]
[99624,76.833096746600006,77]
[99625,78.734072697900004,79]
[99626,97.882162060400006,98]
[99627,110.221634564,110]
[99628,102.553713929,103]
[99629,95.129341800700004,95]
[99630,92.923610073000006,93]
[99631,102.215771827,102]
[99632,103.36193999,103]
[99633,99.565382247100004,100]
[99634,94.409254505999996,94]
[99635,98.432096514099996,98]
[99636,96.343171375799997,96]
[99637,109.437562873,109]
[99638,85.7383344072,86]
[99639,100.90085458900001,101]
[99640,82.6253695037,83]
[99641,120.188653644,120]
[99642,112.326842907,112]
[99643,123.111472178,123]
[99644,118.61972438799999,119]
[99645,94.127819918499995,94]
[99646,96.278224120100006,96]
[99647,99.214969417600003,99]
[99648,98.871278597,99]
[99649,104.946655424,105]
[99650,106.709597184,{"$f":"ROUND(B99651,0)","v":107}]
[99651,130.28564491200001,130]
[99652,114.988189803,115]
[99653,103.938260937,104]
[99654,85.6357618495,86]
[99655,100.42694411700001,100]
[99656,97.506772282200004,98]
[99657,87.702636562099997,88]
[99658,101.53010760700001,102]
[99659,102.19751906099999,102]
[99660,101.05288382099999,101]
[99661,81.582964866200001,82]
[99662,102.52371671,103]
[99663,108.629537814,109]
[99664,97.426118729300001,97]
[99665,123.043749038,123]
[99666,90.353256083900007,90]
[99667,85.749482565400001,86]
[99668,108.83787351300001,109]
[99669,108.790831754,109]
[99670,104.145995985,104]
[99671,112.575042399,113]
[99672,93.307231468400005,93]
[99673,100.92957352800001,101]
[99674,84.026293730299997,84]
[99675,118.546847689,119]
[99676,104.36816414499999,104]
[99677,97.754220556000007,98]
[99678,67.037193462700003,67]
[99679,86.314232660900004,86]
[99680,117.896193823,118]
[99681,92.796109819099996,93]
[99682,82.050854634499998,82]
[99683,86.995814079400006,87]
[99684,111.414576096,111]
[99685,64.000522342799997,64]
[99686,87.382686744400004,87]
[99687,92.353169188199999,92]
[99688,95.080576562299996,95]
[99689,122.392189585,122]
[99690,105.718880181,106]
[99691,100.177146431,100]
[99692,83.246374985299994,83]
[99693,84.752603266700007,85]
[99694,73.675776693499998,74]
[99695,89.806161229899999,90]
[99696,92.596163863599998,93]
[99697,90.045733375200001,90]
[99698,97.262261917399996,97]
[99699,99.360572128800001,99]
[99700,93.797049819999998,94]
[99701,117.61871790799999,118]
[99702,88.502521068600004,89]
[99703,111.004104575,111]
[99704,84.835378107799997,85]
[99705,120.255402874,120]
[99706,109.568087417,110]
[99707,107.44756861,107]
[99708,83.489625453599999,83]
[99709,123.580090821,124]
[99710,127.79800785400001,128]
[99711,92.225985080300006,92]
[99712,69.390865740199999,69]
[99713,92.071101579599997,92]
[99714,113.25340534999999,{"$f":"ROUND(B99715,0)","v":113}]
[99715,116.591071437,117]
[99716,94.667463463800004,95]
[99717,124.550163758,125]
[99718,100.924802785,101]
[99719,66.137744565600002,66]
[99720,113.65117108299999,114]
[99721,93.060628833400003,93]
[99722,89.088957359899993,89]
[99723,103.31381589,103]
[99724,99.205603654300006,99]
[99725,82.122189265599999,82]
[99726,124.529229329,125]
[99727,93.722965443999996,94]
[99728,106.705576812,107]
[99729,96.316319668999995,96]
[99730,114.592045756,115]
[99731,104.83858401000001,105]
[99732,93.302524543499999,93]
[99733,92.276541208699996,92]
[99734,119.68831187399999,120]
[99735,85.959941746400006,86]
[99736,106.550481034,107]
[99737,113.611605055,114]
[99738,96.970376795999996,97]
[99739,100.656422975,101]
[99740,90.045504764200004,90]
[99741,75.166686100899994,75]
[99742,90.448852983799995,90]
[99743,121.478093497,121]
[99744,101.037579772,101]
[99745,94.141387727400001,94]
[99746,106.104030034,106]
[99747,85.821195586300007,86]
[99748,91.434210452100004,91]
[99749,108.642936619,109]
[99750,102.57325449699999,103]
[99751,82.456679745800002,82]
[99752,105.89506384000001,106]
[99753,123.981928557,124]
[99754,76.359531898499995,76]
[99755,114.014115723,114]
[99756,96.349102372499999,96]
[99757,76.331854442199997,76]
[99758,88.468917252699995,88]
[99759,124.219469953,124]
[99760,106.686744808,107]
[99761,104.27082606,104]
[99762,112.32434903799999,112]
[99763,77.053615915899996,77]
[99764,92.842003871599999,93]
[99765,103.721792247,104]
[99766,98.438595705400004,98]
[99767,116.626912382,117]
[99768,109.89746052700001,110]
[99769,124.04393509099999,124]
[99770,86.572637240299997,87]
[99771,102.750361786,103]
[99772,82.682818352799998,83]
[99773,107.354005958,107]
[99774,92.9429246487,93]
[99775,111.147801587,111]
[99776,90.486825048300005,90]
[99777,109.262808572,109]
[99778,104.265147648,{"$f":"ROUND(B99779,0)","v":104}]
[99779,98.081566428399995,98]
[99780,102.289474383,102]
[99781,106.465606529,106]
[99782,102.087381952,102]
[99783,105.323815001,105]
[99784,122.88858696,123]
[99785,119.894408766,120]
[99786,84.762151407700003,85]
[99787,95.737813961300006,96]
[99788,99.983455513999999,100]
[99789,85.938859074999996,86]
[99790,89.641095134799997,90]
[99791,87.679871069599997,88]
[99792,102.238275269,102]
[99793,95.9458188646,96]
[99794,91.891699964799997,92]
[99795,118.748546448,119]
[99796,107.935287305,108]
[99797,98.252065900399998,98]
[99798,86.848095446200006,87]
[99799,94.851588617900006,95]
[99800,101.540141046,102]
[99801,82.636506923100001,83]
[99802,124.084552578,124]
[99803,108.140611228,108]
[99804,85.033854764099999,85]
[99805,103.28528378599999,103]
[99806,90.495273846900005,90]
[99807,93.0080235999,93]
[99808,114.378845965,114]
[99809,116.00702418199999,116]
[99810,126.369916942,126]
[99811,101.91638650500001,102]
[99812,109.428381296,109]
[99813,89.654140899599994,90]
[99814,97.575260184699999,98]
[99815,114.791284397,115]
[99816,108.202485005,108]
[99817,92.121264773199997,92]
[99818,111.081993342,111]
[99819,103.962942716,104]
[99820,89.9440725101,90]
[99821,62.364347043999999,62]
[99822,93.232231744200007,93]
[99823,78.8303662884,79]
[99824,76.516916469700007,77]
[99825,95.109400844800007,95]
[99826,102.455344095,102]
[99827,98.844382664500003,99]
[99828,90.567169297800007,91]
[99829,112.899584248,113]
[99830,70.860527442899993,71]
[99831,97.140325906699999,97]
[99832,94.364143996300001,94]
[99833,120.051558263,120]
[99834,116.79622638399999,117]
[99835,144.13942158099999,144]
[99836,81.805319889299994,82]
[99837,125.391894158,125]
[99838,103.32820791100001,103]
[99839,90.049373712700003,90]
[99840,114.176843636,114]
[99841,98.0073378023,98]
[99842,101.86295228500001,{"$f":"ROUND(B99843,0)","v":102}]
[99843,90.532876236899995,91]
[99844,118.53420901200001,119]
[99845,112.607232403,113]
[99846,123.023246867,123]
[99847,103.496939727,103]
[99848,107.98214712399999,108]
[99849,73.438383403800003,73]
[99850,94.949717574499999,95]
[99851,90.669403628599994,91]
[99852,111.454844589,111]
[99853,144.77955759700001,145]
[99854,114.04939638499999,114]
[99855,100.132345988,100]
[99856,102.613069017,103]
[99857,99.954133831600004,100]
[99858,108.360919595,108]
[99859,106.27164486700001,106]
[99860,109.292872362,109]
[99861,98.580353931199994,99]
[99862,84.8589547909,85]
[99863,101.412557628,101]
[99864,116.046101831,116]
[99865,74.821385088599996,75]
[99866,92.039273119300006,92]
[99867,104.27987487999999,104]
[99868,106.475518314,106]
[99869,90.815459105200006,91]
[99870,121.22596367600001,121]
[99871,110.45652055399999,110]
[99872,108.804722287,109]
[99873,93.552401311599994,94]
[99874,110.816595861,111]
[99875,115.86816054800001,116]
[99876,77.409003359500005,77]
[99877,104.26582268999999,104]
[99878,83.293478666400006,83]
[99879,126.82545683799999,127]
[99880,114.588378199,115]
[99881,121.29637678100001,121]
[99882,110.83432884699999,111]
[99883,116.792645174,117]
[99884,139.16269959100001,139]
[99885,98.575505044899998,99]
[99886,91.906797494000003,92]
[99887,116.000198825,116]
[99888,127.681695401,128]
[99889,102.432951527,102]
[99890,82.442840126199997,82]
[99891,64.228722985299996,64]
[99892,108.923436309,109]
[99893,71.653007303999999,72]
[99894,82.540646342800002,83]
[99895,83.3269560353,83]
[99896,93.047842517199996,93]
[99897,118.845921375,119]
[99898,79.656511936300006,80]
[99899,116.38318467000001,116]
[99900,71.998920447200007,72]
[99901,90.613879166900006,91]
[99902,100.793582547,101]
[99903,95.091909258800001,95]
[99904,95.1232856349,95]
[99905,96.889554518099999,97]
[99906,99.931666203999995,{"$f":"ROUND(B99907,0)","v":100}]
[99907,98.861911362000001,99]
[99908,85.891927715199998,86]
[99909,93.294425481800005,93]
[99910,111.331664499,111]
[99911,99.435804957599998,99]
[99912,122.76432215600001,123]
[99913,84.713297626499994,85]
[99914,82.588851943899996,83]
[99915,119.122441028,119]
[99916,104.04362577800001,104]
[99917,110.434220377,110]
[99918,116.642429244,117]
[99919,84.808915654200007,85]
[99920,126.315453659,126]
[99921,94.933950938300001,95]
[99922,109.521085739,110]
[99923,93.847698836299998,94]
[99924,110.807232786,111]
[99925,99.589904998500003,100]
[99926,93.528311158600005,94]
[99927,88.314962420000001,88]
[99928,105.601936822,106]
[99929,99.366225096899996,99]
[99930,90.655334647399997,91]
[99931,91.197288758200003,91]
[99932,102.58267298,103]
[99933,107.903353141,108]
[99934,96.916631385200006,97]
[99935,116.10568771,116]
[99936,124.646741444,125]
[99937,102.82516802799999,103]
[99938,91.700646345099997,92]
[99939,112.064160508,112]
[99940,80.4120081242,80]
[99941,75.300207705899993,75]
[99942,94.602724741399996,95]
[99943,107.421559589,107]
[99944,120.688272658,121]
[99945,93.564580453000005,94]
[99946,143.62750628399999,144]
[99947,107.84253613600001,108]
[99948,120.47243312000001,120]
[99949,108.76481638999999,109]
[99950,67.295699962599997,67]
[99951,100.745039996,101]
[99952,133.80794561499999,134]
[99953,90.720786973900005,91]
[99954,78.764739077900003,79]
[99955,122.98483336699999,123]
[99956,71.200483733400006,71]
[99957,95.715176495099996,96]
[99958,99.307535568099993,99]
[99959,59.4651805811,59]
[99960,119.91060058799999,120]
[99961,72.601282446300004,73]
[99962,130.19969609200001,130]
[99963,120.91879809,121]
[99964,117.691333582,118]
[99965,99.602454300100007,100]
[99966,103.322930394,103]
[99967,78.153241894999994,78]
[99968,97.552511486599997,98]
[99969,88.835379282600002,89]
[99970,113.80148742999999,{"$f":"ROUND(B99971,0)","v":114}]
[99971,110.43877476199999,110]
[99972,100.90754519799999,101]
[99973,111.793903336,112]
[99974,108.31498580900001,108]
[99975,102.53895938700001,103]
[99976,118.362229095,118]
[99977,110.095692273,110]
[99978,98.056628178599993,98]
[99979,115.148506459,115]
[99980,103.43889504800001,103]
[99981,79.393094262999995,79]
[99982,89.906768340599996,90]
[99983,99.241111061699996,99]
[99984,119.65478116,120]
[99985,86.254259020800006,86]
[99986,78.612315165200002,79]
[99987,86.814255810899994,87]
[99988,83.199096277400002,83]
[99989,99.451193717300001,99]
[99990,98.062647738400003,98]
[99991,73.654212803700005,74]
[99992,112.524374315,113]
[99993,97.778395894100001,98]
[99994,75.732879641799997,76]
[99995,91.641776106899997,92]
[99996,105.21144934199999,105]
[99997,109.67115326299999,110]
[99998,107.384204158,107]
[99999,103.290856979,103]
[100000,101.48729244899999,101]

{"sheet":"2_Sample","index":1,"n_rows":3,"n_cols":3,"rows_kept":3,"cut":false,"hidden":false,"merged":[]}
["ser","Iqscore","IQ"]
[23275,100.07705721799999,{"$f":"ROUND(B2,0)","v":100}]
[88567,109.037883701,109]

{"sheet":"2_Means","index":2,"n_rows":101,"n_cols":8,"rows_kept":101,"cut":false,"hidden":false,"merged":[]}
["Mean","Means"]
[{"$f":"AVERAGE('2_Sample'!C:C)","v":104.5},126,{"$f":"AVERAGE(B:B)","v":100.41},"mean"]
[null,114.5,{"$f":"MAX(B:B)","v":126},"max"]
[null,103.5,{"$f":"MIN(B:B)","v":74.5},"min"]
[null,125.5,{"$f":"C3-C4","v":51.5},"range"]
[null,104,{"$f":"STDEV(B:B)","v":11.048876719724779},"SD"]
[null,106.5,{"$f":"VAR(B:B)","v":122.07767676767621},"variance"]
[null,95.5]
[null,102.5]
[null,83.5]
[null,105,"mean",{"$f":"B101","v":104.5},null,{"$f":"$G$11-$D$13","v":100},{"$f":"D11","v":104.5},{"$f":"$G$11+$D$13","v":109}]
[null,96,"sd",{"$f":"STDEV('2_Sample'!C:C)","v":6.3639610306789276},null,{"$f":"$G$11-(2*$D$13)","v":95.5},null,{"$f":"$G$11+(2*$D$13)","v":113.5}]
[null,99.5,"se",{"$f":"D12/(SQRT(2))","v":4.5},null,{"$f":"$G$11-(3*$D$13)","v":91},null,{"$f":"$G$11+(3*$D$13)","v":118}]
[null,111]
[null,97.5]
[null,94]
[null,100]
[null,114.5]
[null,113]
[null,117]
[null,107.5]
[null,107.5]
[null,105.5]
[null,90.5]
[null,84]
[null,74.5]
[null,98.5]
[null,94.5]
[null,125]
[null,94]
[null,115]
[null,103.5]
[null,102.5]
[null,99]
[null,105.5]
[null,99.5]
[null,84.5]
[null,78.5]
[null,100.5]
[null,102]
[null,85]
[null,88.5]
[null,86.5]
[null,108]
[null,91.5]
[null,95]
[null,96]
[null,90]
[null,90]
[null,92.5]
[null,97.5]
[null,109.5]
[null,102]
[null,107.5]
[null,94]
[null,105.5]
[null,103]
[null,90.5]
[null,107]
[null,103]
[null,108]
[null,87.5]
[null,109.5]
[null,115.5]
[null,89]
[null,81]
[null,76.5]
[null,91.5]
[null,106]
[null,97.5]
[null,101]
[null,105]
[null,111]
[null,104]
[null,99]
[null,83]
[null,109]
[null,112.5]
[null,98]
[null,93]
[null,94.5]
[null,113.5]
[null,115]
[null,123.5]
[null,110]
[null,104.5]
[null,98.5]
[null,80.5]
[null,89.5]
[null,118]
[null,99]
[null,112]
[null,102]
[null,105]
[null,90.5]
[null,78]
[null,103.5]
[null,99]
[null,98]
[null,101]
[null,104.5]

{"sheet":"4_Sample","index":3,"n_rows":5,"n_cols":3,"rows_kept":5,"cut":false,"hidden":false,"merged":[]}
["ser","Iqscore","IQ"]
[3481,102.351903888,{"$f":"ROUND(B2,0)","v":102}]
[66785,78.315497361799999,78]
[93468,91.924554231900004,92]
[57382,86.280951741799996,86]

{"sheet":"4_Means","index":4,"n_rows":101,"n_cols":8,"rows_kept":101,"cut":false,"hidden":false,"merged":[]}
["Mean","Means"]
[{"$f":"AVERAGE('4_Sample'!C:C)","v":89.5},107.75,{"$f":"AVERAGE(B:B)","v":99.767499999999998},"mean"]
[null,100.25,{"$f":"MAX(B:B)","v":122.75},"max"]
[null,99.75,{"$f":"MIN(B:B)","v":78.75},"min"]
[null,94.5,{"$f":"C3-C4","v":44},"range"]
[null,98.5,{"$f":"STDEV(B:B)","v":8.5290838584601989},"SD"]
[null,91.25,{"$f":"VAR(B:B)","v":72.745271464646322},"variance"]
[null,108.5]
[null,108.25]
[null,104.5]
[null,108.5,"mean",{"$f":"B101","v":89.5},null,{"$f":"$G$11-$D$13","v":84.442003031502168},{"$f":"D11","v":89.5},{"$f":"$G$11+$D$13","v":94.557996968497832}]
[null,94.25,"sd",{"$f":"STDEV('4_Sample'!C:C)","v":10.115993936995679},null,{"$f":"$G$11-(2*$D$13)","v":79.384006063004321},null,{"$f":"$G$11+(2*$D$13)","v":99.615993936995679}]
[null,106.75,"se",{"$f":"D12/(SQRT(COUNT('4_Sample'!B:B)))","v":5.0579969684978394},null,{"$f":"$G$11-(3*$D$13)","v":74.326009094506475},null,{"$f":"$G$11+(3*$D$13)","v":104.67399090549353}]
[null,105.5]
[null,95.5]
[null,99]
[null,106]
[null,99.5]
[null,89.75]
[null,91.75]
[null,88]
[null,108]
[null,104.5]
[null,114.25]
[null,109.75]
[null,78.75]
[null,97.5]
[null,92]
[null,111.5]
[null,97]
[null,91]
[null,94.5]
[null,103.25]
[null,106.25]
[null,94.75]
[null,111]
[null,91.5]
[null,94]
[null,95]
[null,101.75]
[null,93.5]
[null,102]
[null,84.75]
[null,106]
[null,104.25]
[null,107.5]
[null,102.25]
[null,104.5]
[null,93]
[null,118.25]
[null,102.25]
[null,86]
[null,100]
[null,105.75]
[null,105.5]
[null,103]
[null,121.25]
[null,100]
[null,110.75]
[null,102.5]
[null,122.75]
[null,81.25]
[null,99.75]
[null,109.5]
[null,101]
[null,93.25]
[null,102]
[null,89]
[null,102.5]
[null,86.25]
[null,95]
[null,115.25]
[null,99.75]
[null,109.25]
[null,100.5]
[null,92]
[null,107]
[null,101.25]
[null,108]
[null,94.75]
[null,109.75]
[null,94.75]
[null,97.75]
[null,93.5]
[null,96]
[null,86]
[null,83.75]
[null,100.25]
[null,98]
[null,103.25]
[null,90.5]
[null,96.5]
[null,93.5]
[null,93]
[null,95.25]
[null,115]
[null,93.25]
[null,93]
[null,98]
[null,99.25]
[null,89.5]

{"sheet":"16_Sample","index":5,"n_rows":17,"n_cols":3,"rows_kept":17,"cut":false,"hidden":false,"merged":[]}
["ser","Iqscore","IQ"]
[84097,105.029739612,{"$f":"ROUND(B2,0)","v":105}]
[65585,110.9530676,111]
[119,109.483711993,109]
[53273,108.550052921,109]
[42292,106.430597683,106]
[73545,121.36413153700001,121]
[53609,136.32040526099999,136]
[85699,107.725450302,108]
[91329,88.642726671899993,89]
[12493,75.983513995099997,76]
[3584,108.46242441299999,108]
[60311,86.208722952000002,86]
[18885,86.649066813199994,87]
[651,79.890640340800005,80]
[51637,108.25633182200001,108]
[3580,93.695426559400005,94]

{"sheet":"16_Means","index":6,"n_rows":101,"n_cols":8,"rows_kept":101,"cut":false,"hidden":false,"merged":[]}
["Mean","Means","Gmean"]
[{"$f":"AVERAGE('16_Sample'!C:C)","v":102.0625},100.6875,{"$f":"AVERAGE(B:B)","v":100.03937500000001},"mean"]
[null,100.5625,{"$f":"MAX(B:B)","v":108.375},"max"]
[null,96.0625,{"$f":"MIN(B:B)","v":91.375},"min"]
[null,97.25,{"$f":"C3-C4","v":17},"range"]
[null,97.4375,{"$f":"STDEV(B:B)","v":3.5430106073098617},"SD"]
[null,97.5,{"$f":"VAR(B:B)","v":12.552924163510195},"variance"]
[null,98.9375]
[null,100.3125]
[null,95.375]
[null,95.875,"mean",{"$f":"B101","v":102.0625},null,{"$f":"$G$11-$D$13","v":98.134535355301679},{"$f":"D11","v":102.0625},{"$f":"$G$11+$D$13","v":105.99046464469832}]
[null,106.8125,"sd",{"$f":"STDEV('16_Sample'!C:C)","v":15.711858578793281},null,{"$f":"$G$11-(2*$D$13)","v":94.206570710603359},null,{"$f":"$G$11+(2*$D$13)","v":109.91842928939664}]
[null,99.9375,"se",{"$f":"D12/(SQRT(COUNT('16_Sample'!B:B)))","v":3.9279646446983203},null,{"$f":"$G$11-(3*$D$13)","v":90.278606065905038},null,{"$f":"$G$11+(3*$D$13)","v":113.84639393409496}]
[null,95.5625]
[null,100.3125]
[null,97.875]
[null,101.4375]
[null,103.4375]
[null,99.3125]
[null,103.25]
[null,94.5625]
[null,91.375]
[null,104.375]
[null,102.125]
[null,107.1875]
[null,100.75]
[null,100.625]
[null,102.9375]
[null,95.375]
[null,108.375]
[null,98.75]
[null,100.375]
[null,97.625]
[null,101.375]
[null,99.5625]
[null,99.25]
[null,96.9375]
[null,107.25]
[null,96.25]
[null,95.3125]
[null,99.1875]
[null,96.1875]
[null,101.9375]
[null,99.9375]
[null,99.625]
[null,103]
[null,96.375]
[null,104.375]
[null,98.4375]
[null,100.1875]
[null,106.375]
[null,104.4375]
[null,101.125]
[null,100.6875]
[null,102.5]
[null,104.25]
[null,93.1875]
[null,99.0625]
[null,100.875]
[null,103.4375]
[null,100]
[null,92.5625]
[null,107.625]
[null,103.125]
[null,100.625]
[null,101.5625]
[null,95.4375]
[null,100.9375]
[null,99.625]
[null,98.9375]
[null,92.9375]
[null,101.625]
[null,100.75]
[null,97.5]
[null,100.625]
[null,96.625]
[null,100.5625]
[null,103.8125]
[null,98.5625]
[null,103.5625]
[null,101.3125]
[null,96.375]
[null,99.75]
[null,100.0625]
[null,93.75]
[null,102.125]
[null,98]
[null,97]
[null,96.5]
[null,101.4375]
[null,100.25]
[null,99.0625]
[null,103.25]
[null,105.9375]
[null,103]
[null,96.125]
[null,97.8125]
[null,106.8125]
[null,99.4375]
[null,103.375]
[null,102.0625]

{"sheet":"25_Sample","index":7,"n_rows":26,"n_cols":3,"rows_kept":26,"cut":false,"hidden":false,"merged":[]}
["ser","Iqscore","IQ"]
[80881,105.37116074399999,{"$f":"ROUND(B2,0)","v":105}]
[31687,72.175564194900005,72]
[38709,94.718615075800003,95]
[8066,109.31949066999999,109]
[22476,93.4371629547,93]
[30558,123.10991419299999,123]
[96124,78.096678026000006,78]
[98738,110.27787667299999,110]
[86714,109.06343273900001,109]
[54079,86.911916485399999,87]
[1855,98.5249750702,99]
[77662,86.040457223100006,86]
[86589,95.908760526500004,96]
[69516,111.10137228799999,111]
[35354,85.482681115199995,85]
[62738,127.45567086200001,127]
[99647,99.214969417600003,99]
[50484,100.461748693,100]
[57025,119.108179006,119]
[28997,127.576624783,128]
[32046,86.31816662,86]
[84757,116.319879813,116]
[84796,100.377123595,100]
[78911,91.788263880900004,92]
[7620,88.988563477499994,89]

{"sheet":"25_Means","index":8,"n_rows":101,"n_cols":8,"rows_kept":101,"cut":false,"hidden":false,"merged":[]}
["Mean","Means"]
[{"$f":"AVERAGE('25_Sample'!C:C)","v":100.56},101.4,{"$f":"AVERAGE(B:B)","v":100.39960000000001},"mean"]
[null,97.08,{"$f":"MAX(B:B)","v":109.96},"max"]
[null,95.8,{"$f":"MIN(B:B)","v":92.28},"min"]
[null,102.16,{"$f":"C3-C4","v":17.679999999999993},"range"]
[null,97.76,{"$f":"STDEV(B:B)","v":3.7329328573079446},"SD"]
[null,99.16,{"$f":"VAR(B:B)","v":13.934787717169254},"variance"]
[null,102.76]
[null,99.8]
[null,99.36]
[null,107.4,"mean",{"$f":"B101","v":100.56},null,{"$f":"$G$11-$D$13","v":97.562734579654318},{"$f":"D11","v":100.56},{"$f":"$G$11+$D$13","v":103.55726542034569}]
[null,99.52,"sd",{"$f":"STDEV('25_Sample'!C:C)","v":14.986327101728433},null,{"$f":"$G$11-(2*$D$13)","v":94.565469159308634},null,{"$f":"$G$11+(2*$D$13)","v":106.55453084069137}]
[null,103.52,"se",{"$f":"D12/(SQRT(COUNT('25_Sample'!B:B)))","v":2.9972654203456868},null,{"$f":"$G$11-(3*$D$13)","v":91.56820373896295},null,{"$f":"$G$11+(3*$D$13)","v":109.55179626103705}]
[null,99.68]
[null,99.36]
[null,95.96]
[null,97.76]
[null,97.08]
[null,101.24]
[null,97.48]
[null,102.64]
[null,100.2]
[null,100.28]
[null,96.12]
[null,97.52]
[null,106.24]
[null,97.32]
[null,101.2]
[null,93.92]
[null,103]
[null,102.72]
[null,95]
[null,99.36]
[null,105.44]
[null,101.24]
[null,107.72]
[null,103.16]
[null,104.12]
[null,98.56]
[null,100.44]
[null,98.12]
[null,104.28]
[null,98.68]
[null,101.52]
[null,101.32]
[null,94.16]
[null,104.56]
[null,98]
[null,97.64]
[null,106.44]
[null,107.48]
[null,100.12]
[null,97.04]
[null,100.8]
[null,94.56]
[null,104.8]
[null,105.44]
[null,99.72]
[null,104.12]
[null,99.32]
[null,99.32]
[null,97.92]
[null,101.8]
[null,99.52]
[null,103.12]
[null,106.56]
[null,92.6]
[null,102.44]
[null,105.16]
[null,101.4]
[null,104.96]
[null,97.84]
[null,103.32]
[null,101.4]
[null,96.24]
[null,100.8]
[null,101]
[null,103.56]
[null,102.76]
[null,100.12]
[null,109.96]
[null,104.28]
[null,102.88]
[null,100.6]
[null,99.48]
[null,92.52]
[null,102.36]
[null,96.12]
[null,98.4]
[null,94.72]
[null,101.4]
[null,104.28]
[null,92.52]
[null,95.76]
[null,105.4]
[null,92.28]
[null,95.44]
[null,101.72]
[null,99.12]
[null,99.72]
[null,100.56]

{"sheet":"100_Sample","index":9,"n_rows":101,"n_cols":3,"rows_kept":101,"cut":false,"hidden":false,"merged":[]}
["ser","Iqscore","IQ"]
[75826,114.722628679,{"$f":"ROUND(B2,0)","v":115}]
[88679,96.416738354000003,96]
[73501,103.398816696,103]
[92638,93.330942324000006,93]
[83169,84.4532339597,84]
[61498,123.47110248200001,123]
[95498,111.23622278400001,111]
[30285,100.284887467,100]
[84317,136.625511639,137]
[40792,85.792221075300006,86]
[34399,76.111408073999996,76]
[8234,78.0391602065,78]
[91509,88.748903314499998,89]
[21098,107.723618128,108]
[12843,111.443957447,111]
[39823,116.875913619,117]
[20984,104.33966673499999,104]
[84941,88.822163735100006,89]
[89501,95.374128900000002,95]
[30283,64.408496252099994,64]
[13302,84.151224270599997,84]
[41898,105.013966573,105]
[41895,118.65526376699999,119]
[28300,104.22055081400001,104]
[78649,75.980225586900005,76]
[92660,110.905325944,111]
[74206,82.021048776399994,82]
[2583,93.356470680699999,93]
[67153,92.911531945500002,93]
[18090,130.362009247,130]
[50087,107.101881652,107]
[43421,103.526888344,104]
[64196,126.227450789,126]
[93294,103.08047312399999,103]
[50478,118.000708941,118]
[89247,99.179732533099994,99]
[10727,93.776289853899996,94]
[26675,105.21551830600001,105]
[56414,63.029902177700002,63]
[78202,99.236504035500005,99]
[48573,102.87998534800001,103]
[24001,112.75275695800001,113]
[56841,112.28725369999999,112]
[24697,116.069830555,116]
[90753,108.727446473,109]
[77467,90.151961155099997,90]
[81430,118.02322965099999,118]
[20974,104.504701281,105]
[16789,64.272543086599995,64]
[79753,77.643977697599993,78]
[58385,92.809679346500005,93]
[63671,91.866709881000006,92]
[93021,102.987722011,103]
[63093,105.684357006,106]
[97257,114.18694514000001,114]
[5380,98.5627658131,99]
[17917,91.015474506999993,91]
[63332,126.422175674,126]
[96758,113.142736602,113]
[31216,95.445987102900006,95]
[92386,131.465842366,131]
[8993,90.463134212,90]
[77574,109.57285935900001,110]
[60375,109.90034688199999,110]
[15091,98.347571899499997,{"$f":"ROUND(B66,0)","v":98}]
[35335,124.379517312,124]
[40175,109.683665377,110]
[72696,113.370267287,113]
[2763,123.80310909799999,124]
[23419,135.96746898200001,136]
[47627,80.256479931000001,80]
[60226,117.172613115,117]
[35509,109.739949301,110]
[64169,109.617988109,110]
[33409,108.841404872,109]
[3782,108.260792306,108]
[27131,109.36010591500001,109]
[47435,99.571223325199995,100]
[34222,91.262534641200006,91]
[74513,91.777942468399999,92]
[20431,105.05772119300001,105]
[76055,86.208785525699994,86]
[47801,85.630381885600002,86]
[60462,86.648829536099996,87]
[7530,106.76678920000001,107]
[4918,119.966551954,120]
[15728,75.125899786100007,75]
[18129,97.327039413799994,97]
[75178,75.941821202400007,76]
[5026,105.008618376,105]
[31248,109.060249215,109]
[49034,97.677881073400002,98]
[75065,86.480950585599999,86]
[52557,94.394437109400002,94]
[72077,89.911725888500001,90]
[1279,90.375102145900001,90]
[19136,116.376276379,116]
[42928,125.692379749,126]
[58216,87.172841995400006,87]
[96110,117.214953889,117]

{"sheet":"100_Means","index":10,"n_rows":101,"n_cols":8,"rows_kept":101,"cut":false,"hidden":false,"merged":[]}
["Mean","Means"]
[{"$f":"AVERAGE('100_Sample'!C:C)","v":101.63},98.7,{"$f":"AVERAGE(B:B)","v":100.221},"mean"]
[null,102.13,{"$f":"MAX(B:B)","v":103.63},"max"]
[null,101.79,{"$f":"MIN(B:B)","v":96.79},"min"]
[null,100.47,{"$f":"C3-C4","v":6.8399999999999892},"range"]
[null,99.52,{"$f":"STDEV(B:B)","v":1.4981028406653134},"SD"]
[null,100.55,{"$f":"VAR(B:B)","v":2.2443121212094814},"variance"]
[null,99.25]
[null,97.48]
[null,101]
[null,100.78,"mean",{"$f":"B101","v":101.63},null,{"$f":"$G$11-$D$13","v":100.05965261515456},{"$f":"D11","v":101.63},{"$f":"$G$11+$D$13","v":103.20034738484543}]
[null,100.2,"sd",{"$f":"STDEV('100_Sample'!C:C)","v":15.703473848454408},null,{"$f":"$G$11-(2*$D$13)","v":98.489305230309114},null,{"$f":"$G$11+(2*$D$13)","v":104.77069476969088}]
[null,99.59,"se",{"$f":"D12/(SQRT(COUNT('100_Sample'!B:B)))","v":1.5703473848454408},null,{"$f":"$G$11-(3*$D$13)","v":96.918957845463666},null,{"$f":"$G$11+(3*$D$13)","v":106.34104215453632}]
[null,102.89]
[null,102.08]
[null,102.47]
[null,100.64]
[null,99.96]
[null,99.34]
[null,100.48]
[null,99.68]
[null,99.56]
[null,97.49]
[null,100.95]
[null,102.22]
[null,99.08]
[null,99.46]
[null,100.92]
[null,101.46]
[null,98.86]
[null,98.51]
[null,100.87]
[null,101.72]
[null,99.39]
[null,96.79]
[null,97.75]
[null,98.19]
[null,101]
[null,101.12]
[null,99.21]
[null,100.22]
[null,99.82]
[null,102.06]
[null,100.38]
[null,96.93]
[null,100.57]
[null,100.81]
[null,100.16]
[null,103.26]
[null,102.51]
[null,100.4]
[null,100.63]
[null,100.33]
[null,99]
[null,97.58]
[null,102.38]
[null,100.21]
[null,101.8]
[null,103.63]
[null,99.85]
[null,99.36]
[null,99.83]
[null,98.55]
[null,99.47]
[null,100.03]
[null,101.14]
[null,100.55]
[null,101.65]
[null,99.45]
[null,101.03]
[null,102.06]
[null,103.43]
[null,100.49]
[null,100.72]
[null,100.83]
[null,101.63]
[null,99.04]
[null,99.31]
[null,97.58]
[null,99.5]
[null,98.61]
[null,99.16]
[null,98.33]
[null,100.28]
[null,103.52]
[null,99.71]
[null,99.25]
[null,100.43]
[null,101.65]
[null,102.03]
[null,98.48]
[null,98.34]
[null,98.42]
[null,98.9]
[null,101.59]
[null,99.11]
[null,99.58]
[null,99.72]
[null,102.06]
[null,99.57]
[null,101.63]

{"sheet":"400_Sample","index":11,"n_rows":401,"n_cols":3,"rows_kept":401,"cut":false,"hidden":false,"merged":[]}
["ser","Iqscore","IQ"]
[62887,102.48546114200001,{"$f":"ROUND(B2,0)","v":102}]
[19414,76.7380773,77]
[30540,114.45390520799999,114]
[98791,77.125435503600002,77]
[57898,77.566046241199999,78]
[82744,117.610791206,118]
[20458,105.667698298,106]
[14317,103.538594809,104]
[80486,90.319356630200005,90]
[32486,96.030837446500001,96]
[43716,74.967172125199994,75]
[52086,110.09077136000001,110]
[69547,107.104854123,107]
[83198,91.386021899100001,91]
[62894,112.49583302800001,112]
[5610,109.73483921899999,110]
[796,109.748604145,110]
[38986,83.148564737100003,83]
[71920,102.707508512,103]
[74358,94.832588180900004,95]
[32077,86.084073706200002,86]
[57573,89.970221221000003,90]
[3880,97.347453141499997,97]
[40319,85.270967387900001,85]
[73672,91.460449471299995,91]
[39354,84.349028112400006,84]
[63834,96.951312655799995,97]
[69563,96.393714173800007,96]
[83621,102.843460131,103]
[41465,89.262283331999996,89]
[86628,73.415600039200001,73]
[38805,103.086963678,103]
[88028,115.189365509,115]
[16841,109.686857961,110]
[19703,99.843833549600006,100]
[86968,110.268055355,110]
[26378,69.928727914999996,70]
[78282,105.420675442,105]
[30912,111.252860402,111]
[91742,87.199429011099994,87]
[21844,115.859955019,116]
[87513,115.630789386,116]
[41332,86.862537060799994,87]
[71152,120.687954921,121]
[76607,69.204063519100004,69]
[69245,94.739010601100006,95]
[83072,107.22409586800001,107]
[10116,109.501068664,110]
[92161,109.04650263800001,109]
[50245,100.780830525,101]
[82091,102.186760475,102]
[12010,66.359533222799996,66]
[14631,93.217406122400007,93]
[23387,123.209702885,123]
[66007,95.505896494699996,96]
[75227,91.272619328900007,91]
[5082,75.967762700600005,76]
[36727,95.545512078100003,96]
[96912,114.59139882700001,115]
[94745,79.748802204100002,80]
[34833,122.94033978,123]
[7554,106.74291347,107]
[29181,106.410853182,106]
[88685,104.40427948999999,104]
[5772,83.643279167900005,{"$f":"ROUND(B66,0)","v":84}]
[61461,93.922292498900006,94]
[92288,93.700177554000007,94]
[49875,108.836479016,109]
[95663,81.706782284599996,82]
[96404,102.777956823,103]
[98618,73.386674166099993,73]
[22414,94.4802183762,94]
[28462,50.620938853200002,51]
[71763,106.934916372,107]
[76277,93.366629362599994,93]
[3231,143.389214168,143]
[69629,90.519249551100003,91]
[22407,103.73136452599999,104]
[26907,104.71342431799999,105]
[68651,100.56205787099999,101]
[46440,115.165277352,115]
[97758,123.195459271,123]
[8497,74.214876357700007,74]
[25955,107.231583981,107]
[93303,104.46512076899999,104]
[25847,92.961147666900004,93]
[43198,109.858671086,110]
[89944,84.362727131400007,84]
[22062,104.805003785,105]
[2386,102.72472073599999,103]
[50131,101.58043464399999,102]
[84502,121.155320743,121]
[17320,110.781501812,111]
[4820,107.78918441099999,108]
[3204,103.176561316,103]
[69155,83.823261153900006,84]
[56744,91.810512937400006,92]
[31399,113.208193471,113]
[13922,100.750036873,101]
[90639,100.753349761,101]
[56379,106.46780886000001,106]
[65233,99.417170623100006,99]
[39200,122.435364546,122]
[59458,81.026298931900001,81]
[40962,76.827214174299996,77]
[63361,76.861134528299999,77]
[14176,105.83683957300001,106]
[51447,96.974627494200007,97]
[39237,111.71985906,112]
[70808,83.578201495000002,84]
[10024,68.295516194100003,68]
[34338,105.61943193800001,106]
[4260,112.237653571,112]
[59651,88.6109901106,89]
[16764,96.898293864699994,97]
[19319,83.075151940300003,83]
[58718,94.694688886400002,95]
[93078,92.001533294799998,92]
[51077,102.53397171500001,103]
[37596,122.885635502,123]
[65240,132.266556675,132]
[14456,98.396858222899994,98]
[89116,94.956980153499998,95]
[41959,130.27744460400001,130]
[21707,91.376170372700003,91]
[61388,107.07779490199999,107]
[24321,90.050002175900005,90]
[33341,115.037625101,115]
[81568,84.558241562899994,{"$f":"ROUND(B130,0)","v":85}]
[4778,106.706347635,107]
[50228,82.4831384684,82]
[12385,95.049871574099996,95]
[99150,85.4992765418,85]
[12896,113.58502394600001,114]
[68282,128.20075100099999,128]
[55999,108.499204503,108]
[99972,100.90754519799999,101]
[40434,115.301576985,115]
[20654,108.609250457,109]
[18927,121.543689195,122]
[76057,74.686849529300005,75]
[42574,104.566183903,105]
[48048,95.807945255000007,96]
[60305,120.146169477,120]
[6245,113.004988286,113]
[14048,140.39704197399999,140]
[72516,92.775718434300003,93]
[95227,104.275762133,104]
[1502,99.534939532199999,100]
[53204,99.010619163000001,99]
[5269,100.806156456,101]
[71307,71.508983516000001,72]
[75238,98.453990489399999,98]
[51062,118.216943292,118]
[79494,99.428493618100006,99]
[70241,60.528157282899997,61]
[38617,97.245372161399999,97]
[5382,107.977393314,108]
[8159,114.192914812,114]
[34369,81.055149135999997,81]
[20869,113.67590531099999,114]
[59726,128.31090843300001,128]
[66832,119.726207703,120]
[18237,115.71757177800001,116]
[14602,79.569044334400004,80]
[67517,114.14109095000001,114]
[1491,86.263641359600001,86]
[65162,115.715407673,116]
[46116,100.885473245,101]
[81105,100.551225253,101]
[61337,94.4179982518,94]
[8793,113.214578426,113]
[70715,90.834913873800005,91]
[65828,73.490657519099997,73]
[56605,92.743276376200001,93]
[99674,84.026293730299997,84]
[93019,149.908123351,150]
[39076,88.568349963299994,89]
[41378,67.7949881248,68]
[56804,100.907809481,101]
[12278,86.094644740500001,86]
[34350,82.545732682500002,83]
[21400,83.7845382908,84]
[44203,110.85874643299999,111]
[92683,109.514295277,110]
[90329,118.313590283,118]
[86887,87.196676451200005,87]
[72474,95.069032903099995,95]
[58678,103.410056861,103]
[64928,87.784886061700007,88]
[70341,119.17394950400001,119]
[25361,89.358957873799994,89]
[15273,87.628337110999993,{"$f":"ROUND(B194,0)","v":88}]
[74365,72.491015513299999,72]
[29359,96.446311099300004,96]
[11320,93.120533598400002,93]
[93360,84.996266036199998,85]
[57220,97.433108551900006,97]
[54451,85.298870162599997,85]
[40072,110.14283508600001,110]
[20018,86.865949048499999,87]
[63499,104.952841048,105]
[1848,103.99638281999999,104]
[24173,124.430619101,124]
[13834,92.712621138900005,93]
[68697,69.407083064999995,69]
[51319,116.818696086,117]
[5572,95.819359452100002,96]
[5209,83.271798330899998,83]
[12858,109.43625172199999,109]
[88976,106.146936802,106]
[7175,91.4330735156,91]
[81673,89.335053938800002,89]
[64642,92.486706448500001,92]
[15095,117.402400008,117]
[9409,89.241543003399997,89]
[58199,114.387125772,114]
[10382,82.740138076600005,83]
[76923,95.098954048699994,95]
[51781,123.580100552,124]
[72512,115.525504298,116]
[68151,75.906944060599997,76]
[26492,106.352401102,106]
[59445,89.5734002839,90]
[5405,93.192277751600002,93]
[26822,93.532887345600003,94]
[3433,104.37860556,104]
[94760,103.509027046,104]
[26048,113.841940401,114]
[10132,102.359723856,102]
[42786,77.532959185199999,78]
[33854,105.59744777500001,106]
[62304,88.408959584499996,88]
[65743,109.967298226,110]
[7814,87.965504841500007,88]
[68190,108.31942445,108]
[96040,102.16018231699999,102]
[79305,103.950710204,104]
[47815,107.137655051,107]
[31123,103.755927517,104]
[83439,125.581368174,126]
[13521,89.185184756200002,89]
[80934,117.326820852,117]
[49465,93.451839120499997,93]
[311,114.734448089,115]
[72205,124.109084736,124]
[1978,92.061606631399997,92]
[20049,127.198230978,127]
[12411,122.03760798499999,122]
[89346,127.017096933,127]
[15225,110.89276455,111]
[11289,96.608669601900004,97]
[70746,115.296066074,115]
[43175,126.869883746,127]
[92239,83.2812215135,83]
[89745,102.06070282500001,102]
[31889,97.275675429800003,{"$f":"ROUND(B258,0)","v":97}]
[95221,80.989003748800002,81]
[54681,125.845745972,126]
[71681,98.069034670999997,98]
[3292,87.031827737699999,87]
[54376,91.244003296200006,91]
[82123,99.379922164099995,99]
[99634,94.409254505999996,94]
[13599,80.211680279600003,80]
[65959,105.400891413,105]
[44859,71.359504312499993,71]
[43970,96.809436614600003,97]
[7958,101.594655487,102]
[25777,93.547463678200003,94]
[61718,107.527130117,108]
[29452,122.472310451,122]
[68333,91.669520352899994,92]
[19188,97.774940005999994,98]
[82877,107.92932575,108]
[86799,114.66756381,115]
[58818,112.836823056,113]
[85162,91.211222607400003,91]
[97674,91.620543571100001,92]
[29249,116.31835330600001,116]
[95945,80.052063231299996,80]
[5347,91.455789976800006,91]
[67419,90.637695627200003,91]
[54123,91.293714062600003,91]
[44005,127.09450179700001,127]
[18127,111.820289227,112]
[83205,109.326589891,109]
[69385,102.41678546599999,102]
[35350,76.846142929300001,77]
[57688,112.34901225900001,112]
[48726,94.1957923784,94]
[45209,93.535660972700001,94]
[15717,133.398713378,133]
[18079,98.965763659299995,99]
[88085,116.94674084499999,117]
[90535,109.970881436,110]
[14528,97.045235857999998,97]
[42275,89.770902885799998,90]
[78608,95.591918288000002,96]
[54638,91.166148326200002,91]
[40213,98.460923722999993,98]
[36239,86.182978586600001,86]
[8653,112.81947913800001,113]
[53685,91.100247110799998,91]
[518,101.54896060199999,102]
[7985,106.223990325,106]
[60431,71.023340424400004,71]
[22302,99.874527999400001,100]
[47817,103.547033501,104]
[31641,93.008836638199995,93]
[17809,109.184114244,109]
[90133,91.136196450100002,91]
[49425,100.416861349,100]
[36509,96.143304690999997,96]
[99129,127.131966949,127]
[83406,115.401633743,115]
[82912,121.608250725,122]
[21130,79.174403014600003,79]
[15016,101.75748070900001,102]
[51491,115.658807223,116]
[56415,107.419406626,{"$f":"ROUND(B322,0)","v":107}]
[92347,117.479932723,117]
[51195,98.030942356799997,98]
[18468,80.178829762600003,80]
[53947,75.731190770599994,76]
[29364,93.8717046039,94]
[76299,107.138021275,107]
[59683,82.442927443200006,82]
[5715,110.941603723,111]
[72814,99.091306943899994,99]
[74685,102.72866988600001,103]
[3318,79.395245874699995,79]
[83430,98.209814574700005,98]
[38815,109.55354633100001,110]
[4246,78.044284211499999,78]
[56946,116.54964783699999,117]
[20618,84.0974457202,84]
[58037,102.631507365,103]
[79220,125.388908693,125]
[59098,99.534322700399997,100]
[57934,93.098237780600002,93]
[39765,80.957809899599994,81]
[78008,107.73675359400001,108]
[55827,110.365668738,110]
[13476,105.725686103,106]
[60957,120.33237997099999,120]
[75981,112.702151121,113]
[2264,90.450585537199998,90]
[78095,102.01075289800001,102]
[80310,94.8092110117,95]
[3297,80.897057704100007,81]
[89188,97.658678362700002,98]
[35706,84.716981334600007,85]
[77323,120.85680862300001,121]
[27711,114.537174268,115]
[94584,119.371220603,119]
[8608,127.182997609,127]
[16358,112.918642221,113]
[62388,115.98704871299999,116]
[60204,122.651907257,123]
[27787,79.236675000299996,79]
[35702,112.57841707599999,113]
[98718,88.142271101999995,88]
[93136,121.138243196,121]
[28234,131.12339729999999,131]
[61630,119.84218903199999,120]
[64121,89.358056774600001,89]
[92360,85.342165377399994,85]
[69258,79.954249404699993,80]
[47469,122.31911083,122]
[4870,97.186020727400006,97]
[314,118.55991484099999,119]
[79795,92.929777881600003,93]
[37659,96.018072331699997,96]
[93895,85.162421072800001,85]
[79455,102.155533483,102]
[28724,130.21771149599999,130]
[56815,124.750508267,125]
[63599,101.76812558100001,102]
[13823,100.146784107,100]
[20176,113.002304102,113]
[23791,83.887719006300003,84]
[63672,96.102880396299994,96]
[35601,98.317274598200001,98]
[13851,85.988617279300001,{"$f":"ROUND(B386,0)","v":86}]
[90742,122.919811084,123]
[43900,118.888066542,119]
[76681,100.423969179,100]
[70324,105.638857896,106]
[7185,110.32514232699999,110]
[61979,95.750916811300002,96]
[45222,106.59642764,107]
[21367,82.0434982883,82]
[9063,96.079625047999997,96]
[16329,91.406316079800007,91]
[27217,101.156803779,101]
[65250,116.879419294,117]
[32810,87.151644107600006,87]
[3903,100.755442903,101]
[13053,117.774750328,118]

{"sheet":"400_Means","index":12,"n_rows":101,"n_cols":8,"rows_kept":101,"cut":false,"hidden":false,"merged":[]}
["Mean","Means"]
[{"$f":"AVERAGE('400_Sample'!C:C)","v":100.41249999999999},101.23,{"$f":"AVERAGE(B:B)","v":99.959149999999951},"mean"]
[null,101.08,{"$f":"MAX(B:B)","v":101.63},"max"]
[null,99.444999999999993,{"$f":"MIN(B:B)","v":98.275000000000006},"min"]
[null,100.61750000000001,{"$f":"C3-C4","v":3.3549999999999898},"range"]
[null,100.3775,{"$f":"STDEV(B:B)","v":0.68395631432963},"SD"]
[null,99.052499999999995,{"$f":"VAR(B:B)","v":0.46779623991137165},"variance"]
[null,99.157499999999999]
[null,100.1425]
[null,100.175]
[null,100.7975,"mean",{"$f":"B101","v":100.41249999999999},null,{"$f":"$G$11-$D$13","v":99.658426112410154},{"$f":"D11","v":100.41249999999999},{"$f":"$G$11+$D$13","v":101.16657388758983}]
[null,99.322500000000005,"sd",{"$f":"STDEV('400_Sample'!C:C)","v":15.0814777517969},null,{"$f":"$G$11-(2*$D$13)","v":98.9043522248203},null,{"$f":"$G$11+(2*$D$13)","v":101.92064777517969}]
[null,100.50749999999999,"se",{"$f":"D12/(SQRT(COUNT('400_Sample'!B:B)))","v":0.75407388758984495},null,{"$f":"$G$11-(3*$D$13)","v":98.150278337230461},null,{"$f":"$G$11+(3*$D$13)","v":102.67472166276953}]
[null,99.435000000000002]
[null,100.80500000000001]
[null,100.12]
[null,98.857500000000002]
[null,100.11750000000001]
[null,100.57250000000001]
[null,100.52]
[null,99.152500000000003]
[null,99.385000000000005]
[null,100.27500000000001]
[null,98.707499999999996]
[null,101.19750000000001]
[null,99.545000000000002]
[null,99.435000000000002]
[null,99.627499999999998]
[null,99.52]
[null,101.63]
[null,100.795]
[null,99.805000000000007]
[null,100.27500000000001]
[null,100.1575]
[null,100.68]
[null,100.005]
[null,100.2925]
[null,100.645]
[null,99.94]
[null,99.875]
[null,100.47]
[null,100]
[null,99.627499999999998]
[null,100.2075]
[null,100.7]
[null,100.42]
[null,99.775000000000006]
[null,99.704999999999998]
[null,98.73]
[null,99.257499999999993]
[null,98.72]
[null,100.7325]
[null,99.415000000000006]
[null,100.3175]
[null,99.497500000000002]
[null,99.954999999999998]
[null,99.592500000000001]
[null,100.2925]
[null,99.892499999999998]
[null,98.682500000000005]
[null,100.77500000000001]
[null,99.62]
[null,101.03749999999999]
[null,99.817499999999995]
[null,100.395]
[null,100.0825]
[null,100.0175]
[null,100.3875]
[null,99.69]
[null,99.962500000000006]
[null,100.23]
[null,98.98]
[null,99.207499999999996]
[null,100.55]
[null,100.745]
[null,99.597499999999997]
[null,99.787499999999994]
[null,98.517499999999998]
[null,99.784999999999997]
[null,100.07]
[null,100.2475]
[null,99.784999999999997]
[null,99.995000000000005]
[null,100.265]
[null,99.254999999999995]
[null,99.1]
[null,99.522499999999994]
[null,100.8]
[null,99.055000000000007]
[null,101.075]
[null,100.11499999999999]
[null,100.42749999999999]
[null,99.49]
[null,98.275000000000006]
[null,98.944999999999993]
[null,101.13]
[null,99.762500000000003]
[null,99.4]
[null,100.8775]
[null,99.457499999999996]
[null,100.41249999999999]

{"sheet":"900_Sample","index":13,"n_rows":901,"n_cols":3,"rows_kept":901,"cut":false,"hidden":false,"merged":[]}
["ser","Iqscore","IQ"]
[3751,99.052739738,{"$f":"ROUND(B2,0)","v":99}]
[73946,108.835544283,109]
[10572,104.118895649,104]
[2813,89.677026668500005,90]
[88485,103.190789467,103]
[38029,76.148261759899995,76]
[88463,114.598877648,115]
[83713,109.165279897,109]
[27059,89.993802995600007,90]
[3485,121.164931612,121]
[73567,93.813684591300003,94]
[8994,78.409123753399996,78]
[34444,95.882848971499996,96]
[56647,89.382610303000007,89]
[13129,78.014584115399998,78]
[18163,61.372427779299997,61]
[48367,117.93289570899999,118]
[15587,128.27161916099999,128]
[59183,89.571588946099993,90]
[36374,116.847696062,117]
[49619,100.615766615,101]
[69180,106.438368794,106]
[51358,81.690463509899999,82]
[25985,92.902877904600004,93]
[7371,96.121122737700006,96]
[41162,91.391275955200001,91]
[24695,91.5681127804,92]
[63127,126.918023342,127]
[49487,95.193653271700001,95]
[79195,115.042396311,115]
[42458,110.279738759,110]
[39259,87.164767570400002,87]
[57832,103.935738621,104]
[68929,91.381557099800006,91]
[53943,105.76314889,106]
[87739,82.420928507200003,82]
[88590,87.027299938599995,87]
[73067,91.622756522100005,92]
[77296,89.698334359699999,90]
[35378,132.39627947,132]
[17572,116.385978554,116]
[95422,113.881763744,114]
[7325,84.875888724800006,85]
[79009,111.31028685699999,111]
[10532,107.87578835399999,108]
[69986,100.307029443,100]
[48306,119.84404494499999,120]
[87046,110.329439763,110]
[18476,112.07441102,112]
[74987,128.49600503400001,128]
[71804,140.37550142200001,140]
[26048,113.841940401,114]
[97978,92.439474595799993,92]
[71955,89.540904345200005,90]
[99481,67.990424988000001,68]
[12282,125.796089444,126]
[56490,68.308984638699997,68]
[69782,103.530310886,104]
[10907,87.191620522700006,87]
[88281,103.821010874,104]
[22657,101.389157634,101]
[13787,126.028182587,126]
[76377,88.872966219800006,89]
[24414,125.41157190200001,125]
[41625,97.517518435499994,{"$f":"ROUND(B66,0)","v":98}]
[99777,109.262808572,109]
[14721,107.92501715900001,108]
[45443,98.035337641400005,98]
[95360,97.179557282800005,97]
[13109,84.933273555200003,85]
[76115,88.572726984400006,89]
[82087,104.444602905,104]
[47953,120.773901174,121]
[92755,105.28453197100001,105]
[49896,114.06342888,114]
[47584,120.590627328,121]
[15940,111.21302112799999,111]
[20362,109.36891470800001,109]
[97375,101.306256616,101]
[39254,63.811177841800003,64]
[63609,100.416277514,100]
[34313,120.528303021,121]
[9645,98.600050566700006,99]
[65064,80.796269635399995,81]
[23314,88.620730504799994,89]
[68796,97.128268120000001,97]
[90401,107.76395423300001,108]
[95184,91.047905787800005,91]
[40790,101.61841355,102]
[17859,136.58984361899999,137]
[63745,88.089790049499996,88]
[38558,99.741726011799997,100]
[45460,105.51760936399999,106]
[24477,90.571955568899995,91]
[7001,86.807060891899994,87]
[44457,103.838367593,104]
[45755,86.040992887900003,86]
[94613,130.33740322700001,130]
[8531,123.151047765,123]
[29051,81.950977398500001,82]
[49420,103.87357292199999,104]
[36281,99.782293076399995,100]
[50543,75.478246630300006,75]
[26965,72.688625013199996,73]
[8828,66.793059835700006,67]
[23609,103.730252155,104]
[16906,119.619828392,120]
[67843,108.356396985,108]
[91295,109.060017316,109]
[85898,72.8760238797,73]
[25960,100.396170771,100]
[77913,70.103784116699998,70]
[74392,130.496493993,130]
[21691,75.533551736700005,76]
[88331,126.539552274,127]
[6545,130.11476507399999,130]
[66254,107.458636387,107]
[37830,115.26988124099999,115]
[89745,102.06070282500001,102]
[77819,107.05530191299999,107]
[50895,117.17782932999999,117]
[13520,115.97845111300001,116]
[98833,112.532452085,113]
[67081,109.332855606,109]
[58523,115.51627317099999,116]
[89391,120.89760989200001,121]
[99954,78.764739077900003,79]
[2512,87.280092808099994,87]
[60847,92.604403365500005,{"$f":"ROUND(B130,0)","v":93}]
[81564,99.201375523600007,99]
[50999,88.115310757800003,88]
[91687,93.697797583500005,94]
[91394,127.73460734,128]
[20708,82.5565258325,83]
[66208,91.790696721200007,92]
[73136,105.492699105,105]
[90820,97.090704109300006,97]
[16108,99.996447945900002,100]
[23979,118.306691628,118]
[92912,89.519706056499999,90]
[77221,124.39798833899999,124]
[44721,119.897925984,120]
[99687,92.353169188199999,92]
[6146,93.807773582500005,94]
[41449,96.974926855700005,97]
[65246,115.34641797800001,115]
[23487,115.438913884,115]
[3617,75.520734736099996,76]
[67420,89.138837079200002,89]
[57182,117.620295637,118]
[63136,93.701411494200002,94]
[63309,101.75386895600001,102]
[77431,114.158074343,114]
[84888,99.698608123400007,100]
[31798,109.29975138899999,109]
[26976,109.51468215200001,110]
[2469,92.082303823499998,92]
[86654,87.355268529,87]
[20861,78.387858933299995,78]
[1705,118.14524075200001,118]
[77526,125.533476261,126]
[88754,91.070787743899999,91]
[57749,117.41405742800001,117]
[86476,88.3239032165,88]
[61909,118.12107749099999,118]
[44515,96.126974549799996,96]
[88732,73.912982063499996,74]
[23727,112.151878877,112]
[84556,96.956646619400004,97]
[98377,80.815860299400001,81]
[86741,111.081693691,111]
[75915,78.430456364700007,78]
[14344,90.007469803700005,90]
[74955,101.7145834,102]
[84180,113.898827959,114]
[27080,104.480567454,104]
[55406,106.235410074,106]
[93103,87.877077825000001,88]
[30738,123.654649772,124]
[9405,82.042482026000002,82]
[67440,59.131080907799998,59]
[4975,100.256523953,100]
[76200,133.941338892,134]
[54781,98.968048139499999,99]
[11023,105.282679883,105]
[60090,108.070132032,108]
[78263,103.594428939,104]
[71369,90.687257547800002,91]
[17924,90.406588540499996,90]
[94390,100.322728809,100]
[35347,102.002630655,102]
[45161,109.17243917099999,109]
[86417,108.521153566,{"$f":"ROUND(B194,0)","v":109}]
[44309,107.693015812,108]
[44406,83.449862092700002,83]
[66544,114.901396218,115]
[1589,83.5471994241,84]
[85827,82.361180297299995,82]
[83742,96.137948139299993,96]
[81862,81.922166449100004,82]
[80660,95.554381030100004,96]
[98542,84.832479715800005,85]
[20817,132.13198068099999,132]
[69978,122.91565670599999,123]
[43288,75.955008489400001,76]
[54725,110.004952941,110]
[45065,99.110622693699995,99]
[43839,89.347347916700002,89]
[6887,99.895909113599998,100]
[33386,119.165471106,119]
[25708,97.612520795500004,98]
[77034,95.105584159800003,95]
[6936,94.664477414199993,95]
[59336,101.486461074,101]
[94562,96.700011410100004,97]
[55360,90.0870917142,90]
[42295,112.281879532,112]
[67250,103.741995906,104]
[53855,86.802203994899997,87]
[53384,114.410151414,114]
[45513,84.660116751800004,85]
[90725,107.06352475,107]
[9037,111.052700785,111]
[36004,93.517690457499995,94]
[78144,102.19102224700001,102]
[76352,126.35723419599999,126]
[26595,131.54951394899999,132]
[85015,104.43868687299999,104]
[51059,80.286272513499995,80]
[22769,102.27020328099999,102]
[16862,75.946078814000003,76]
[50665,99.143665970800001,99]
[69757,86.083294607599996,86]
[44728,74.869622380699994,75]
[41830,81.616755043799998,82]
[28226,96.207088270300005,96]
[4678,124.00679687,124]
[62156,100.608398486,101]
[47967,117.13918381400001,117]
[59548,101.54887797000001,102]
[86517,118.360221198,118]
[14222,95.062885258799994,95]
[24023,129.48139060400001,129]
[59628,67.642609695999994,68]
[26536,90.581651645799994,91]
[98390,108.33861755300001,108]
[83846,73.948907305199995,74]
[68170,95.896381906900004,96]
[61873,105.151477103,105]
[34492,120.385626574,120]
[74197,118.79479915,119]
[26145,92.378409231099994,92]
[25861,90.596047876599997,91]
[53784,74.257452300300002,74]
[7557,111.533865064,112]
[77360,94.228972956800007,94]
[43334,104.028802963,{"$f":"ROUND(B258,0)","v":104}]
[13010,77.8822794429,78]
[19942,112.407324531,112]
[95014,82.049576703400007,82]
[50944,109.28969988,109]
[33465,114.65278690700001,115]
[53717,109.345802069,109]
[33263,86.490311572500005,86]
[42472,106.830746334,107]
[65059,123.171338202,123]
[65408,102.740772419,103]
[3783,117.514478786,118]
[39139,70.540616967700004,71]
[75374,118.839911515,119]
[58510,74.993289809399997,75]
[77332,88.244845568499997,88]
[84922,108.952612492,109]
[63733,120.21758675,120]
[41307,79.854891159199994,80]
[10313,101.28021802000001,101]
[66863,83.838341690299998,84]
[261,89.237483505100002,89]
[9679,114.13244388,114]
[96336,85.501603852800002,86]
[60382,111.88112772300001,112]
[89943,75.661654167699993,76]
[54916,103.27061062600001,103]
[42779,97.692212426699996,98]
[99592,92.577628767700006,93]
[61691,114.368000055,114]
[96530,98.934116612899999,99]
[72354,106.719321894,107]
[72610,74.664399258700001,75]
[82407,120.64205004599999,121]
[40071,98.768066666699994,99]
[49667,102.894279817,103]
[41869,100.56490013200001,101]
[96042,108.93114629,109]
[59933,66.809524003600004,67]
[32779,107.147098923,107]
[89430,100.664753543,101]
[87660,119.747754871,120]
[7174,97.511020302299997,98]
[49775,118.663461695,119]
[87297,124.931165361,125]
[72502,96.958813977999995,97]
[42320,96.458307521799995,96]
[317,75.602921097099994,76]
[92726,97.662245234400004,98]
[10047,104.73235295400001,105]
[93186,107.021629066,107]
[82215,98.717794018099994,99]
[68542,106.871944384,107]
[43074,89.859504886600007,90]
[37684,97.223611714499995,97]
[42984,101.467008169,101]
[28446,106.455063168,106]
[61726,87.780422577600007,88]
[11635,121.63709737400001,122]
[56410,117.681797257,118]
[7332,122.25452004,122]
[92572,90.813171767699998,91]
[41583,87.571152307700004,88]
[24111,76.534500931599993,77]
[56599,93.770085878399996,{"$f":"ROUND(B322,0)","v":94}]
[12669,111.48510940200001,111]
[2607,91.883478341599996,92]
[2098,99.470041254700007,99]
[64459,107.190125354,107]
[88623,88.5869560087,89]
[1135,87.395276135900005,87]
[52340,113.922038235,114]
[1257,111.74448736799999,112]
[40657,100.647868192,101]
[82753,99.864587105799998,100]
[19326,75.238453136399997,75]
[89776,104.938318841,105]
[31667,83.322109835000006,83]
[65021,103.10467117899999,103]
[31627,117.55707859499999,118]
[555,114.923378531,115]
[81288,82.793296387500007,83]
[95285,111.886743525,112]
[28457,97.611715969100004,98]
[72199,133.92882838,134]
[4955,80.103554959700006,80]
[33487,102.45348846100001,102]
[11238,78.144410217499995,78]
[56691,92.320168586799994,92]
[77968,110.510098427,111]
[59980,95.089508972600001,95]
[20163,111.61284092,112]
[89706,103.731250656,104]
[24552,96.5771250807,97]
[8339,94.746619487499999,95]
[35755,110.85231240100001,111]
[85924,81.4233724634,81]
[31919,118.238678298,118]
[23175,114.20698426,114]
[5432,76.471952858999998,76]
[59339,114.614729471,115]
[89335,103.715557131,104]
[42946,83.459762455299995,83]
[95069,96.1118332116,96]
[68576,116.26170889799999,116]
[52175,100.264354049,100]
[7771,127.535101209,128]
[65562,94.386919907999996,94]
[87201,101.401860001,101]
[30993,119.959064584,120]
[92239,83.2812215135,83]
[74386,135.62077041200001,136]
[99033,85.094596025300007,85]
[5580,95.918918420500006,96]
[63229,97.355521785199997,97]
[2164,123.001033233,123]
[18458,67.406997295599993,67]
[64028,93.864657778099996,94]
[62714,111.925131553,112]
[4224,129.22734484599999,129]
[35742,91.354384817600007,91]
[66793,81.261359210899997,81]
[15577,93.200022906200005,93]
[87163,115.94168241200001,116]
[87339,110.291017934,110]
[35755,110.85231240100001,111]
[62425,86.935405966000005,87]
[10412,95.108731861899997,95]
[51211,107.381887214,{"$f":"ROUND(B386,0)","v":107}]
[68284,94.600788840299998,95]
[17401,101.10787788,101]
[12794,108.12321408699999,108]
[67134,67.3397349655,67]
[76301,103.57583441,104]
[50993,120.96381664800001,121]
[64093,89.3149620441,89]
[82014,90.893599973799994,91]
[50338,103.10499801100001,103]
[97852,102.06631859300001,102]
[41607,78.548655464600003,79]
[20198,86.002769576600002,86]
[48605,151.14559691299999,151]
[89599,105.472398746,105]
[31721,87.147679492500004,87]
[78786,99.489287063999996,99]
[11049,127.578540303,128]
[12643,109.187846647,109]
[56463,104.11367450199999,104]
[47945,70.997165937600002,71]
[98418,87.454005803300007,87]
[90988,73.5399932105,74]
[25066,58.248151118199999,58]
[56223,94.832884567500003,95]
[56325,96.697459260700001,97]
[94049,94.183529332999996,94]
[10535,99.876276833099993,100]
[40856,123.046439193,123]
[4307,111.083491778,111]
[69465,117.99244861,118]
[51206,122.61517499,123]
[43085,93.502079740200003,94]
[49888,119.200105521,119]
[908,101.869070034,102]
[77310,103.091699019,103]
[28470,126.45859928100001,126]
[27647,100.03684807899999,100]
[90900,113.047577077,113]
[62535,123.706457126,124]
[32195,107.85249040399999,108]
[63271,94.567152902299995,95]
[68621,103.96151353800001,104]
[587,92.683790887900003,93]
[29391,103.47947097700001,103]
[62628,118.286955052,118]
[22725,91.738378282799999,92]
[6757,105.678243447,106]
[30438,96.800309132099997,97]
[25819,115.74565518599999,116]
[59151,104.670084862,105]
[44477,80.819475233899993,81]
[1285,117.867251177,118]
[86251,111.840706481,112]
[83934,105.566030457,106]
[76890,114.64163548499999,115]
[8760,108.816120189,109]
[74691,99.344637331900003,99]
[11022,107.45521362300001,107]
[43404,78.218509547500005,78]
[90881,100.50050338200001,101]
[8332,75.695633859500006,76]
[95084,82.990360631000001,83]
[61264,129.71859775999999,130]
[52171,80.152354254100004,{"$f":"ROUND(B450,0)","v":80}]
[4857,92.879480583000003,93]
[89323,100.86686424299999,101]
[52104,71.813761059699999,72]
[83970,111.957232271,112]
[21498,101.010138199,101]
[28293,119.984570734,120]
[93521,112.980478203,113]
[9745,109.684681685,110]
[19100,84.753044498799994,85]
[35705,76.174439158599995,76]
[95627,116.229400048,116]
[55405,91.893850954000001,92]
[51187,109.065310553,109]
[57243,100.093233885,100]
[2617,108.322325449,108]
[44614,139.63697667599999,140]
[78017,107.200824707,107]
[18379,98.684137665999998,99]
[19333,86.657419398499997,87]
[19102,95.103520088899998,95]
[5651,83.118921486600001,83]
[7179,77.331176001700001,77]
[62820,94.5171885659,95]
[83977,117.664538999,118]
[50015,91.265907858199995,91]
[82122,106.75948887600001,107]
[38895,85.833999524199996,86]
[78040,91.649079158000006,92]
[25956,107.266263186,107]
[4907,107.993369544,108]
[43709,98.971080658100007,99]
[69094,94.911978696700004,95]
[61315,79.877853560700004,80]
[98271,83.133073331299997,83]
[90302,119.228052819,119]
[74260,84.229110261299994,84]
[35978,101.008425921,101]
[28796,106.209632531,106]
[60176,86.123225149600003,86]
[5287,96.908711405399998,97]
[45950,121.197993176,121]
[14726,85.0532846503,85]
[79851,88.881845205700003,89]
[38865,58.929080787700002,59]
[92407,94.315495919200004,94]
[58778,83.237508786899994,83]
[22428,121.268852212,121]
[11940,104.51458357,105]
[95766,84.350071722699994,84]
[5952,122.14952594,122]
[34154,89.056649226999994,89]
[42022,92.191058737800006,92]
[34744,127.108894779,127]
[26347,93.8416517661,94]
[85981,100.914661344,101]
[72501,106.30149872699999,106]
[10421,141.45639225799999,141]
[22972,107.068740805,107]
[50134,108.550462534,109]
[42958,76.247903974899998,76]
[35304,85.240474367900006,85]
[64559,101.61404403500001,102]
[1666,91.872931172600005,92]
[84479,99.294302043200005,{"$f":"ROUND(B514,0)","v":99}]
[47387,112.65350829899999,113]
[43375,81.706080719100001,82]
[45028,88.559070136100004,89]
[39965,110.184960692,110]
[49214,89.686743668199995,90]
[58034,95.915198436500006,96]
[65625,88.516477664299998,89]
[9447,93.633469199000004,94]
[71945,101.710470316,102]
[21311,101.693166668,102]
[6385,94.1738663565,94]
[20397,83.617984348199997,84]
[64413,82.370283869800005,82]
[92954,121.174747864,121]
[69314,94.368054364800003,94]
[23040,87.639470187699999,88]
[7192,110.235016285,110]
[37494,82.193214625699994,82]
[42065,94.228791422200004,94]
[10669,100.214404258,100]
[51654,90.238251083099996,90]
[7062,110.60874047900001,111]
[49499,118.616746281,119]
[64955,88.911690997099996,89]
[84036,111.863408026,112]
[49198,107.57006506099999,108]
[30244,67.926611670499994,68]
[26260,109.976790958,110]
[14500,121.41687350799999,121]
[39665,95.659100116000005,96]
[38262,78.962069119600002,79]
[88951,119.918884288,120]
[91198,92.627265476900007,93]
[40262,111.046765311,111]
[69407,70.8131843954,71]
[21711,86.584714530599996,87]
[39330,127.333207246,127]
[81633,87.701593200800005,88]
[12993,97.886274216900006,98]
[12851,101.46192045799999,101]
[25210,105.287952754,105]
[71085,91.350274320699995,91]
[28353,84.469095855500001,84]
[40625,114.160354893,114]
[45331,79.803386111799995,80]
[25396,110.355774368,110]
[46400,102.63996285100001,103]
[68540,114.444499857,114]
[40420,86.510833529799996,87]
[28631,122.66640384,123]
[96193,114.701379898,115]
[65669,91.908249322100005,92]
[34506,108.209864306,108]
[14950,118.951445894,119]
[56499,111.41233573700001,111]
[51964,96.558395622299997,97]
[98984,82.830384239500006,83]
[76425,106.102744718,106]
[32352,87.120301530999996,87]
[68570,103.872492494,104]
[41670,81.382566945799994,81]
[95851,106.892105749,107]
[56620,83.207693089100005,83]
[73135,105.058880247,{"$f":"ROUND(B578,0)","v":105}]
[20873,86.055282075999997,86]
[4555,97.427854547500004,97]
[16564,95.043795883499996,95]
[60121,117.672757178,118]
[84450,104.816409648,105]
[65217,75.836096871099997,76]
[5405,93.192277751600002,93]
[6123,93.584371556600004,94]
[33872,118.82838226699999,119]
[79672,94.710767228799995,95]
[98881,117.916650656,118]
[40174,81.0982121519,81]
[13285,86.623401235399996,87]
[21731,117.31574481,117]
[56811,102.503295478,103]
[39064,142.89113360499999,143]
[23574,92.351730716899993,92]
[94988,102.285573126,102]
[49662,140.07752075499999,140]
[47646,88.324720468799995,88]
[61426,97.540268186099993,98]
[15636,104.306766861,104]
[10104,99.551596299799996,100]
[24155,84.639738516500003,85]
[83389,86.560506224099996,87]
[20278,95.411821666500003,95]
[9581,94.145562098900001,94]
[10515,88.359557047899997,88]
[94939,109.24559650400001,109]
[98740,100.898236032,101]
[59865,113.11724020600001,113]
[27655,117.97270598199999,118]
[64538,101.257357215,101]
[51882,81.920917529099995,82]
[39625,93.675123701999993,94]
[95822,84.324201962900005,84]
[62700,101.85868478,102]
[74411,104.611241439,105]
[45986,103.72604188699999,104]
[79888,95.112609214800003,95]
[26053,96.508904211900003,97]
[62698,101.870511107,102]
[71093,94.013665748400001,94]
[59670,97.604751141799994,98]
[46399,89.848813705400005,90]
[47582,106.37451027,106]
[3673,128.43958433700001,128]
[25237,89.106470224099994,89]
[84780,85.410816470300006,85]
[52189,92.227708230000005,92]
[55596,72.774625433799997,73]
[97226,70.389417730299996,70]
[10538,99.325756612800006,99]
[74745,110.696348218,111]
[13442,73.2293016526,73]
[72151,94.246984717199993,94]
[65378,80.492499158599998,80]
[96383,97.116556198200001,97]
[15058,92.261485383799993,92]
[92718,98.441319157099997,98]
[52431,106.52274144099999,107]
[13959,107.59651927199999,108]
[51124,117.409054255,117]
[43138,85.513021850900003,{"$f":"ROUND(B642,0)","v":86}]
[50317,102.79623530800001,103]
[97865,122.275145814,122]
[91714,113.887659267,114]
[69437,94.061806614199995,94]
[52206,118.18523499699999,118]
[74841,112.32557464999999,112]
[37861,100.26337532300001,100]
[24771,111.615365107,112]
[29880,120.708299006,121]
[35787,123.68448433099999,124]
[98115,108.731116066,109]
[39737,101.14838319499999,101]
[22800,108.026311253,108]
[68574,96.230227808999999,96]
[90109,59.936151162800002,60]
[17685,103.493565019,103]
[52163,83.157927072099994,83]
[15861,111.770469969,112]
[67121,106.611184214,107]
[55033,96.848358237499994,97]
[59968,109.756412045,110]
[57902,74.079005363700006,74]
[69635,92.558079958899995,93]
[86577,102.01208885200001,102]
[73075,97.329582815600006,97]
[20363,123.24382724900001,123]
[1906,102.577602568,103]
[55805,77.479887367700002,77]
[92272,100.25023983200001,100]
[7131,94.4745408685,94]
[33520,92.7237530389,93]
[10207,121.507909169,122]
[6335,91.1244471726,91]
[58130,123.760502527,124]
[25957,101.942097494,102]
[21592,108.113552793,108]
[31091,110.585254686,111]
[32131,85.670354429900001,86]
[84155,113.222544481,113]
[31397,78.530636797599996,79]
[73478,110.770520166,111]
[14564,97.385453884599997,97]
[33072,79.3181465089,79]
[21000,110.43940508199999,110]
[20612,106.20180960099999,106]
[50333,98.745042544100002,99]
[19246,79.652626830399996,80]
[7032,116.31345849100001,116]
[53848,105.742557326,106]
[1627,90.866059409399995,91]
[37362,118.745392297,119]
[61693,110.857541809,111]
[87840,97.676210737299996,98]
[30732,112.85884599800001,113]
[81811,69.843676954200006,70]
[58059,99.126056160199994,99]
[34605,78.938142979899993,79]
[7844,98.678245653499999,99]
[23252,100.932887752,101]
[40400,111.880571692,112]
[92587,92.689348422699993,93]
[43883,81.067575528399999,81]
[10179,92.003048762299997,92]
[19489,89.176564957300002,{"$f":"ROUND(B706,0)","v":89}]
[60718,103.991218124,104]
[48303,132.27880926899999,132]
[95478,74.461741441399994,74]
[92913,84.013422221900001,84]
[77481,89.998410125600003,90]
[11906,94.132470650499997,94]
[87993,75.280634549599995,75]
[90392,109.729140671,110]
[84971,114.804187963,115]
[14655,66.117496457499996,66]
[29088,103.265240057,103]
[44084,97.0066330593,97]
[17961,117.22650317999999,117]
[58484,109.820464699,110]
[94208,108.168482263,108]
[83904,96.249133670999996,96]
[17960,109.198605605,109]
[25113,129.158309616,129]
[19444,80.077867445099997,80]
[57830,105.592166218,106]
[72279,118.18213453200001,118]
[58859,108.81425467,109]
[53092,94.453732534899999,94]
[77222,94.442056672000007,94]
[78092,99.271803569300005,99]
[74451,107.502573375,108]
[32220,108.748496202,109]
[87130,102.55841070699999,103]
[31500,103.878850558,104]
[89839,122.654918964,123]
[84225,86.719295159200001,87]
[61607,96.1395973801,96]
[41590,114.904704348,115]
[84008,95.837077045399994,96]
[53402,124.202039613,124]
[24024,94.961418238700006,95]
[69500,89.396745334599999,89]
[79792,77.559835561200003,78]
[52500,107.510692084,108]
[92379,85.896253194899998,86]
[92485,103.790350187,104]
[51685,87.789510254099994,88]
[39288,121.187429736,121]
[49615,106.980207174,107]
[92970,75.750818299900004,76]
[58651,101.86483644400001,102]
[18120,111.420670656,111]
[38925,82.748832953000004,83]
[72623,140.56514427799999,141]
[1943,126.819862812,127]
[66492,104.206235455,104]
[84070,118.299909457,118]
[91411,104.570149813,105]
[7909,107.046080061,107]
[86605,108.921684482,109]
[34691,53.395585394699999,53]
[31663,106.213477165,106]
[35809,74.7380213008,75]
[81935,126.196678714,126]
[36618,92.951493728599999,93]
[87137,120.014991287,120]
[10624,99.277549099799998,99]
[58784,86.692509157999993,87]
[27187,140.40790481600001,{"$f":"ROUND(B770,0)","v":140}]
[77076,96.549333412999999,97]
[80870,64.119387318299999,64]
[52854,104.374037268,104]
[55549,108.846135484,109]
[85275,106.085550997,106]
[1413,107.49369271499999,107]
[80800,93.692105674299995,94]
[27985,78.914696057200004,79]
[24144,79.829564532199996,80]
[41277,80.154005665300005,80]
[16799,78.359258097500003,78]
[78217,119.312911594,119]
[23766,100.634025106,101]
[16460,90.121638105299994,90]
[94108,76.950080648899998,77]
[62721,99.449604535800006,99]
[45963,119.264369074,119]
[47743,87.005190533700002,87]
[31630,96.188977277199996,96]
[81038,72.976482094900007,73]
[23360,76.604121686200003,77]
[43508,77.709936026999998,78]
[85475,105.05050747200001,105]
[21090,82.592381075500001,83]
[23442,103.022941237,103]
[7543,97.384174626900005,97]
[25522,63.724815605300002,64]
[29490,105.53699783,106]
[37622,100.291966944,100]
[71863,102.725129361,103]
[36981,104.414431384,104]
[6854,96.270242781199997,96]
[95301,110.672843516,111]
[54515,91.464586593099995,91]
[46960,102.725706391,103]
[28115,104.57814931999999,105]
[2930,107.040248271,107]
[42395,93.757021884699995,94]
[76020,121.444525433,121]
[87834,143.37348353499999,143]
[8073,101.322307231,101]
[99059,103.592748566,104]
[14744,90.235373636000006,90]
[70515,108.779093864,109]
[88472,108.68914814199999,109]
[97535,85.951530132000002,86]
[25295,96.419832185999994,96]
[45916,98.194413746799995,98]
[66105,87.757392608000004,88]
[78138,92.984168388300006,93]
[67984,99.170837588400005,99]
[89358,73.313872331799999,73]
[46251,102.80968307000001,103]
[31279,112.07181116,112]
[52826,103.528679473,104]
[27045,102.63571515,103]
[81554,117.10968086,117]
[5278,100.913293188,101]
[16106,80.184389969199998,80]
[6371,86.267770241600005,86]
[61081,103.182133253,103]
[39181,96.170786735299998,96]
[21941,97.511308003400003,98]
[91233,109.07314416600001,{"$f":"ROUND(B834,0)","v":109}]
[24390,107.34506065399999,107]
[20566,139.59750123000001,140]
[88844,111.290806292,111]
[82346,86.932755418599996,87]
[589,98.698406912300001,99]
[68362,105.13783551500001,105]
[41283,70.103394520600006,70]
[62551,104.54091556100001,105]
[72398,87.708902334100003,88]
[40654,102.29444449499999,102]
[86248,118.63828164900001,119]
[67135,96.272297422299999,96]
[65215,91.305426724499995,91]
[67503,108.78143012,109]
[14808,73.566508797200001,74]
[79135,109.63615389100001,110]
[61173,94.109076472500007,94]
[8753,86.744676817400006,87]
[28679,105.240490286,105]
[49656,78.446871070399993,78]
[38210,95.222397996500007,95]
[36847,89.232171988499999,89]
[91783,106.155997297,106]
[43181,121.093106108,121]
[34123,129.76541724800001,130]
[44639,85.051202063900007,85]
[6812,98.885526569700005,99]
[7886,103.973311209,104]
[35639,88.733220001399999,89]
[78203,80.998611001499995,81]
[16788,71.471578625099994,71]
[70949,119.05993861899999,119]
[92469,85.061030698300002,85]
[94650,111.824425379,112]
[31631,104.158032366,104]
[58866,74.569791868300001,75]
[56379,106.46780886000001,106]
[44939,98.9381147247,99]
[79716,97.392456998900002,97]
[42762,101.568082993,102]
[45244,106.266054283,106]
[81687,100.027860401,100]
[84437,80.336238998799999,80]
[8701,78.435069901099993,78]
[32119,74.205216794400002,74]
[91986,95.877815733399999,96]
[65771,93.182972844099993,93]
[53004,87.795180344499997,88]
[59294,103.062379811,103]
[55212,82.703082026999994,83]
[66840,84.324986814599995,84]
[2556,102.786144365,103]
[77361,120.577752238,121]
[25839,98.233117514100002,98]
[5472,83.569281628200002,84]
[60122,96.481935484100006,96]
[9276,103.385708354,103]
[41251,83.1715270925,83]
[50765,90.680317636699996,91]
[74659,106.91177454,107]
[39420,100.65069756299999,101]
[54555,100.260009297,100]
[24648,95.118700765599996,95]
[36627,95.668204144200004,{"$f":"ROUND(B898,0)","v":96}]
[27662,103.576114257,104]
[92392,69.423795014600003,69]
[28447,79.188729518900004,79]

{"sheet":"900_Means","index":14,"n_rows":101,"n_cols":8,"rows_kept":101,"cut":false,"hidden":false,"merged":[]}
["Mean","Means"]
[{"$f":"AVERAGE('900_Sample'!C:C)","v":99.857777777777784},100.53555555555556,{"$f":"AVERAGE(B:B)","v":100.05311111111108},"mean"]
[null,100.09888888888889,{"$f":"MAX(B:B)","v":101.25555555555556},"max"]
[null,100.55444444444444,{"$f":"MIN(B:B)","v":98.895555555555561},"min"]
[null,99.284444444444446,{"$f":"C3-C4","v":2.3599999999999994},"range"]
[null,100.05111111111111,{"$f":"STDEV(B:B)","v":0.51791797835251252},"SD"]
[null,100.78444444444445,{"$f":"VAR(B:B)","v":0.26823903230075358},"variance"]
[null,99.951111111111118]
[null,99.94]
[null,99.873333333333335]
[null,100.37888888888889,"mean",{"$f":"B101","v":99.857777777777784},null,{"$f":"$G$11-$D$13","v":99.344913005088557},{"$f":"D11","v":99.857777777777784},{"$f":"$G$11+$D$13","v":100.37064255046701}]
[null,100.04222222222222,"sd",{"$f":"STDEV('900_Sample'!C:C)","v":15.385943180676863},null,{"$f":"$G$11-(2*$D$13)","v":98.83204823239933},null,{"$f":"$G$11+(2*$D$13)","v":100.88350732315624}]
[null,100.53555555555556,"se",{"$f":"D12/(SQRT(COUNT('900_Sample'!B:B)))","v":0.51286477268922881},null,{"$f":"$G$11-(3*$D$13)","v":98.319183459710104},null,{"$f":"$G$11+(3*$D$13)","v":101.39637209584546}]
[null,100.07]
[null,100.29111111111111]
[null,99.784444444444446]
[null,100.54222222222222]
[null,99.674444444444447]
[null,100.13666666666667]
[null,98.895555555555561]
[null,99.102222222222224]
[null,100.53]
[null,99.736666666666665]
[null,99.712222222222223]
[null,100.82777777777778]
[null,100.14222222222222]
[null,101.0188888888889]
[null,99.974444444444444]
[null,99.761111111111106]
[null,99.45]
[null,100.25111111111111]
[null,100.02111111111111]
[null,99.73555555555555]
[null,99.218888888888884]
[null,100.04444444444445]
[null,100.55333333333333]
[null,100.02222222222223]
[null,100.11111111111111]
[null,99.61666666666666]
[null,100.63888888888889]
[null,99.844444444444449]
[null,100.23888888888889]
[null,99.45]
[null,100.87555555555555]
[null,99.097777777777779]
[null,99.393333333333331]
[null,99.98]
[null,99.87555555555555]
[null,99.934444444444438]
[null,100.80111111111111]
[null,100.32]
[null,100.3411111111111]
[null,98.94]
[null,100.29]
[null,99.581111111111113]
[null,100.50666666666666]
[null,99.704444444444448]
[null,99.337777777777774]
[null,100.21333333333334]
[null,99.766666666666666]
[null,100.46111111111111]
[null,99.26]
[null,100.68666666666667]
[null,101.25555555555556]
[null,99.717777777777783]
[null,99.806666666666672]
[null,99.662222222222226]
[null,101.04222222222222]
[null,100.43222222222222]
[null,100.29888888888888]
[null,100.37777777777778]
[null,99.982222222222219]
[null,99.806666666666672]
[null,100.04444444444445]
[null,100.75111111111111]
[null,99.698888888888888]
[null,100.08333333333333]
[null,99.227777777777774]
[null,99.782222222222217]
[null,99.976666666666674]
[null,99.291111111111107]
[null,100.34]
[null,99.926666666666662]
[null,100.76333333333334]
[null,100.23555555555555]
[null,99.61666666666666]
[null,100.34]
[null,99.222222222222229]
[null,101.13111111111111]
[null,100.44666666666667]
[null,100.47]
[null,100.21888888888888]
[null,100.21888888888888]
[null,100.07111111111111]
[null,100.94444444444444]
[null,100.77555555555556]
[null,98.964444444444439]
[null,99.894444444444446]
[null,99.876666666666665]
[null,99.965555555555554]
[null,99.857777777777784]

{"sheet":"1600_Sample","index":15,"n_rows":1601,"n_cols":3,"rows_kept":1601,"cut":false,"hidden":false,"merged":[]}
["ser","Iqscore","IQ"]
[82521,72.073931607399999,{"$f":"ROUND(B2,0)","v":72}]
[54750,97.837095198599997,98]
[41816,98.675162857399997,99]
[13108,76.842643291800002,77]
[70515,108.779093864,109]
[78195,123.627415535,124]
[34201,71.678818543099993,72]
[72794,80.490035733900001,80]
[5934,101.82796874,102]
[53507,106.570253745,107]
[88564,103.32493733699999,103]
[93811,89.437647299199995,89]
[15565,107.55324982800001,108]
[31570,109.66985027600001,110]
[58501,113.712873339,114]
[96622,98.624588063600001,99]
[94265,83.472422420699999,83]
[59070,84.019690837900001,84]
[10204,81.620563413499994,82]
[63901,78.129740466900003,78]
[50265,76.511183974199994,77]
[42557,110.828277532,111]
[30276,107.153618263,107]
[17088,100.180554274,100]
[75493,94.892375343200001,95]
[37505,111.386476378,111]
[58542,104.734733429,105]
[17959,110.445381752,110]
[40875,86.027321826000005,86]
[62377,102.93457203,103]
[45863,128.708871198,129]
[95179,73.6113202234,74]
[16659,97.485418354299995,97]
[37688,117.412466718,117]
[36948,69.963109881700007,70]
[95876,98.1597246738,98]
[17717,92.560945356100007,93]
[50064,79.715381871800005,80]
[78164,100.366831061,100]
[62194,90.135512643400006,90]
[73867,95.524722070400003,96]
[41309,109.257243526,109]
[50353,101.32557853100001,101]
[32860,107.318231068,107]
[25176,99.550850646399994,100]
[22464,107.564594493,108]
[26640,109.30574721000001,109]
[69744,94.264436354599994,94]
[42282,110.597527142,111]
[12870,92.653130754499998,93]
[55251,104.403295183,104]
[9426,92.752814334999997,93]
[71699,103.942698495,104]
[4233,91.379902641100003,91]
[67318,127.427849497,127]
[39752,77.617720082899993,78]
[6133,97.086068200499994,97]
[49685,109.29579991999999,109]
[9698,83.680921477699997,84]
[1404,96.784324314800003,97]
[79795,92.929777881600003,93]
[77844,93.661344416099993,94]
[2784,94.151983553500003,94]
[14456,98.396858222899994,98]
[88712,106.41100992,{"$f":"ROUND(B66,0)","v":106}]
[31881,86.877617464599993,87]
[23315,87.4599291671,87]
[29939,81.671581513700005,82]
[36038,88.641849269199994,89]
[33579,119.818738508,120]
[12190,88.557563735900004,89]
[6404,53.366910366900001,53]
[2371,124.998334443,125]
[72398,87.708902334100003,88]
[7283,90.328223555199997,90]
[11484,81.307526822300005,81]
[41062,76.223244394399998,76]
[19534,112.04245599399999,112]
[1249,107.854369607,108]
[48457,97.845396423699995,98]
[98527,117.463527566,117]
[66987,91.140612369999999,91]
[24345,85.248856801499997,85]
[7807,116.655028544,117]
[59563,113.955688559,114]
[91617,92.247509588,92]
[52235,68.431894409199998,68]
[43789,78.581776446700005,79]
[17658,97.363323289099995,97]
[44213,82.792656887999996,83]
[38808,86.924632945200003,87]
[75988,118.742180639,119]
[70302,104.397273676,104]
[63550,116.130618481,116]
[73987,98.2279321221,98]
[15886,80.686134991900005,81]
[39305,115.63557208,116]
[15453,88.699877770000001,89]
[66543,98.641803992299998,99]
[18420,112.87600883,113]
[16102,74.167492601500001,74]
[56864,102.85737502800001,103]
[51905,112.545305212,113]
[58548,88.263071544100001,88]
[32072,86.845532768200002,87]
[24897,76.204740608999998,76]
[24979,126.43540716699999,126]
[32808,87.273037283600004,87]
[53846,95.263356161499999,95]
[50906,87.719107001899999,88]
[97952,97.361750130499999,97]
[85885,100.186037601,100]
[3624,92.025433779599993,92]
[99546,100.25855307400001,100]
[83112,134.95086303299999,135]
[62170,94.252398296999999,94]
[4483,117.051318357,117]
[32835,85.314331549100004,85]
[654,94.340017580600005,94]
[82322,105.14419563200001,105]
[50691,74.132703710300007,74]
[99215,110.897318351,111]
[11498,117.759276169,118]
[44834,120.096330814,120]
[3021,73.150239196900003,73]
[47620,102.41061776799999,102]
[75098,83.269956985899995,83]
[52594,93.463024212700006,93]
[9063,96.079625047999997,{"$f":"ROUND(B130,0)","v":96}]
[66531,81.058876206899996,81]
[32256,115.57788432700001,116]
[64445,96.852762236499998,97]
[48534,118.50162265900001,119]
[48045,107.41504835000001,107]
[12934,93.776156826800005,94]
[71751,97.197588939599996,97]
[3594,88.055478968700001,88]
[76933,101.926123444,102]
[69067,142.357971883,142]
[99958,99.307535568099993,99]
[54155,111.311394822,111]
[44705,90.450912498500003,90]
[32376,107.74722408700001,108]
[35154,105.22885936199999,105]
[98199,105.09689853499999,105]
[88673,108.97466911399999,109]
[97177,106.030838164,106]
[75639,114.068495852,114]
[97083,101.791612007,102]
[56010,115.43820629,115]
[28199,94.097290656300004,94]
[8477,61.487991754799999,61]
[45858,91.978791666600003,92]
[92816,90.067858388700003,90]
[93391,110.97999699899999,111]
[11068,86.381550089599997,86]
[68577,94.960103837999995,95]
[58179,81.177518912899998,81]
[21740,116.46151622799999,116]
[77706,92.894057180999994,93]
[38611,104.40461648500001,104]
[63238,123.83368783500001,124]
[86079,100.593434366,101]
[71140,112.023287747,112]
[23959,87.743026992099999,88]
[35246,102.091106379,102]
[10901,69.870637079900007,70]
[99140,103.847080158,104]
[57562,105.405536801,105]
[6630,72.858169141600001,73]
[5172,102.637732297,103]
[16057,93.868214499999993,94]
[32614,115.533038198,116]
[29056,99.517998361099998,100]
[20144,101.933895126,102]
[49389,95.947740929099993,96]
[22877,87.601087437100006,88]
[12492,105.04869261,105]
[32165,104.843247199,105]
[51339,108.407701051,108]
[27989,101.188450961,101]
[89268,68.322137284600004,68]
[50494,79.469453516200005,79]
[75379,83.124002517899996,83]
[43784,114.601786444,115]
[3140,85.836142050999996,86]
[50113,118.25726664299999,118]
[77815,99.883021973300004,100]
[57595,80.1406294616,80]
[23352,95.431411887199999,95]
[29540,93.146838192499999,93]
[44346,110.989162196,111]
[68574,96.230227808999999,{"$f":"ROUND(B194,0)","v":96}]
[83700,91.234664569200007,91]
[93638,133.965949309,134]
[41628,92.235707808200004,92]
[33002,118.326207934,118]
[46592,90.921055260800003,91]
[61431,86.626651671900007,87]
[93837,108.08747183600001,108]
[34601,111.248947688,111]
[92113,79.145175188099998,79]
[98918,121.407587537,121]
[84232,97.234467297500004,97]
[79847,101.054070645,101]
[32084,114.71214234,115]
[76881,107.076693363,107]
[81715,112.289992254,112]
[18282,111.260236181,111]
[49129,105.432500434,105]
[53700,112.95149636399999,113]
[92396,95.034496397200002,95]
[87826,120.94227015600001,121]
[60734,78.814821414600004,79]
[83166,96.343363188400005,96]
[36154,99.889055578099999,100]
[85093,112.094494755,112]
[8313,128.13175513900001,128]
[47290,88.492982851799994,88]
[48200,112.552967091,113]
[60699,121.010499743,121]
[71265,78.610754394599994,79]
[14122,82.852569433300005,83]
[5639,92.112751967700007,92]
[39577,102.307541595,102]
[6043,133.89202503000001,134]
[20557,117.78894024,118]
[79035,105.89737431,106]
[66289,82.508233062000002,83]
[10210,103.44663703400001,103]
[80150,99.632392630799998,100]
[8970,108.42783926600001,108]
[75337,88.593162212799996,89]
[11507,101.56781303,102]
[15931,71.644128655900005,72]
[7607,108.43447646600001,108]
[86479,102.107358209,102]
[81913,118.325284826,118]
[18214,107.391024918,107]
[85257,85.710624894600002,86]
[25039,106.864796814,107]
[76708,83.803670048800001,84]
[27409,96.035458821500001,96]
[1935,105.71399197,106]
[67219,103.376243699,103]
[98534,108.160120967,108]
[41838,100.61572144100001,101]
[43925,97.026152722800006,97]
[10412,95.108731861899997,95]
[86460,92.593771151400006,93]
[50546,79.781634929800006,80]
[25347,68.892554064400002,69]
[68516,105.465331299,105]
[30042,139.91770655900001,140]
[91111,99.973163705999994,100]
[14711,102.55208935500001,103]
[92245,88.784504892100003,{"$f":"ROUND(B258,0)","v":89}]
[8390,95.278584137500005,95]
[32461,90.922337914400003,91]
[86486,125.335484446,125]
[14443,98.940464748799997,99]
[54222,100.028965488,100]
[82683,113.69529912900001,114]
[97662,87.646586816600006,88]
[20394,90.806741219599999,91]
[42937,123.01671668900001,123]
[21836,99.471725808000002,99]
[89308,77.870841984199998,78]
[43136,122.321486398,122]
[6669,91.132033300399996,91]
[59766,104.189956693,104]
[13140,123.417794488,123]
[83774,99.878129648200002,100]
[73354,106.26249137799999,106]
[18915,92.574632747699994,93]
[83080,94.003825115799998,94]
[56792,70.118823902700001,70]
[30791,91.281664979400006,91]
[42137,80.842322538999994,81]
[51819,118.565983656,119]
[60364,97.369640732199997,97]
[15705,120.933928026,121]
[25505,102.15839443,102]
[12381,97.298904132100006,97]
[71669,106.515713053,107]
[27809,97.920653838099994,98]
[76132,91.504377677999997,92]
[24685,100.53501250799999,101]
[67204,88.775054636899995,89]
[68866,103.622556284,104]
[94976,90.088212921099995,90]
[67106,83.305255860100004,83]
[68091,108.78595979399999,109]
[6755,118.996989722,119]
[84653,96.743520174699995,97]
[13038,104.773315516,105]
[10398,86.059102954799997,86]
[64528,107.212895519,107]
[82257,116.976444879,117]
[32458,78.318925298799996,78]
[40443,97.199517746599994,97]
[34477,92.030812247699998,92]
[17163,132.59936098099999,133]
[18488,102.42890001799999,102]
[35112,113.273658537,113]
[17193,118.066652549,118]
[93845,89.409925596500003,89]
[38956,130.07100919499999,130]
[47170,101.47734850099999,101]
[85631,118.359382869,118]
[99686,87.382686744400004,87]
[12960,100.322706811,100]
[75575,101.863064983,102]
[74174,87.921038767699997,88]
[37794,78.675928875500006,79]
[12429,88.372276898699994,88]
[60785,108.294250422,108]
[92689,115.78927668,116]
[84811,78.754592770399995,79]
[88689,120.947068086,121]
[5077,89.766989576900002,{"$f":"ROUND(B322,0)","v":90}]
[65598,127.05639862,127]
[73726,126.130218392,126]
[24020,108.067817633,108]
[17857,89.7819775607,90]
[95934,86.502352302700004,87]
[1688,94.0846385782,94]
[8224,109.04259266699999,109]
[85972,79.614089608,80]
[54406,125.32425669600001,125]
[62820,94.5171885659,95]
[40184,80.7904238144,81]
[69023,118.561428746,119]
[93461,87.345490898600005,87]
[6030,139.91828959099999,140]
[54427,98.739908798599998,99]
[19677,121.433699127,121]
[86349,98.443671372799997,98]
[17822,103.74156019,104]
[72689,119.67945865,120]
[28980,99.504533418099996,100]
[91179,92.325913295000007,92]
[30112,82.120948011999999,82]
[80472,106.601992917,107]
[96669,113.51256267399999,114]
[39991,98.895001639499995,99]
[53037,112.534555389,113]
[28614,84.247642285400005,84]
[26487,92.168055870800004,92]
[52809,115.356530695,115]
[32772,92.678239892500002,93]
[59845,105.767599574,106]
[46490,87.611831388300004,88]
[76710,109.225203988,109]
[34336,135.87522268800001,136]
[60353,97.334715281599998,97]
[54366,110.13728071200001,110]
[49883,74.913588006099999,75]
[49411,96.972495081700004,97]
[36345,96.868110616999999,97]
[87743,107.641528064,108]
[90695,126.545632815,127]
[29149,110.968685013,111]
[15610,103.069069938,103]
[19503,107.85402412099999,108]
[11748,104.787313829,105]
[41991,97.089375677800007,97]
[74082,88.3000849071,88]
[78095,102.01075289800001,102]
[58947,119.469082184,119]
[56472,99.704149126399997,100]
[87403,101.417295809,101]
[92845,97.293852756899994,97]
[75561,118.653900976,119]
[49038,106.221066679,106]
[7482,89.572204739100002,90]
[64273,92.043717860499996,92]
[91282,108.71211034300001,109]
[36859,92.011420746300004,92]
[64062,104.899828449,105]
[59401,92.391668310499995,92]
[36293,106.216968042,106]
[35640,116.65106346899999,117]
[91280,109.37030070100001,109]
[32069,116.898107134,{"$f":"ROUND(B386,0)","v":117}]
[80326,103.723972594,104]
[42432,79.184072080000007,79]
[79230,100.40445310600001,100]
[68244,120.93518518899999,121]
[96728,111.535532957,112]
[43447,66.251558190099999,66]
[50525,99.136738261299996,99]
[56336,93.911243501900003,94]
[51519,133.233690825,133]
[46870,89.185617349200001,89]
[61861,122.247183412,122]
[82508,88.858296567599993,89]
[17461,103.76778434400001,104]
[40672,75.366280338300001,75]
[30578,83.370026542399998,83]
[50990,104.178049461,104]
[13113,81.164247865600004,81]
[75419,87.169873488999997,87]
[86224,107.780848029,108]
[29391,103.47947097700001,103]
[66900,99.769422242399997,100]
[72090,117.776292418,118]
[47114,104.96284312,105]
[19010,97.742702695000006,98]
[6172,110.39987467100001,110]
[54885,95.642647788000005,96]
[21898,105.012511319,105]
[50152,96.589478131199996,97]
[71266,96.671342559199999,97]
[9040,90.286694146900004,90]
[36118,99.228573173100003,99]
[2437,78.507954552900003,79]
[54573,124.760332895,125]
[63638,107.725588538,108]
[83775,73.6755491017,74]
[50114,96.437051649400004,96]
[64593,80.336165523399998,80]
[99422,82.054664792300002,82]
[3890,105.428698364,105]
[32374,116.020705799,116]
[15005,99.579523829899998,100]
[81608,99.761927298900005,100]
[82062,85.309867507500002,85]
[48662,73.803745576899999,74]
[38726,116.437985269,116]
[17698,69.516788672299995,70]
[77040,109.851269218,110]
[78988,75.069772584099994,75]
[26971,88.100090885599997,88]
[40290,97.765462202199998,98]
[72276,107.475661441,107]
[29242,100.40503475200001,100]
[93322,83.4551926619,83]
[14894,89.677655775399998,90]
[52493,86.984759161200003,87]
[1506,66.570136368099995,67]
[62785,88.175661231000007,88]
[72741,77.196224014899997,77]
[5246,91.683183538500003,92]
[89365,85.139506793699994,85]
[85854,110.98844696,111]
[68598,114.02756809,114]
[47485,104.58734197699999,105]
[98220,100.237260367,{"$f":"ROUND(B450,0)","v":100}]
[77574,109.57285935900001,110]
[63579,81.237428742099993,81]
[77115,106.99418096700001,107]
[90603,122.160305923,122]
[81604,94.841246622100002,95]
[32960,102.839133025,103]
[49564,99.557686687300006,100]
[56484,81.8323535846,82]
[59277,110.349244239,110]
[98987,89.437660902299996,89]
[79339,122.88741316399999,123]
[8590,79.984951196899999,80]
[3667,112.56062821,113]
[88693,118.12094643499999,118]
[66592,100.723420305,101]
[2713,125.009790909,125]
[78647,98.700671879300003,99]
[16709,109.42612065,109]
[48684,111.605317705,112]
[83024,79.714065843,80]
[82953,100.56837108800001,101]
[93073,111.746009677,112]
[76744,105.47671874,105]
[52386,109.978819117,110]
[39247,76.986229773999995,77]
[56050,104.47813243500001,104]
[17232,108.74168562600001,109]
[67665,119.011108268,119]
[8181,99.030554996600003,99]
[29937,115.60261566600001,116]
[78504,104.69166316,105]
[60044,90.852798786999998,91]
[27455,86.741919698800004,87]
[7881,134.379191787,134]
[62374,78.352791476600004,78]
[80335,114.883067419,115]
[75885,86.698808029399999,87]
[59687,119.004410647,119]
[40673,116.681851279,117]
[69290,83.400707233299997,83]
[62460,97.799164730699999,98]
[64633,128.01122537000001,128]
[56816,74.078942142200006,74]
[52918,92.7585463809,93]
[40411,91.089057771300006,91]
[69284,79.956220834600003,80]
[52361,115.635222953,116]
[62791,100.529152516,101]
[46265,132.450221809,132]
[70300,97.275757301300004,97]
[18574,108.656472714,109]
[81362,60.906580165000001,61]
[63916,104.15089065399999,104]
[22253,107.127983083,107]
[72992,86.351183870100002,86]
[12275,110.065725453,110]
[13683,124.191086501,124]
[70439,97.537207623599997,98]
[60981,104.24595943600001,104]
[75677,103.14484470399999,103]
[66372,84.908520291800002,85]
[8684,98.101276351500005,98]
[82302,104.132570876,104]
[28532,97.568949114500001,{"$f":"ROUND(B514,0)","v":98}]
[82341,106.50389232400001,107]
[62168,132.140508614,132]
[42676,108.24518607500001,108]
[9934,88.871664119000002,89]
[75562,76.360293670600001,76]
[95227,104.275762133,104]
[30341,92.396161766000006,92]
[11418,125.075463509,125]
[2680,96.076332111699998,96]
[44170,101.860956825,102]
[17617,124.177589689,124]
[72270,112.489531513,112]
[77081,98.418719773199996,98]
[75093,113.26490139800001,113]
[87470,103.483465972,103]
[99846,123.023246867,123]
[7950,119.826217328,120]
[66689,95.399866883100003,95]
[85071,92.332567776999994,92]
[14880,96.934346181099997,97]
[64337,63.920873005700003,64]
[18060,117.97710163000001,118]
[94362,88.414329885599997,88]
[21797,120.050094856,120]
[64217,95.017541227799995,95]
[81531,94.148866273300001,94]
[39617,68.009250961999996,68]
[4025,114.858852875,115]
[88552,86.783167160700003,87]
[20464,112.045474,112]
[12004,91.348517245099998,91]
[44311,83.202232766700007,83]
[20357,125.88079005900001,126]
[92066,91.947313038800004,92]
[21148,92.411754476900001,92]
[70028,92.908351461999999,93]
[8759,109.942435213,110]
[55206,122.45493718500001,122]
[71694,107.459434698,107]
[23491,131.64970636199999,132]
[58060,96.366262538200004,96]
[3224,109.24516826999999,109]
[64869,95.162170380399999,95]
[57271,90.757043498100003,91]
[41803,97.838468083400002,98]
[21748,95.820488255000001,96]
[25045,119.626382146,120]
[54504,92.1440776118,92]
[41828,117.861771338,118]
[71501,98.480895769200004,98]
[51299,97.671914213899996,98]
[74204,85.777873113699997,86]
[12342,88.585038733700003,89]
[96117,102.37060575,102]
[93979,106.147745407,106]
[21578,84.890380917800002,85]
[68975,80.595213397400002,81]
[54953,93.176177081899993,93]
[56266,111.601944653,112]
[43336,99.965794604500005,100]
[2847,71.117934574900005,71]
[80900,110.985878206,111]
[20734,84.050556867099999,84]
[48004,130.26994592400001,{"$f":"ROUND(B578,0)","v":130}]
[19628,66.670354977299993,67]
[63199,82.526481232600005,83]
[914,124.172197345,124]
[51239,100.991022336,101]
[3602,92.601198237399998,93]
[55248,61.404104049600001,61]
[17857,89.7819775607,90]
[46136,102.422812601,102]
[6727,94.462776673799993,94]
[7420,106.526335167,107]
[1697,103.04432339500001,103]
[98547,105.34854583000001,105]
[62701,108.922313192,109]
[24873,107.48302637800001,107]
[18211,90.604012414600007,91]
[67390,111.022280126,111]
[26023,75.380909473800003,75]
[50361,132.22959490100001,132]
[20383,96.558291709900004,97]
[49959,101.174852191,101]
[36054,92.232260253700005,92]
[72050,113.41003292800001,113]
[24968,124.49466320800001,124]
[52243,128.75804608499999,129]
[6081,81.578603111199996,82]
[56329,88.393417126200006,88]
[14053,101.491484165,101]
[84234,99.192591062600002,99]
[37381,74.173926713100002,74]
[5619,92.761235379799999,93]
[61617,115.30913501000001,115]
[80238,99.209467030599995,99]
[58279,98.727408278499993,99]
[41192,108.21235922300001,108]
[85098,119.77033793,120]
[44193,104.046813294,104]
[88215,123.430823288,123]
[10978,102.237272385,102]
[21954,110.647729185,111]
[19978,101.82720587599999,102]
[26804,88.083286400199995,88]
[22382,107.862436598,108]
[31224,100.60593710099999,101]
[86723,88.914330585299993,89]
[67902,96.6581388675,97]
[92,80.829556136700006,81]
[20092,116.777079262,117]
[79128,105.239108781,105]
[38661,108.452301584,108]
[68894,94.081039882499994,94]
[95449,92.091353188799999,92]
[32770,116.952735941,117]
[63599,101.76812558100001,102]
[61485,112.19568676599999,112]
[40455,99.866662256500007,100]
[54417,87.920669342099998,88]
[53662,100.275175606,100]
[51283,97.181163826700001,97]
[16102,74.167492601500001,74]
[17343,99.010880890999999,99]
[20279,95.387161084300004,95]
[10245,104.894453662,105]
[87778,102.899799311,103]
[81637,92.663335618000005,{"$f":"ROUND(B642,0)","v":93}]
[14434,74.810744054799997,75]
[91670,107.005842359,107]
[76826,97.118010785799996,97]
[39516,104.856755771,105]
[90724,104.854231619,105]
[38022,108.641251131,109]
[37111,98.566842734700003,99]
[85640,102.67259525599999,103]
[96418,81.9332642249,82]
[13736,118.23971387900001,118]
[56577,96.889004369099993,97]
[12423,95.938301760599998,96]
[85529,114.389408914,114]
[63031,81.203446039599996,81]
[83815,97.288329981700002,97]
[30343,93.412408393099994,93]
[57866,93.874332044400006,94]
[92724,65.825881546299996,66]
[79621,109.96822218600001,110]
[13261,100.914123756,101]
[23103,104.796050826,105]
[80045,103.60762276299999,104]
[93563,120.156591824,120]
[68725,107.067354091,107]
[89840,85.003296392099998,85]
[5442,94.323519200700005,94]
[65539,97.9350652782,98]
[33290,105.16530654500001,105]
[79666,68.423887478799998,68]
[10403,116.317739128,116]
[52343,116.715593062,117]
[92825,74.353977952899996,74]
[66220,122.57964244599999,123]
[80259,106.886980956,107]
[79224,133.53059904200001,134]
[27832,83.910956732599999,84]
[39253,94.833450246300004,95]
[52005,105.204247693,105]
[16452,115.738459308,116]
[83749,87.700989838599995,88]
[93693,117.107983468,117]
[47106,104.840796978,105]
[80880,98.086472902200001,98]
[66272,100.047400123,100]
[43708,100.90394871399999,101]
[29314,97.679337431700006,98]
[62503,90.687065245300005,91]
[61661,124.073709456,124]
[61763,93.801641028899994,94]
[87478,107.412700265,107]
[76025,87.700549314599996,88]
[82057,111.454283476,111]
[42689,94.449100798700002,94]
[43356,80.015861035699999,80]
[37419,104.434152599,104]
[35791,94.584314833700006,95]
[92743,108.23308413300001,108]
[84431,98.555697797099995,99]
[65489,92.318863584499994,92]
[22698,67.8991779869,68]
[43668,121.084256841,121]
[21718,107.75336725299999,108]
[8436,98.581497167400002,99]
[54429,99.333850949600006,{"$f":"ROUND(B706,0)","v":99}]
[91760,113.340406175,113]
[72583,101.537357931,102]
[95415,106.397488772,106]
[99766,98.438595705400004,98]
[61928,90.367450574100005,90]
[68551,92.344960316699996,92]
[13103,116.583248881,117]
[54929,92.003534266900004,92]
[96754,92.411227062600005,92]
[88118,101.42463465199999,101]
[7258,108.58362665200001,109]
[38896,97.479499866599994,97]
[70563,86.560148381900007,87]
[14568,102.186688214,102]
[9282,85.189939479900005,85]
[13707,107.90253339100001,108]
[28477,92.400163974799995,92]
[18779,102.671719086,103]
[87785,101.157816944,101]
[29785,84.838173726400001,85]
[50484,100.461748693,100]
[67043,131.61385964499999,132]
[25146,95.042736768899999,95]
[96241,117.791672525,118]
[40494,94.320827334200004,94]
[53873,90.175302059900005,90]
[19077,113.151818397,113]
[76193,101.385169221,101]
[40409,104.728035347,105]
[59816,103.620031119,104]
[9182,100.561720396,101]
[7073,79.458534581699993,79]
[69180,106.438368794,106]
[34268,116.36722706499999,116]
[28525,95.909775547799995,96]
[45943,100.062631079,100]
[86873,74.513486379,75]
[3286,120.607199571,121]
[80189,66.810652452100001,67]
[39806,93.099455185799997,93]
[83727,116.611612859,117]
[2397,104.845480176,105]
[38836,93.914480869599998,94]
[20919,76.393926944200004,76]
[94221,102.299714127,102]
[34416,80.916132072699995,81]
[77277,100.21301259800001,100]
[27105,107.33091852299999,107]
[36135,90.2210854641,90]
[52253,94.240368131799997,94]
[18027,88.633242301999999,89]
[47068,92.856008734100001,93]
[74611,98.810888202200005,99]
[66731,106.08101952,106]
[9871,137.06629969799999,137]
[90700,84.988796737300007,85]
[11218,130.34787989200001,130]
[79394,110.566720776,111]
[29427,92.840965609700007,93]
[84400,74.759759956500005,75]
[98014,86.267061499799993,86]
[40321,93.6872733979,94]
[7707,131.49138295099999,131]
[91382,86.436897610399996,{"$f":"ROUND(B770,0)","v":86}]
[76605,104.824154318,105]
[30938,97.074136154200005,97]
[81679,105.153833816,105]
[56988,102.70289777399999,103]
[42214,112.844375181,113]
[71834,105.45789424100001,105]
[70834,125.10712930299999,125]
[79003,112.569730828,113]
[32735,104.084000944,104]
[55567,97.998123453999995,98]
[78740,113.923234447,114]
[2966,98.830938968300003,99]
[42805,118.63615371,119]
[4483,117.051318357,117]
[19613,94.649914886800005,95]
[42481,109.224177778,109]
[62859,84.702234256400004,85]
[53525,77.9029892872,78]
[69875,107.774856454,108]
[24532,126.992364505,127]
[43196,110.67557222000001,111]
[58045,90.439570278900007,90]
[44717,91.427403575400007,91]
[59793,103.345943769,103]
[83042,102.980077546,103]
[26619,86.601641914300004,87]
[99665,123.043749038,123]
[37944,135.52832581600001,136]
[44609,86.408649618400005,86]
[78858,93.824076659300005,94]
[57135,102.58928653,103]
[47981,101.156343529,101]
[92160,90.355808329699997,90]
[28218,118.512941372,119]
[58003,108.213442349,108]
[23526,92.882617421999996,93]
[56075,70.711228669700006,71]
[89820,124.231171526,124]
[38163,96.858006184000004,97]
[13147,116.689236189,117]
[21905,119.765798563,120]
[13254,97.789374615499995,98]
[30093,112.562766317,113]
[75663,136.46026148199999,136]
[44441,113.79161962800001,114]
[40396,94.288718471699994,94]
[89414,98.665745249899999,99]
[459,106.63124919099999,107]
[86776,98.984440727299997,99]
[88220,92.148412343800004,92]
[46454,78.026933560399996,78]
[52801,120.75878125200001,121]
[84365,77.084255452899995,77]
[56611,103.364466941,103]
[82811,89.504025786200003,90]
[44145,112.40301312299999,112]
[34089,84.4474947856,84]
[61174,86.975001926399997,87]
[32915,110.682329517,111]
[27450,101.98419499800001,102]
[8317,83.709897318299994,84]
[91052,92.964775276300003,93]
[10591,119.191107922,119]
[17495,76.1357722021,{"$f":"ROUND(B834,0)","v":76}]
[93970,77.862679712399995,78]
[91734,99.361965917800006,99]
[60620,99.417537978300004,99]
[36183,63.055474339500002,63]
[56582,90.714370161299996,91]
[72870,82.386539396499998,82]
[35302,108.76245971199999,109]
[82863,115.21401872600001,115]
[29360,89.844296849000003,90]
[41082,104.48840112400001,104]
[96022,104.59491891899999,105]
[29634,88.891157098899996,89]
[27253,82.709886529800002,83]
[57778,113.915142966,114]
[39806,93.099455185799997,93]
[41665,103.984596332,104]
[86010,105.633057889,106]
[21963,107.84796513400001,108]
[50890,103.26175836199999,103]
[22501,94.813053255499995,95]
[26241,92.145639922100003,92]
[78052,79.860344779000002,80]
[77277,100.21301259800001,100]
[84380,117.966381758,118]
[42484,66.647737702300006,67]
[48682,96.837353673300001,97]
[32304,103.105267029,103]
[43543,106.083473758,106]
[17265,110.68958252500001,111]
[92528,97.373554330499999,97]
[21201,113.21573559399999,113]
[40548,55.251888423399997,55]
[60160,116.783342342,117]
[87110,96.271658444899998,96]
[92656,92.601697927700002,93]
[85583,114.818017533,115]
[71859,89.4544607359,89]
[36608,97.368051912599995,97]
[15376,87.645553789600001,88]
[28774,105.702489622,106]
[33227,102.11524882499999,102]
[4677,84.904572804699995,85]
[79651,95.0417006184,95]
[55505,74.296810850400007,74]
[19368,108.633837156,109]
[72255,88.240361813299998,88]
[23915,125.65094222499999,126]
[6723,88.821665430500005,89]
[38687,128.84594243199999,129]
[20378,74.5318357174,75]
[86307,79.480848836999996,79]
[24257,97.405196983699994,97]
[96951,90.314734396600002,90]
[37994,100.880048968,101]
[81240,102.469700463,102]
[21124,114.415635853,114]
[86354,80.577735015599998,81]
[54770,101.668215811,102]
[955,122.771462337,123]
[76848,126.464496772,126]
[99577,97.092178836900004,97]
[98912,115.444833659,115]
[42089,76.132653351399995,76]
[57767,134.794292439,{"$f":"ROUND(B898,0)","v":135}]
[68855,84.578413200900002,85]
[79971,75.449835053000001,75]
[57236,96.786686666600005,97]
[62351,104.698165203,105]
[30032,136.08439597099999,136]
[96660,71.046331770500004,71]
[31509,78.645685546899998,79]
[91507,89.540803781700006,90]
[11630,121.467272878,121]
[69664,94.166782413099995,94]
[84105,137.43879535799999,137]
[43900,118.888066542,119]
[48909,103.734409254,104]
[99452,87.914035659500001,88]
[94864,83.286736969800003,83]
[36259,125.427138274,125]
[22931,101.350382821,101]
[49092,85.896043949499997,86]
[55831,114.213998167,114]
[48693,117.288259376,117]
[24618,116.72107189499999,117]
[52062,79.058411385499994,79]
[47825,102.843498028,103]
[95002,113.628196063,114]
[43821,90.115116923800002,90]
[45062,85.709000101900003,86]
[41993,99.955618290700002,100]
[17990,108.86332548599999,109]
[83379,122.161373658,122]
[25828,123.32768871899999,123]
[26380,109.940581245,110]
[9776,98.651407000500001,99]
[98179,118.899891944,119]
[35943,118.835546921,119]
[57485,100.168006891,100]
[57112,123.434617659,123]
[59225,109.202793703,109]
[68651,100.56205787099999,101]
[36827,66.109981865500004,66]
[11686,114.379717164,114]
[42694,107.49819156300001,107]
[1667,114.96519788000001,115]
[12510,107.310415459,107]
[85445,93.874253152799994,94]
[44002,97.029912666599998,97]
[54993,94.706511165699993,95]
[5778,95.582430158199998,96]
[70898,111.93815447199999,112]
[16867,109.40143301800001,109]
[73728,99.077770625499994,99]
[62586,116.104423174,116]
[86435,115.774497658,116]
[37368,85.851563967900006,86]
[35881,106.70919377200001,107]
[30157,84.824751361400004,85]
[46639,88.907273773200004,89]
[93013,92.444247705099997,92]
[85183,90.880126034100002,91]
[58545,92.720908170499996,93]
[57593,108.602797141,109]
[96795,84.305919774000003,84]
[88901,87.653346888300007,88]
[27199,85.383378136299996,85]
[37200,80.843315090199994,{"$f":"ROUND(B962,0)","v":81}]
[26259,98.986164284699996,99]
[20650,100.81870999900001,101]
[96527,103.367309913,103]
[60491,73.299495586299997,73]
[87564,106.19095493499999,106]
[68205,103.441971739,103]
[84455,95.287793084300006,95]
[29937,115.60261566600001,116]
[4544,92.222250606100005,92]
[66312,103.264220885,103]
[67989,103.022631297,103]
[70764,83.454791568700003,83]
[32772,92.678239892500002,93]
[54504,92.1440776118,92]
[9784,85.855472335200005,86]
[51263,93.085375776000006,93]
[98621,80.297635233099996,80]
[59912,112.675481155,113]
[9698,83.680921477699997,84]
[28108,97.227122214800005,97]
[63327,104.266270105,104]
[5076,84.464947783300005,84]
[81361,148.19630762,148]
[16659,97.485418354299995,97]
[12053,82.729218312,83]
[40758,73.723244068499994,74]
[53734,111.60883564300001,112]
[86284,103.383072304,103]
[67950,92.856210314199998,93]
[3756,99.732329562299995,100]
[97672,102.856566202,103]
[80665,116.895808954,117]
[31218,111.56244987300001,112]
[99718,100.924802785,101]
[77489,72.517497188099995,73]
[63113,108.442663071,108]
[43173,90.751683046099998,91]
[10947,98.177946301600002,98]
[27517,97.941274663000002,98]
[86884,93.445751423999994,93]
[75305,99.5384651281,100]
[29223,107.45897701200001,107]
[53669,105.729483505,106]
[90482,108.885991613,109]
[43343,118.392346989,118]
[13610,120.35926640300001,120]
[60005,109.03185425300001,109]
[17982,114.226756911,114]
[46317,118.61251513099999,119]
[73269,100.938000579,101]
[291,103.95494902900001,104]
[64336,117.74808567300001,118]
[30618,98.205962861700002,98]
[75272,100.064319704,100]
[54562,108.61150790400001,109]
[45688,104.675838231,105]
[79067,99.130115930399995,99]
[77412,133.189548968,133]
[30686,83.217578458000006,83]
[94686,105.042640783,105]
[24969,98.519686179299995,99]
[86019,93.389857981000006,93]
[90924,86.84889373,87]
[80794,103.61619094300001,{"$f":"ROUND(B1026,0)","v":104}]
[91182,117.881191001,118]
[38770,102.246667387,102]
[3495,86.574369260699996,87]
[55604,87.3050133598,87]
[54178,85.388003831899994,85]
[12503,84.884228162400007,85]
[19138,90.244900127999998,90]
[23152,99.344415462000001,99]
[33103,112.702561793,113]
[56026,97.6784835534,98]
[72674,89.345405818100005,89]
[35225,72.1062110859,72]
[3842,82.728447650199996,83]
[47936,99.350844726899993,99]
[9568,85.044884291399995,85]
[11678,79.542187431299993,80]
[38080,135.06973482500001,135]
[79424,105.216204307,105]
[37491,117.375635508,117]
[85745,93.078514311600003,93]
[67368,110.69742447599999,111]
[62094,105.017406196,105]
[2886,90.102383162400002,90]
[74351,76.232661177899999,76]
[72179,96.711235815500004,97]
[60770,112.314983001,112]
[92525,81.668950727099997,82]
[73426,58.617179589700001,59]
[95977,76.487346853700004,76]
[51314,70.703604681399995,71]
[60078,114.86912157499999,115]
[78213,91.509631370099996,92]
[84276,75.179769329099997,75]
[3433,104.37860556,104]
[77670,94.002263472500005,94]
[28588,98.175883346399999,98]
[48703,119.48582358,119]
[88497,116.834482467,117]
[12444,106.004385726,106]
[79366,103.470448936,103]
[56061,94.544861212200004,95]
[12346,97.821375205099997,98]
[28129,99.368600453799999,99]
[95617,98.610044196399997,99]
[42392,133.94552119100001,134]
[73106,91.429266116199997,91]
[11596,80.0163408855,80]
[72977,105.885649868,106]
[52036,96.774819149600006,97]
[44002,97.029912666599998,97]
[24422,65.457532540700001,65]
[82960,115.561261386,116]
[1700,126.38917416,126]
[81167,93.361110072599999,93]
[79456,87.176817709399998,87]
[43273,81.786586080399999,82]
[69515,124.282873057,124]
[56457,86.288302351799999,86]
[42377,111.944536478,112]
[13127,71.783129220700005,72]
[9100,86.007873600099998,86]
[15266,108.21984254900001,108]
[58261,104.356950392,104]
[13547,115.41321052000001,{"$f":"ROUND(B1090,0)","v":115}]
[88625,97.389021300899998,97]
[59332,91.091418685799994,91]
[3138,96.710934750800007,97]
[72690,94.1442959906,94]
[54874,123.503512152,124]
[54555,100.260009297,100]
[60560,112.78114658299999,113]
[96152,75.795762892100001,76]
[22306,77.251080691699997,77]
[63807,105.422892719,105]
[23160,109.460081262,109]
[62283,92.493915609400005,92]
[87118,92.4062557158,92]
[4746,66.029797157499999,66]
[19215,100.207528842,100]
[42503,124.695861849,125]
[66309,86.385363825799999,86]
[32627,67.237900010000004,67]
[64209,103.31179514900001,103]
[46605,105.19305663199999,105]
[61741,87.377667036099993,87]
[48115,109.69888001299999,110]
[37398,118.904734023,119]
[93079,105.556860247,106]
[49200,77.956202756300002,78]
[30099,89.742695737299996,90]
[83367,109.043965034,109]
[4415,91.970562493100005,92]
[92462,88.948542531800001,89]
[93500,89.426894059099993,89]
[38597,86.730448553700001,87]
[27421,95.085729490999995,95]
[82354,83.225163733200006,83]
[72091,93.357540508300005,93]
[83026,120.73160266399999,121]
[78535,85.893680547299994,86]
[815,92.642935685699996,93]
[26301,79.547630817300004,80]
[16611,105.677581481,106]
[14133,84.782831311600006,85]
[9962,105.916763463,106]
[76035,91.1554278686,91]
[60890,72.490558702499996,72]
[25849,96.128359665299996,96]
[66147,99.618331951299993,100]
[58481,116.73736783,117]
[85549,97.969121294399997,98]
[60881,109.9150887,110]
[59025,105.36669451,105]
[10926,109.02386428,109]
[59978,95.716757903800001,96]
[67306,93.817742513599995,94]
[75614,93.5789575262,94]
[78565,55.828343643300002,56]
[29838,96.308512101399998,96]
[64393,111.164618093,111]
[89358,73.313872331799999,73]
[47319,118.971525853,119]
[18620,80.585173118200004,81]
[37915,90.3735113993,90]
[74188,103.158309042,103]
[1642,102.59803721599999,103]
[54212,82.668781067400005,83]
[60461,77.447696169500006,{"$f":"ROUND(B1154,0)","v":77}]
[43588,99.913242507199996,100]
[7335,96.989498999700004,97]
[20457,97.942535305600003,98]
[36748,102.54007624499999,103]
[14652,105.76176046800001,106]
[19361,83.750295806599993,84]
[33720,97.143274865400002,97]
[73937,108.393862687,108]
[97154,102.868183433,103]
[14654,127.184454519,127]
[44446,102.885443274,103]
[76940,95.700683378500003,96]
[7602,106.83869205800001,107]
[49936,88.536401841200004,89]
[63725,125.91516575999999,126]
[68737,104.764169267,105]
[8308,95.102168045799999,95]
[44522,72.377927383900001,72]
[14854,102.903918476,103]
[35688,113.895420739,114]
[71446,110.896551571,111]
[88141,79.978594502500002,80]
[9899,104.768127405,105]
[97842,88.399064448000004,88]
[68115,102.795745315,103]
[73744,71.589343402400004,72]
[51260,92.712924620899997,93]
[4252,108.02613923600001,108]
[82404,73.724743105100004,74]
[55316,117.98912294100001,118]
[58230,90.1239362787,90]
[53290,116.882023676,117]
[50451,110.063466719,110]
[30689,71.437161822299998,71]
[18558,110.638426956,111]
[37954,94.730732148599998,95]
[24510,62.099837664100001,62]
[49359,87.829861536199999,88]
[65015,110.49197116800001,110]
[16186,102.78248000400001,103]
[62007,107.008389464,107]
[45290,119.380481582,119]
[76952,85.3073748077,85]
[6180,102.994776184,103]
[39609,66.670701682900003,67]
[94735,105.072419067,105]
[6866,99.099618914100006,99]
[6696,74.576867719199996,75]
[92283,116.92713656700001,117]
[99041,117.37803318500001,117]
[31961,98.3443356123,98]
[42375,99.114252225000001,99]
[77360,94.228972956800007,94]
[92468,86.009407588599998,86]
[30708,125.495396844,125]
[34049,69.197499171999993,69]
[63595,91.700818219699997,92]
[74998,112.560495375,113]
[84413,90.650336053100006,91]
[94051,92.490100014000006,92]
[45234,76.671843095599996,77]
[70146,109.84662829600001,110]
[3776,101.60131986,102]
[46534,79.632733808599994,{"$f":"ROUND(B1218,0)","v":80}]
[81070,112.02332945800001,112]
[7779,110.299082024,110]
[80452,81.335481442700001,81]
[72779,107.235480025,107]
[58513,89.233894817000007,89]
[31921,105.08801355,105]
[63619,103.637346536,104]
[81507,96.206398555999996,96]
[82646,78.739459475999993,79]
[33568,111.37307119899999,111]
[61533,83.3487933336,83]
[4194,100.22205165699999,100]
[90293,79.454881866199997,79]
[8504,122.744154951,123]
[68098,101.654491558,102]
[15382,104.154569248,104]
[89076,116.793540025,117]
[40108,115.814940392,116]
[14424,112.65413186000001,113]
[77993,116.612689222,117]
[21483,108.087640689,108]
[7171,86.374791995500004,86]
[45388,107.198680247,107]
[13639,94.878228606700006,95]
[53925,97.375157662000007,97]
[16705,93.016122043099998,93]
[21204,97.963873242199995,98]
[97937,58.442906239199999,58]
[90803,101.990887527,102]
[61760,98.2577313062,98]
[43975,113.952016554,114]
[80819,109.83325372100001,110]
[13568,98.924102951899997,99]
[4230,110.81191511999999,111]
[9266,92.850958387099993,93]
[31847,121.420777504,121]
[44786,118.841885096,119]
[82671,101.35476835599999,101]
[82657,108.74424113400001,109]
[10524,89.855446877999995,90]
[37196,79.770483149300006,80]
[45112,93.855046917600006,94]
[1315,89.515816669800003,90]
[61608,80.294588107300001,80]
[87778,102.899799311,103]
[6867,73.951875279700005,74]
[546,105.32283097200001,105]
[35421,126.65082116799999,127]
[76811,101.08051438299999,101]
[33348,76.329004874000006,76]
[65369,84.895961926499993,85]
[33167,97.487689348800004,97]
[31938,99.876957551199993,100]
[47875,102.335049113,102]
[7066,90.808897677900006,91]
[77239,75.597861824600002,76]
[17227,105.318674691,105]
[64492,87.153839393699997,87]
[64757,123.311312789,123]
[6535,99.947935624199999,100]
[47236,110.164494547,110]
[45780,119.754257512,120]
[31953,98.364175651599993,98]
[96768,102.303317781,{"$f":"ROUND(B1282,0)","v":102}]
[26071,95.319553489,95]
[85665,102.926176629,103]
[8123,125.01656025,125]
[5783,95.585602359199996,96]
[11455,101.31668526199999,101]
[17235,103.215526862,103]
[75256,99.952311373399993,100]
[43862,99.696907068499996,100]
[3783,117.514478786,118]
[45548,94.576221798899994,95]
[99421,109.719728562,110]
[69046,83.055809879500003,83]
[60191,116.76706980900001,117]
[5451,97.983555689900001,98]
[57335,102.917747679,103]
[7438,113.614727798,114]
[33614,103.54896213000001,104]
[44385,82.529202758500006,83]
[87920,115.81158844799999,116]
[98521,88.105958512699999,88]
[36852,72.614859114799998,73]
[30204,94.193425191499998,94]
[68866,103.622556284,104]
[65472,127.801495886,128]
[31629,103.32717629699999,103]
[83983,100.657347202,101]
[18198,99.081134678799998,99]
[10469,92.433794423199998,92]
[42658,96.266756466199993,96]
[37833,93.272544611699999,93]
[20834,118.445978415,118]
[35008,120.021554851,120]
[96705,101.60780706,102]
[17711,76.744996175200001,77]
[80149,86.101960609399995,86]
[85212,85.576905771100002,86]
[86644,105.49132564600001,105]
[51237,110.911807733,111]
[94538,121.55257432499999,122]
[22147,109.704375751,110]
[60531,115.416542933,115]
[501,93.715543193900004,94]
[58978,110.349379774,110]
[17133,89.041404015599994,89]
[35655,108.363917989,108]
[19879,100.82286949900001,101]
[91590,132.95303062100001,133]
[72056,100.050097495,100]
[37609,92.930041698300002,93]
[38846,79.207524284599998,79]
[85202,112.112172359,112]
[64681,106.54618295500001,107]
[64348,111.457448387,111]
[69785,96.3848958942,96]
[83913,113.250331618,113]
[18964,84.010246434300001,84]
[75254,92.731519947500004,93]
[40803,122.99332862200001,123]
[84652,89.194985377400002,89]
[366,105.77799226499999,106]
[5195,99.352144544799998,99]
[53543,95.915490894300007,96]
[63744,123.151614623,123]
[36162,142.322256119,{"$f":"ROUND(B1346,0)","v":142}]
[3593,95.371945084999993,95]
[65992,113.078502284,113]
[28469,142.43842250399999,142]
[60759,94.813866441599998,95]
[98479,115.758089798,116]
[302,100.34133461899999,100]
[93631,127.25434724900001,127]
[86003,104.248294665,104]
[85564,92.808124675800002,93]
[75595,110.806816596,111]
[83110,82.732856197499999,83]
[96495,97.575310605300004,98]
[42296,106.14649930900001,106]
[65777,78.500321899400006,79]
[56435,106.65648743,107]
[69903,115.085587784,115]
[66921,133.47219316100001,133]
[82354,83.225163733200006,83]
[60341,94.573841996300004,95]
[22272,90.066288130700002,90]
[42553,104.653453137,105]
[82242,120.478519666,120]
[5332,113.35668397000001,113]
[78340,107.39974205,107]
[26228,103.866895832,104]
[578,86.308997879299994,86]
[67243,94.146634969999994,94]
[66849,108.943783071,109]
[62971,86.318782286699999,86]
[8535,83.9039628182,84]
[13806,74.193865414399994,74]
[40857,104.540320186,105]
[24860,119.89212531699999,120]
[96134,58.391395140599997,58]
[56209,79.005339085299994,79]
[23049,120.49254764299999,120]
[75085,111.571947608,112]
[80056,106.078454396,106]
[25657,90.700442531600004,91]
[76055,86.208785525699994,86]
[57009,122.437251702,122]
[36455,112.801123025,113]
[74942,112.203484887,112]
[97756,117.451703538,117]
[8238,83.218507065200001,83]
[58769,93.375728795800001,93]
[4997,112.108377164,112]
[41602,107.442931421,107]
[99676,104.36816414499999,104]
[40535,70.6374409939,71]
[16462,85.479432536999994,85]
[61918,98.033603538600005,98]
[99590,91.478258651100006,91]
[83199,107.194944103,107]
[86248,118.63828164900001,119]
[84225,86.719295159200001,87]
[62675,99.829267319699994,100]
[28931,92.261153050499999,92]
[69097,98.199721085799993,98]
[545,90.949818117299998,91]
[44112,100.466253091,100]
[18434,88.866037926399997,89]
[24147,76.058815963699999,76]
[89716,104.83966031999999,{"$f":"ROUND(B1410,0)","v":105}]
[38633,104.248898572,104]
[73761,103.31544424000001,103]
[66492,104.206235455,104]
[62708,74.239189883899996,74]
[44586,98.201855894600001,98]
[6124,128.04741029300001,128]
[43744,68.242148674500001,68]
[32929,72.463706232700005,72]
[52990,91.853109445499996,92]
[48707,87.798774987000002,88]
[37600,86.311117038899994,86]
[11542,117.516389029,118]
[61608,80.294588107300001,80]
[14482,114.585058495,115]
[90399,101.43856533,101]
[27778,118.319057981,118]
[13998,101.215196405,101]
[79014,106.07106314799999,106]
[56689,83.051658431800007,83]
[74245,130.165925203,130]
[63586,115.379656091,115]
[88283,124.027596276,124]
[79786,104.500794626,105]
[77244,76.682691170699997,77]
[62721,99.449604535800006,99]
[91488,87.221779908499997,87]
[93339,99.500627416699999,100]
[92077,106.962045266,107]
[76741,104.509319086,105]
[98866,72.497586208800001,72]
[47892,105.20048255,105]
[23366,109.30313357599999,109]
[23036,103.52861778,104]
[64498,90.238755254400004,90]
[62444,85.255083590400005,85]
[70359,87.879817326999998,88]
[35107,81.441685280499996,81]
[94130,93.911474181700001,94]
[1015,82.418735146100005,82]
[97248,97.567403307800006,98]
[51632,102.842410117,103]
[77976,92.505595992699995,93]
[74207,108.068594463,108]
[28477,92.400163974799995,92]
[30529,92.097966345399996,92]
[48539,97.820930331599996,98]
[65767,109.530326804,110]
[69057,116.07754282800001,116]
[88012,116.483594591,116]
[63416,117.69900030300001,118]
[84147,88.019660289000001,88]
[49878,93.686360043600004,94]
[62664,112.800490811,113]
[13118,79.704425081699995,80]
[39071,84.146835921600001,84]
[98021,79.8853146557,80]
[4491,107.795368203,108]
[53875,96.265370229699997,96]
[43094,107.096862124,107]
[32071,70.557169045199998,71]
[88985,114.396516331,114]
[65454,91.467557480300002,91]
[38164,60.093396958699998,60]
[82431,94.959060239600007,{"$f":"ROUND(B1474,0)","v":95}]
[56193,89.858901980100001,90]
[33971,83.790589769600004,84]
[47190,92.272659090900007,92]
[36629,111.859702497,112]
[74774,127.409943947,127]
[59699,99.219224577899993,99]
[50595,107.113479271,107]
[9640,96.912595587799998,97]
[31061,94.184438969699997,94]
[89887,93.328888629199994,93]
[87890,136.51288139299999,137]
[39187,95.790215646799993,96]
[43126,110.43819317000001,110]
[76566,117.872400767,118]
[84225,86.719295159200001,87]
[6064,87.881850796999998,88]
[99844,118.53420901200001,119]
[59366,96.001518705799995,96]
[1962,78.694894534499994,79]
[79441,80.655529124200001,81]
[24951,123.37257640200001,123]
[73328,132.19071062899999,132]
[17228,105.97915651,106]
[87182,104.356969655,104]
[66109,88.655522321399999,89]
[81715,112.289992254,112]
[21486,108.81760082,109]
[11152,88.620461437499998,89]
[8968,102.249144927,102]
[33825,97.796699133999994,98]
[48090,117.06098172199999,117]
[7535,114.32062028,114]
[16231,95.822778517299994,96]
[47804,109.53429609200001,110]
[23855,72.830290066700002,73]
[52142,99.550009705600004,100]
[91711,97.6147340598,98]
[18457,84.7761275015,85]
[45611,98.284673471800005,98]
[10727,93.776289853899996,94]
[69400,76.263872834599994,76]
[50064,79.715381871800005,80]
[81773,139.70791305200001,140]
[34296,137.23484092300001,137]
[27526,95.346396526999996,95]
[14187,130.85015483000001,131]
[98900,127.509343058,128]
[79423,134.10788115599999,134]
[27619,68.835417204199999,69]
[32489,92.451468427199998,92]
[13258,80.591186941499998,81]
[53560,84.314968912099999,84]
[78571,102.409771748,102]
[84540,92.147510650800001,92]
[67383,120.055094419,120]
[85352,88.031236314899999,88]
[25701,106.20662546600001,106]
[40635,93.591914651899998,94]
[31641,93.008836638199995,93]
[19946,103.817221324,104]
[64816,84.881079744000004,85]
[19604,88.546369689399995,89]
[30795,91.232538457199993,91]
[39305,115.63557208,{"$f":"ROUND(B1538,0)","v":116}]
[81273,96.794391299200001,97]
[71623,104.180063186,104]
[95563,93.838340776600006,94]
[7524,115.338726423,115]
[14044,115.220238458,115]
[86029,112.466036016,112]
[39185,82.223664454599998,82]
[41136,115.539151895,116]
[44776,98.433421211300001,98]
[24132,125.778966368,126]
[58981,100.17518812599999,100]
[4429,81.483722839400002,81]
[11852,92.339973625200003,92]
[77028,77.069307648899994,77]
[62915,70.8814388479,71]
[29760,108.692893821,109]
[49460,103.054753123,103]
[48409,87.726719087999996,88]
[21161,91.469266430700003,91]
[62860,83.132243638700004,83]
[51648,103.711575381,104]
[62377,102.93457203,103]
[42659,87.171675518000001,87]
[33156,94.122204062500003,94]
[61391,98.131729291900001,98]
[96259,100.89440997200001,101]
[76684,79.531120524599999,80]
[49076,75.125688866000004,75]
[84652,89.194985377400002,89]
[38414,107.510111338,108]
[39403,96.552645945999998,97]
[18365,83.357877170099997,83]
[29445,92.771788878899997,93]
[71051,80.151287236300007,80]
[65441,112.345100512,112]
[93398,100.171696879,100]
[69898,103.913979,104]
[78039,88.653003744100005,89]
[84445,104.07559074300001,104]
[41491,104.906856652,105]
[35312,75.462009080900003,75]
[77718,94.966989946300004,95]
[22639,96.798166363799993,97]
[40212,111.227116272,111]
[24231,91.927732276100002,92]
[80714,114.850727529,115]
[29397,88.510466091699996,89]
[97699,89.167973011900003,89]
[43494,107.029463167,107]
[72752,104.81494042600001,105]
[28795,85.897889870100002,86]
[97965,116.307182205,116]
[72309,74.325502444700007,74]
[22466,101.142788481,101]
[96183,97.494610282300002,97]
[71218,103.059999402,103]
[51305,91.140153532599996,91]
[14212,94.1126757591,94]
[59739,114.580690327,115]
[89167,96.3521766227,96]
[96603,117.41380995199999,117]
[5882,98.551872923199994,99]
[27039,111.23228726799999,111]

{"sheet":"1600_Means","index":16,"n_rows":101,"n_cols":8,"rows_kept":101,"cut":false,"hidden":false,"merged":[]}
["Mean","Means"]
[{"$f":"AVERAGE('1600_Sample'!C:C)","v":99.59},99.956249999999997,{"$f":"AVERAGE(B:B)","v":100.0511875},"mean"]
[null,100.61687499999999,{"$f":"MAX(B:B)","v":101.129375},"max"]
[null,99.754374999999996,{"$f":"MIN(B:B)","v":99.053124999999994},"min"]
[null,99.363749999999996,{"$f":"C3-C4","v":2.0762500000000017},"range"]
[null,100.10187500000001,{"$f":"STDEV(B:B)","v":0.40060748831598358},"SD"]
[null,99.674374999999998,{"$f":"VAR(B:B)","v":0.16048635969484093},"variance"]
[null,100.434375]
[null,99.873750000000001]
[null,100.58750000000001]
[null,99.849374999999995,"mean",{"$f":"B101","v":99.59},null,{"$f":"$G$11-$D$13","v":99.217927814706044},{"$f":"D11","v":99.59},{"$f":"$G$11+$D$13","v":99.962072185293962}]
[null,100.1525,"sd",{"$f":"STDEV('1600_Sample'!C:C)","v":14.882887411758139},null,{"$f":"$G$11-(2*$D$13)","v":98.8458556294121},null,{"$f":"$G$11+(2*$D$13)","v":100.33414437058791}]
[null,100.248125,"se",{"$f":"D12/(SQRT(COUNT('1600_Sample'!B:B)))","v":0.37207218529395347},null,{"$f":"$G$11-(3*$D$13)","v":98.473783444118141},null,{"$f":"$G$11+(3*$D$13)","v":100.70621655588187}]
[null,100.03125]
[null,99.883750000000006]
[null,99.471249999999998]
[null,99.788124999999994]
[null,99.5]
[null,99.887500000000003]
[null,100.74187499999999]
[null,100.151875]
[null,100.57125000000001]
[null,100.66]
[null,99.738749999999996]
[null,99.721249999999998]
[null,100.77500000000001]
[null,100.205625]
[null,99.796875]
[null,99.984999999999999]
[null,100.471875]
[null,99.636875000000003]
[null,100.38875]
[null,99.881249999999994]
[null,100.359375]
[null,100.50687499999999]
[null,99.797499999999999]
[null,100.07125000000001]
[null,99.941874999999996]
[null,99.851249999999993]
[null,100.19437499999999]
[null,99.977500000000006]
[null,100.075625]
[null,100.276875]
[null,100.04]
[null,100.089375]
[null,100.66187499999999]
[null,99.927499999999995]
[null,101.129375]
[null,100.57062500000001]
[null,100.13312500000001]
[null,100.23875]
[null,100.0675]
[null,99.774375000000006]
[null,100.174375]
[null,100.015625]
[null,100.1525]
[null,99.552499999999995]
[null,100.34875]
[null,100.36562499999999]
[null,100.11]
[null,100.574375]
[null,99.965000000000003]
[null,99.916250000000005]
[null,100.67874999999999]
[null,99.053124999999994]
[null,100.16437500000001]
[null,99.583124999999995]
[null,99.539375000000007]
[null,100.1575]
[null,100.15062500000001]
[null,99.723124999999996]
[null,100.28749999999999]
[null,100.333125]
[null,99.298124999999999]
[null,99.588125000000005]
[null,100.5025]
[null,100.07625]
[null,100.328125]
[null,100.8475]
[null,100.24375000000001]
[null,99.606250000000003]
[null,99.108125000000001]
[null,99.921875]
[null,100.0825]
[null,99.233750000000001]
[null,100.4375]
[null,100.125]
[null,99.765000000000001]
[null,100.26625]
[null,99.948750000000004]
[null,99.084999999999994]
[null,100.14375]
[null,100.051875]
[null,99.978125000000006]
[null,100.21375]
[null,100.52312499999999]
[null,99.429374999999993]
[null,99.809375000000003]
[null,100.31937499999999]
[null,100.16374999999999]
[null,99.59]

{"sheet":"Histogram","index":17,"n_rows":85,"n_cols":3,"rows_kept":85,"cut":false,"hidden":false,"merged":[]}
[]
[2]
[null,"계급","빈도수"]
[null,74.5,1]
[null,79.650000000000006,3]
[null,84.8,6]
[null,89.95,6]
[null,95.1,15]
[null,100.25,17]
[null,105.4,20]
[null,110.55000000000001,15]
[null,115.7,11]
[null,120.85,2]
[null,"기타",4]
[]
[]
[4]
[null,"계급","빈도수"]
[null,78.75,1]
[null,83.15,1]
[null,87.55,5]
[null,91.95,9]
[null,96.35,22]
[null,100.75,18]
[null,105.15,16]
[null,109.55000000000001,17]
[null,113.95,5]
[null,118.35,4]
[null,"기타",2]
[]
[16]
[null,"계급","빈도수"]
[null,91.375,1]
[null,93.075000000000003,2]
[null,94.775000000000006,3]
[null,96.474999999999994,12]
[null,98.174999999999997,12]
[null,99.875,15]
[null,101.575,26]
[null,103.27500000000001,12]
[null,104.97499999999999,9]
[null,106.675,2]
[null,"기타",6]
[]
[25]
[null,"계급","빈도수"]
[null,92.28,1]
[null,94.048000000000002,4]
[null,95.816000000000003,7]
[null,97.584000000000003,10]
[null,99.352000000000004,14]
[null,101.12,20]
[null,102.88800000000001,19]
[null,104.65599999999999,12]
[null,106.42399999999999,7]
[null,108.19199999999999,5]
[null,"기타",1]
[]
[100]
[null,"계급","빈도수"]
[null,96.79,1]
[null,97.474000000000004,1]
[null,98.158000000000001,5]
[null,98.841999999999999,9]
[null,99.525999999999996,19]
[null,100.21000000000001,15]
[null,100.89400000000001,19]
[null,101.578,8]
[null,102.262,15]
[null,102.946,4]
[null,"기타",4]
[]
[400]
[null,"계급","빈도수"]
[null,98.275000000000006,1]
[null,98.610500000000002,1]
[null,98.945999999999998,6]
[null,99.281500000000008,9]
[null,99.617000000000004,15]
[null,99.952500000000001,15]
[null,100.288,20]
[null,100.62349999999999,15]
[null,100.959,11]
[null,101.2945,6]
[null,"기타",1]

{"sheet":"SampleNdata","index":18,"n_rows":107,"n_cols":13,"rows_kept":107,"cut":false,"hidden":false,"merged":[]}
["ser","n=2","n=4","n=16","n=25","n=100","n=400","n=900","n=1600"]
[1,{"$f":"'2_Means'!$B2","v":126},{"$f":"'4_Means'!$B2","v":107.75},{"$f":"'16_Means'!$B2","v":100.6875},{"$f":"'25_Means'!$B2","v":101.4},{"$f":"'100_Means'!$B2","v":98.7},{"$f":"'400_Means'!$B2","v":101.23},{"$f":"'900_Means'!$B2","v":100.53555555555556},{"$f":"'1600_Means'!$B2","v":99.956249999999997},null,null,"계급","빈도수"]
[2,{"$f":"'2_Means'!$B3","v":114.5},{"$f":"'4_Means'!$B3","v":100.25},{"$f":"'16_Means'!$B3","v":100.5625},{"$f":"'25_Means'!$B3","v":97.08},{"$f":"'100_Means'!$B3","v":102.13},{"$f":"'400_Means'!$B3","v":101.08},{"$f":"'900_Means'!$B3","v":100.09888888888889},{"$f":"'1600_Means'!$B3","v":100.61687499999999},null,null,74.5,1]
[3,{"$f":"'2_Means'!$B4","v":103.5},{"$f":"'4_Means'!$B4","v":99.75},{"$f":"'16_Means'!$B4","v":96.0625},{"$f":"'25_Means'!$B4","v":95.8},{"$f":"'100_Means'!$B4","v":101.79},{"$f":"'400_Means'!$B4","v":99.444999999999993},{"$f":"'900_Means'!$B4","v":100.55444444444444},{"$f":"'1600_Means'!$B4","v":99.754374999999996},null,null,79.650000000000006,3]
[4,{"$f":"'2_Means'!$B5","v":125.5},{"$f":"'4_Means'!$B5","v":94.5},{"$f":"'16_Means'!$B5","v":97.25},{"$f":"'25_Means'!$B5","v":102.16},{"$f":"'100_Means'!$B5","v":100.47},{"$f":"'400_Means'!$B5","v":100.61750000000001},{"$f":"'900_Means'!$B5","v":99.284444444444446},{"$f":"'1600_Means'!$B5","v":99.363749999999996},null,null,84.8,6]
[5,{"$f":"'2_Means'!$B6","v":104},{"$f":"'4_Means'!$B6","v":98.5},{"$f":"'16_Means'!$B6","v":97.4375},{"$f":"'25_Means'!$B6","v":97.76},{"$f":"'100_Means'!$B6","v":99.52},{"$f":"'400_Means'!$B6","v":100.3775},{"$f":"'900_Means'!$B6","v":100.05111111111111},{"$f":"'1600_Means'!$B6","v":100.10187500000001},null,null,89.95,6]
[6,{"$f":"'2_Means'!$B7","v":106.5},{"$f":"'4_Means'!$B7","v":91.25},{"$f":"'16_Means'!$B7","v":97.5},{"$f":"'25_Means'!$B7","v":99.16},{"$f":"'100_Means'!$B7","v":100.55},{"$f":"'400_Means'!$B7","v":99.052499999999995},{"$f":"'900_Means'!$B7","v":100.78444444444445},{"$f":"'1600_Means'!$B7","v":99.674374999999998},null,null,95.1,15]
[7,{"$f":"'2_Means'!$B8","v":95.5},{"$f":"'4_Means'!$B8","v":108.5},{"$f":"'16_Means'!$B8","v":98.9375},{"$f":"'25_Means'!$B8","v":102.76},{"$f":"'100_Means'!$B8","v":99.25},{"$f":"'400_Means'!$B8","v":99.157499999999999},{"$f":"'900_Means'!$B8","v":99.951111111111118},{"$f":"'1600_Means'!$B8","v":100.434375},null,null,100.25,17]
[8,{"$f":"'2_Means'!$B9","v":102.5},{"$f":"'4_Means'!$B9","v":108.25},{"$f":"'16_Means'!$B9","v":100.3125},{"$f":"'25_Means'!$B9","v":99.8},{"$f":"'100_Means'!$B9","v":97.48},{"$f":"'400_Means'!$B9","v":100.1425},{"$f":"'900_Means'!$B9","v":99.94},{"$f":"'1600_Means'!$B9","v":99.873750000000001},null,null,105.4,20]
[9,{"$f":"'2_Means'!$B10","v":83.5},{"$f":"'4_Means'!$B10","v":104.5},{"$f":"'16_Means'!$B10","v":95.375},{"$f":"'25_Means'!$B10","v":99.36},{"$f":"'100_Means'!$B10","v":101},{"$f":"'400_Means'!$B10","v":100.175},{"$f":"'900_Means'!$B10","v":99.873333333333335},{"$f":"'1600_Means'!$B10","v":100.58750000000001},null,null,110.55000000000001,15]
[10,{"$f":"'2_Means'!$B11","v":105},{"$f":"'4_Means'!$B11","v":108.5},{"$f":"'16_Means'!$B11","v":95.875},{"$f":"'25_Means'!$B11","v":107.4},{"$f":"'100_Means'!$B11","v":100.78},{"$f":"'400_Means'!$B11","v":100.7975},{"$f":"'900_Means'!$B11","v":100.37888888888889},{"$f":"'1600_Means'!$B11","v":99.849374999999995},null,null,115.7,11]
[11,{"$f":"'2_Means'!$B12","v":96},{"$f":"'4_Means'!$B12","v":94.25},{"$f":"'16_Means'!$B12","v":106.8125},{"$f":"'25_Means'!$B12","v":99.52},{"$f":"'100_Means'!$B12","v":100.2},{"$f":"'400_Means'!$B12","v":99.322500000000005},{"$f":"'900_Means'!$B12","v":100.04222222222222},{"$f":"'1600_Means'!$B12","v":100.1525},null,null,120.85,2]
[12,{"$f":"'2_Means'!$B13","v":99.5},{"$f":"'4_Means'!$B13","v":106.75},{"$f":"'16_Means'!$B13","v":99.9375},{"$f":"'25_Means'!$B13","v":103.52},{"$f":"'100_Means'!$B13","v":99.59},{"$f":"'400_Means'!$B13","v":100.50749999999999},{"$f":"'900_Means'!$B13","v":100.53555555555556},{"$f":"'1600_Means'!$B13","v":100.248125},null,null,"기타",4]
[13,{"$f":"'2_Means'!$B14","v":111},{"$f":"'4_Means'!$B14","v":105.5},{"$f":"'16_Means'!$B14","v":95.5625},{"$f":"'25_Means'!$B14","v":99.68},{"$f":"'100_Means'!$B14","v":102.89},{"$f":"'400_Means'!$B14","v":99.435000000000002},{"$f":"'900_Means'!$B14","v":100.07},{"$f":"'1600_Means'!$B14","v":100.03125}]
[14,{"$f":"'2_Means'!$B15","v":97.5},{"$f":"'4_Means'!$B15","v":95.5},{"$f":"'16_Means'!$B15","v":100.3125},{"$f":"'25_Means'!$B15","v":99.36},{"$f":"'100_Means'!$B15","v":102.08},{"$f":"'400_Means'!$B15","v":100.80500000000001},{"$f":"'900_Means'!$B15","v":100.29111111111111},{"$f":"'1600_Means'!$B15","v":99.883750000000006},null,null,"계급","빈도수"]
[15,{"$f":"'2_Means'!$B16","v":94},{"$f":"'4_Means'!$B16","v":99},{"$f":"'16_Means'!$B16","v":97.875},{"$f":"'25_Means'!$B16","v":95.96},{"$f":"'100_Means'!$B16","v":102.47},{"$f":"'400_Means'!$B16","v":100.12},{"$f":"'900_Means'!$B16","v":99.784444444444446},{"$f":"'1600_Means'!$B16","v":99.471249999999998},null,null,78.75,1]
[16,{"$f":"'2_Means'!$B17","v":100},{"$f":"'4_Means'!$B17","v":106},{"$f":"'16_Means'!$B17","v":101.4375},{"$f":"'25_Means'!$B17","v":97.76},{"$f":"'100_Means'!$B17","v":100.64},{"$f":"'400_Means'!$B17","v":98.857500000000002},{"$f":"'900_Means'!$B17","v":100.54222222222222},{"$f":"'1600_Means'!$B17","v":99.788124999999994},null,null,83.15,1]
[17,{"$f":"'2_Means'!$B18","v":114.5},{"$f":"'4_Means'!$B18","v":99.5},{"$f":"'16_Means'!$B18","v":103.4375},{"$f":"'25_Means'!$B18","v":97.08},{"$f":"'100_Means'!$B18","v":99.96},{"$f":"'400_Means'!$B18","v":100.11750000000001},{"$f":"'900_Means'!$B18","v":99.674444444444447},{"$f":"'1600_Means'!$B18","v":99.5},null,null,87.55,5]
[18,{"$f":"'2_Means'!$B19","v":113},{"$f":"'4_Means'!$B19","v":89.75},{"$f":"'16_Means'!$B19","v":99.3125},{"$f":"'25_Means'!$B19","v":101.24},{"$f":"'100_Means'!$B19","v":99.34},{"$f":"'400_Means'!$B19","v":100.57250000000001},{"$f":"'900_Means'!$B19","v":100.13666666666667},{"$f":"'1600_Means'!$B19","v":99.887500000000003},null,null,91.95,9]
[19,{"$f":"'2_Means'!$B20","v":117},{"$f":"'4_Means'!$B20","v":91.75},{"$f":"'16_Means'!$B20","v":103.25},{"$f":"'25_Means'!$B20","v":97.48},{"$f":"'100_Means'!$B20","v":100.48},{"$f":"'400_Means'!$B20","v":100.52},{"$f":"'900_Means'!$B20","v":98.895555555555561},{"$f":"'1600_Means'!$B20","v":100.74187499999999},null,null,96.35,22]
[20,{"$f":"'2_Means'!$B21","v":107.5},{"$f":"'4_Means'!$B21","v":88},{"$f":"'16_Means'!$B21","v":94.5625},{"$f":"'25_Means'!$B21","v":102.64},{"$f":"'100_Means'!$B21","v":99.68},{"$f":"'400_Means'!$B21","v":99.152500000000003},{"$f":"'900_Means'!$B21","v":99.102222222222224},{"$f":"'1600_Means'!$B21","v":100.151875},null,null,100.75,18]
[21,{"$f":"'2_Means'!$B22","v":107.5},{"$f":"'4_Means'!$B22","v":108},{"$f":"'16_Means'!$B22","v":91.375},{"$f":"'25_Means'!$B22","v":100.2},{"$f":"'100_Means'!$B22","v":99.56},{"$f":"'400_Means'!$B22","v":99.385000000000005},{"$f":"'900_Means'!$B22","v":100.53},{"$f":"'1600_Means'!$B22","v":100.57125000000001},null,null,105.15,16]
[22,{"$f":"'2_Means'!$B23","v":105.5},{"$f":"'4_Means'!$B23","v":104.5},{"$f":"'16_Means'!$B23","v":104.375},{"$f":"'25_Means'!$B23","v":100.28},{"$f":"'100_Means'!$B23","v":97.49},{"$f":"'400_Means'!$B23","v":100.27500000000001},{"$f":"'900_Means'!$B23","v":99.736666666666665},{"$f":"'1600_Means'!$B23","v":100.66},null,null,109.55000000000001,17]
[23,{"$f":"'2_Means'!$B24","v":90.5},{"$f":"'4_Means'!$B24","v":114.25},{"$f":"'16_Means'!$B24","v":102.125},{"$f":"'25_Means'!$B24","v":96.12},{"$f":"'100_Means'!$B24","v":100.95},{"$f":"'400_Means'!$B24","v":98.707499999999996},{"$f":"'900_Means'!$B24","v":99.712222222222223},{"$f":"'1600_Means'!$B24","v":99.738749999999996},null,null,113.95,5]
[24,{"$f":"'2_Means'!$B25","v":84},{"$f":"'4_Means'!$B25","v":109.75},{"$f":"'16_Means'!$B25","v":107.1875},{"$f":"'25_Means'!$B25","v":97.52},{"$f":"'100_Means'!$B25","v":102.22},{"$f":"'400_Means'!$B25","v":101.19750000000001},{"$f":"'900_Means'!$B25","v":100.82777777777778},{"$f":"'1600_Means'!$B25","v":99.721249999999998},null,null,118.35,4]
[25,{"$f":"'2_Means'!$B26","v":74.5},{"$f":"'4_Means'!$B26","v":78.75},{"$f":"'16_Means'!$B26","v":100.75},{"$f":"'25_Means'!$B26","v":106.24},{"$f":"'100_Means'!$B26","v":99.08},{"$f":"'400_Means'!$B26","v":99.545000000000002},{"$f":"'900_Means'!$B26","v":100.14222222222222},{"$f":"'1600_Means'!$B26","v":100.77500000000001},null,null,"기타",2]
[26,{"$f":"'2_Means'!$B27","v":98.5},{"$f":"'4_Means'!$B27","v":97.5},{"$f":"'16_Means'!$B27","v":100.625},{"$f":"'25_Means'!$B27","v":97.32},{"$f":"'100_Means'!$B27","v":99.46},{"$f":"'400_Means'!$B27","v":99.435000000000002},{"$f":"'900_Means'!$B27","v":101.0188888888889},{"$f":"'1600_Means'!$B27","v":100.205625}]
[27,{"$f":"'2_Means'!$B28","v":94.5},{"$f":"'4_Means'!$B28","v":92},{"$f":"'16_Means'!$B28","v":102.9375},{"$f":"'25_Means'!$B28","v":101.2},{"$f":"'100_Means'!$B28","v":100.92},{"$f":"'400_Means'!$B28","v":99.627499999999998},{"$f":"'900_Means'!$B28","v":99.974444444444444},{"$f":"'1600_Means'!$B28","v":99.796875},null,null,"계급","빈도수"]
[28,{"$f":"'2_Means'!$B29","v":125},{"$f":"'4_Means'!$B29","v":111.5},{"$f":"'16_Means'!$B29","v":95.375},{"$f":"'25_Means'!$B29","v":93.92},{"$f":"'100_Means'!$B29","v":101.46},{"$f":"'400_Means'!$B29","v":99.52},{"$f":"'900_Means'!$B29","v":99.761111111111106},{"$f":"'1600_Means'!$B29","v":99.984999999999999},null,null,91.375,1]
[29,{"$f":"'2_Means'!$B30","v":94},{"$f":"'4_Means'!$B30","v":97},{"$f":"'16_Means'!$B30","v":108.375},{"$f":"'25_Means'!$B30","v":103},{"$f":"'100_Means'!$B30","v":98.86},{"$f":"'400_Means'!$B30","v":101.63},{"$f":"'900_Means'!$B30","v":99.45},{"$f":"'1600_Means'!$B30","v":100.471875},null,null,93.075000000000003,2]
[30,{"$f":"'2_Means'!$B31","v":115},{"$f":"'4_Means'!$B31","v":91},{"$f":"'16_Means'!$B31","v":98.75},{"$f":"'25_Means'!$B31","v":102.72},{"$f":"'100_Means'!$B31","v":98.51},{"$f":"'400_Means'!$B31","v":100.795},{"$f":"'900_Means'!$B31","v":100.25111111111111},{"$f":"'1600_Means'!$B31","v":99.636875000000003},null,null,94.775000000000006,3]
[31,{"$f":"'2_Means'!$B32","v":103.5},{"$f":"'4_Means'!$B32","v":94.5},{"$f":"'16_Means'!$B32","v":100.375},{"$f":"'25_Means'!$B32","v":95},{"$f":"'100_Means'!$B32","v":100.87},{"$f":"'400_Means'!$B32","v":99.805000000000007},{"$f":"'900_Means'!$B32","v":100.02111111111111},{"$f":"'1600_Means'!$B32","v":100.38875},null,null,96.474999999999994,12]
[32,{"$f":"'2_Means'!$B33","v":102.5},{"$f":"'4_Means'!$B33","v":103.25},{"$f":"'16_Means'!$B33","v":97.625},{"$f":"'25_Means'!$B33","v":99.36},{"$f":"'100_Means'!$B33","v":101.72},{"$f":"'400_Means'!$B33","v":100.27500000000001},{"$f":"'900_Means'!$B33","v":99.73555555555555},{"$f":"'1600_Means'!$B33","v":99.881249999999994},null,null,98.174999999999997,12]
[33,{"$f":"'2_Means'!$B34","v":99},{"$f":"'4_Means'!$B34","v":106.25},{"$f":"'16_Means'!$B34","v":101.375},{"$f":"'25_Means'!$B34","v":105.44},{"$f":"'100_Means'!$B34","v":99.39},{"$f":"'400_Means'!$B34","v":100.1575},{"$f":"'900_Means'!$B34","v":99.218888888888884},{"$f":"'1600_Means'!$B34","v":100.359375},null,null,99.875,15]
[34,{"$f":"'2_Means'!$B35","v":105.5},{"$f":"'4_Means'!$B35","v":94.75},{"$f":"'16_Means'!$B35","v":99.5625},{"$f":"'25_Means'!$B35","v":101.24},{"$f":"'100_Means'!$B35","v":96.79},{"$f":"'400_Means'!$B35","v":100.68},{"$f":"'900_Means'!$B35","v":100.04444444444445},{"$f":"'1600_Means'!$B35","v":100.50687499999999},null,null,101.575,26]
[35,{"$f":"'2_Means'!$B36","v":99.5},{"$f":"'4_Means'!$B36","v":111},{"$f":"'16_Means'!$B36","v":99.25},{"$f":"'25_Means'!$B36","v":107.72},{"$f":"'100_Means'!$B36","v":97.75},{"$f":"'400_Means'!$B36","v":100.005},{"$f":"'900_Means'!$B36","v":100.55333333333333},{"$f":"'1600_Means'!$B36","v":99.797499999999999},null,null,103.27500000000001,12]
[36,{"$f":"'2_Means'!$B37","v":84.5},{"$f":"'4_Means'!$B37","v":91.5},{"$f":"'16_Means'!$B37","v":96.9375},{"$f":"'25_Means'!$B37","v":103.16},{"$f":"'100_Means'!$B37","v":98.19},{"$f":"'400_Means'!$B37","v":100.2925},{"$f":"'900_Means'!$B37","v":100.02222222222223},{"$f":"'1600_Means'!$B37","v":100.07125000000001},null,null,104.97499999999999,9]
[37,{"$f":"'2_Means'!$B38","v":78.5},{"$f":"'4_Means'!$B38","v":94},{"$f":"'16_Means'!$B38","v":107.25},{"$f":"'25_Means'!$B38","v":104.12},{"$f":"'100_Means'!$B38","v":101},{"$f":"'400_Means'!$B38","v":100.645},{"$f":"'900_Means'!$B38","v":100.11111111111111},{"$f":"'1600_Means'!$B38","v":99.941874999999996},null,null,106.675,2]
[38,{"$f":"'2_Means'!$B39","v":100.5},{"$f":"'4_Means'!$B39","v":95},{"$f":"'16_Means'!$B39","v":96.25},{"$f":"'25_Means'!$B39","v":98.56},{"$f":"'100_Means'!$B39","v":101.12},{"$f":"'400_Means'!$B39","v":99.94},{"$f":"'900_Means'!$B39","v":99.61666666666666},{"$f":"'1600_Means'!$B39","v":99.851249999999993},null,null,"기타",6]
[39,{"$f":"'2_Means'!$B40","v":102},{"$f":"'4_Means'!$B40","v":101.75},{"$f":"'16_Means'!$B40","v":95.3125},{"$f":"'25_Means'!$B40","v":100.44},{"$f":"'100_Means'!$B40","v":99.21},{"$f":"'400_Means'!$B40","v":99.875},{"$f":"'900_Means'!$B40","v":100.63888888888889},{"$f":"'1600_Means'!$B40","v":100.19437499999999}]
[40,{"$f":"'2_Means'!$B41","v":85},{"$f":"'4_Means'!$B41","v":93.5},{"$f":"'16_Means'!$B41","v":99.1875},{"$f":"'25_Means'!$B41","v":98.12},{"$f":"'100_Means'!$B41","v":100.22},{"$f":"'400_Means'!$B41","v":100.47},{"$f":"'900_Means'!$B41","v":99.844444444444449},{"$f":"'1600_Means'!$B41","v":99.977500000000006},null,null,"계급","빈도수"]
[41,{"$f":"'2_Means'!$B42","v":88.5},{"$f":"'4_Means'!$B42","v":102},{"$f":"'16_Means'!$B42","v":96.1875},{"$f":"'25_Means'!$B42","v":104.28},{"$f":"'100_Means'!$B42","v":99.82},{"$f":"'400_Means'!$B42","v":100},{"$f":"'900_Means'!$B42","v":100.23888888888889},{"$f":"'1600_Means'!$B42","v":100.075625},null,null,92.28,1]
[42,{"$f":"'2_Means'!$B43","v":86.5},{"$f":"'4_Means'!$B43","v":84.75},{"$f":"'16_Means'!$B43","v":101.9375},{"$f":"'25_Means'!$B43","v":98.68},{"$f":"'100_Means'!$B43","v":102.06},{"$f":"'400_Means'!$B43","v":99.627499999999998},{"$f":"'900_Means'!$B43","v":99.45},{"$f":"'1600_Means'!$B43","v":100.276875},null,null,94.048000000000002,4]
[43,{"$f":"'2_Means'!$B44","v":108},{"$f":"'4_Means'!$B44","v":106},{"$f":"'16_Means'!$B44","v":99.9375},{"$f":"'25_Means'!$B44","v":101.52},{"$f":"'100_Means'!$B44","v":100.38},{"$f":"'400_Means'!$B44","v":100.2075},{"$f":"'900_Means'!$B44","v":100.87555555555555},{"$f":"'1600_Means'!$B44","v":100.04},null,null,95.816000000000003,7]
[44,{"$f":"'2_Means'!$B45","v":91.5},{"$f":"'4_Means'!$B45","v":104.25},{"$f":"'16_Means'!$B45","v":99.625},{"$f":"'25_Means'!$B45","v":101.32},{"$f":"'100_Means'!$B45","v":96.93},{"$f":"'400_Means'!$B45","v":100.7},{"$f":"'900_Means'!$B45","v":99.097777777777779},{"$f":"'1600_Means'!$B45","v":100.089375},null,null,97.584000000000003,10]
[45,{"$f":"'2_Means'!$B46","v":95},{"$f":"'4_Means'!$B46","v":107.5},{"$f":"'16_Means'!$B46","v":103},{"$f":"'25_Means'!$B46","v":94.16},{"$f":"'100_Means'!$B46","v":100.57},{"$f":"'400_Means'!$B46","v":100.42},{"$f":"'900_Means'!$B46","v":99.393333333333331},{"$f":"'1600_Means'!$B46","v":100.66187499999999},null,null,99.352000000000004,14]
[46,{"$f":"'2_Means'!$B47","v":96},{"$f":"'4_Means'!$B47","v":102.25},{"$f":"'16_Means'!$B47","v":96.375},{"$f":"'25_Means'!$B47","v":104.56},{"$f":"'100_Means'!$B47","v":100.81},{"$f":"'400_Means'!$B47","v":99.775000000000006},{"$f":"'900_Means'!$B47","v":99.98},{"$f":"'1600_Means'!$B47","v":99.927499999999995},null,null,101.12,20]
[47,{"$f":"'2_Means'!$B48","v":90},{"$f":"'4_Means'!$B48","v":104.5},{"$f":"'16_Means'!$B48","v":104.375},{"$f":"'25_Means'!$B48","v":98},{"$f":"'100_Means'!$B48","v":100.16},{"$f":"'400_Means'!$B48","v":99.704999999999998},{"$f":"'900_Means'!$B48","v":99.87555555555555},{"$f":"'1600_Means'!$B48","v":101.129375},null,null,102.88800000000001,19]
[48,{"$f":"'2_Means'!$B49","v":90},{"$f":"'4_Means'!$B49","v":93},{"$f":"'16_Means'!$B49","v":98.4375},{"$f":"'25_Means'!$B49","v":97.64},{"$f":"'100_Means'!$B49","v":103.26},{"$f":"'400_Means'!$B49","v":98.73},{"$f":"'900_Means'!$B49","v":99.934444444444438},{"$f":"'1600_Means'!$B49","v":100.57062500000001},null,null,104.65599999999999,12]
[49,{"$f":"'2_Means'!$B50","v":92.5},{"$f":"'4_Means'!$B50","v":118.25},{"$f":"'16_Means'!$B50","v":100.1875},{"$f":"'25_Means'!$B50","v":106.44},{"$f":"'100_Means'!$B50","v":102.51},{"$f":"'400_Means'!$B50","v":99.257499999999993},{"$f":"'900_Means'!$B50","v":100.80111111111111},{"$f":"'1600_Means'!$B50","v":100.13312500000001},null,null,106.42399999999999,7]
[50,{"$f":"'2_Means'!$B51","v":97.5},{"$f":"'4_Means'!$B51","v":102.25},{"$f":"'16_Means'!$B51","v":106.375},{"$f":"'25_Means'!$B51","v":107.48},{"$f":"'100_Means'!$B51","v":100.4},{"$f":"'400_Means'!$B51","v":98.72},{"$f":"'900_Means'!$B51","v":100.32},{"$f":"'1600_Means'!$B51","v":100.23875},null,null,108.19199999999999,5]
[51,{"$f":"'2_Means'!$B52","v":109.5},{"$f":"'4_Means'!$B52","v":86},{"$f":"'16_Means'!$B52","v":104.4375},{"$f":"'25_Means'!$B52","v":100.12},{"$f":"'100_Means'!$B52","v":100.63},{"$f":"'400_Means'!$B52","v":100.7325},{"$f":"'900_Means'!$B52","v":100.3411111111111},{"$f":"'1600_Means'!$B52","v":100.0675},null,null,"기타",1]
[52,{"$f":"'2_Means'!$B53","v":102},{"$f":"'4_Means'!$B53","v":100},{"$f":"'16_Means'!$B53","v":101.125},{"$f":"'25_Means'!$B53","v":97.04},{"$f":"'100_Means'!$B53","v":100.33},{"$f":"'400_Means'!$B53","v":99.415000000000006},{"$f":"'900_Means'!$B53","v":98.94},{"$f":"'1600_Means'!$B53","v":99.774375000000006}]
[53,{"$f":"'2_Means'!$B54","v":107.5},{"$f":"'4_Means'!$B54","v":105.75},{"$f":"'16_Means'!$B54","v":100.6875},{"$f":"'25_Means'!$B54","v":100.8},{"$f":"'100_Means'!$B54","v":99},{"$f":"'400_Means'!$B54","v":100.3175},{"$f":"'900_Means'!$B54","v":100.29},{"$f":"'1600_Means'!$B54","v":100.174375},null,null,"계급","빈도수"]
[54,{"$f":"'2_Means'!$B55","v":94},{"$f":"'4_Means'!$B55","v":105.5},{"$f":"'16_Means'!$B55","v":102.5},{"$f":"'25_Means'!$B55","v":94.56},{"$f":"'100_Means'!$B55","v":97.58},{"$f":"'400_Means'!$B55","v":99.497500000000002},{"$f":"'900_Means'!$B55","v":99.581111111111113},{"$f":"'1600_Means'!$B55","v":100.015625},null,null,96.79,1]
[55,{"$f":"'2_Means'!$B56","v":105.5},{"$f":"'4_Means'!$B56","v":103},{"$f":"'16_Means'!$B56","v":104.25},{"$f":"'25_Means'!$B56","v":104.8},{"$f":"'100_Means'!$B56","v":102.38},{"$f":"'400_Means'!$B56","v":99.954999999999998},{"$f":"'900_Means'!$B56","v":100.50666666666666},{"$f":"'1600_Means'!$B56","v":100.1525},null,null,97.474000000000004,1]
[56,{"$f":"'2_Means'!$B57","v":103},{"$f":"'4_Means'!$B57","v":121.25},{"$f":"'16_Means'!$B57","v":93.1875},{"$f":"'25_Means'!$B57","v":105.44},{"$f":"'100_Means'!$B57","v":100.21},{"$f":"'400_Means'!$B57","v":99.592500000000001},{"$f":"'900_Means'!$B57","v":99.704444444444448},{"$f":"'1600_Means'!$B57","v":99.552499999999995},null,null,98.158000000000001,5]
[57,{"$f":"'2_Means'!$B58","v":90.5},{"$f":"'4_Means'!$B58","v":100},{"$f":"'16_Means'!$B58","v":99.0625},{"$f":"'25_Means'!$B58","v":99.72},{"$f":"'100_Means'!$B58","v":101.8},{"$f":"'400_Means'!$B58","v":100.2925},{"$f":"'900_Means'!$B58","v":99.337777777777774},{"$f":"'1600_Means'!$B58","v":100.34875},null,null,98.841999999999999,9]
[58,{"$f":"'2_Means'!$B59","v":107},{"$f":"'4_Means'!$B59","v":110.75},{"$f":"'16_Means'!$B59","v":100.875},{"$f":"'25_Means'!$B59","v":104.12},{"$f":"'100_Means'!$B59","v":103.63},{"$f":"'400_Means'!$B59","v":99.892499999999998},{"$f":"'900_Means'!$B59","v":100.21333333333334},{"$f":"'1600_Means'!$B59","v":100.36562499999999},null,null,99.525999999999996,19]
[59,{"$f":"'2_Means'!$B60","v":103},{"$f":"'4_Means'!$B60","v":102.5},{"$f":"'16_Means'!$B60","v":103.4375},{"$f":"'25_Means'!$B60","v":99.32},{"$f":"'100_Means'!$B60","v":99.85},{"$f":"'400_Means'!$B60","v":98.682500000000005},{"$f":"'900_Means'!$B60","v":99.766666666666666},{"$f":"'1600_Means'!$B60","v":100.11},null,null,100.21000000000001,15]
[60,{"$f":"'2_Means'!$B61","v":108},{"$f":"'4_Means'!$B61","v":122.75},{"$f":"'16_Means'!$B61","v":100},{"$f":"'25_Means'!$B61","v":99.32},{"$f":"'100_Means'!$B61","v":99.36},{"$f":"'400_Means'!$B61","v":100.77500000000001},{"$f":"'900_Means'!$B61","v":100.46111111111111},{"$f":"'1600_Means'!$B61","v":100.574375},null,null,100.89400000000001,19]
[61,{"$f":"'2_Means'!$B62","v":87.5},{"$f":"'4_Means'!$B62","v":81.25},{"$f":"'16_Means'!$B62","v":92.5625},{"$f":"'25_Means'!$B62","v":97.92},{"$f":"'100_Means'!$B62","v":99.83},{"$f":"'400_Means'!$B62","v":99.62},{"$f":"'900_Means'!$B62","v":99.26},{"$f":"'1600_Means'!$B62","v":99.965000000000003},null,null,101.578,8]
[62,{"$f":"'2_Means'!$B63","v":109.5},{"$f":"'4_Means'!$B63","v":99.75},{"$f":"'16_Means'!$B63","v":107.625},{"$f":"'25_Means'!$B63","v":101.8},{"$f":"'100_Means'!$B63","v":98.55},{"$f":"'400_Means'!$B63","v":101.03749999999999},{"$f":"'900_Means'!$B63","v":100.68666666666667},{"$f":"'1600_Means'!$B63","v":99.916250000000005},null,null,102.262,15]
[63,{"$f":"'2_Means'!$B64","v":115.5},{"$f":"'4_Means'!$B64","v":109.5},{"$f":"'16_Means'!$B64","v":103.125},{"$f":"'25_Means'!$B64","v":99.52},{"$f":"'100_Means'!$B64","v":99.47},{"$f":"'400_Means'!$B64","v":99.817499999999995},{"$f":"'900_Means'!$B64","v":101.25555555555556},{"$f":"'1600_Means'!$B64","v":100.67874999999999},null,null,102.946,4]
[64,{"$f":"'2_Means'!$B65","v":89},{"$f":"'4_Means'!$B65","v":101},{"$f":"'16_Means'!$B65","v":100.625},{"$f":"'25_Means'!$B65","v":103.12},{"$f":"'100_Means'!$B65","v":100.03},{"$f":"'400_Means'!$B65","v":100.395},{"$f":"'900_Means'!$B65","v":99.717777777777783},{"$f":"'1600_Means'!$B65","v":99.053124999999994},null,null,"기타",4]
[65,{"$f":"'2_Means'!$B66","v":81},{"$f":"'4_Means'!$B66","v":93.25},{"$f":"'16_Means'!$B66","v":101.5625},{"$f":"'25_Means'!$B66","v":106.56},{"$f":"'100_Means'!$B66","v":101.14},{"$f":"'400_Means'!$B66","v":100.0825},{"$f":"'900_Means'!$B66","v":99.806666666666672},{"$f":"'1600_Means'!$B66","v":100.16437500000001}]
[66,{"$f":"'2_Means'!$B67","v":76.5},{"$f":"'4_Means'!$B67","v":102},{"$f":"'16_Means'!$B67","v":95.4375},{"$f":"'25_Means'!$B67","v":92.6},{"$f":"'100_Means'!$B67","v":100.55},{"$f":"'400_Means'!$B67","v":100.0175},{"$f":"'900_Means'!$B67","v":99.662222222222226},{"$f":"'1600_Means'!$B67","v":99.583124999999995}]
[67,{"$f":"'2_Means'!$B68","v":91.5},{"$f":"'4_Means'!$B68","v":89},{"$f":"'16_Means'!$B68","v":100.9375},{"$f":"'25_Means'!$B68","v":102.44},{"$f":"'100_Means'!$B68","v":101.65},{"$f":"'400_Means'!$B68","v":100.3875},{"$f":"'900_Means'!$B68","v":101.04222222222222},{"$f":"'1600_Means'!$B68","v":99.539375000000007}]
[68,{"$f":"'2_Means'!$B69","v":106},{"$f":"'4_Means'!$B69","v":102.5},{"$f":"'16_Means'!$B69","v":99.625},{"$f":"'25_Means'!$B69","v":105.16},{"$f":"'100_Means'!$B69","v":99.45},{"$f":"'400_Means'!$B69","v":99.69},{"$f":"'900_Means'!$B69","v":100.43222222222222},{"$f":"'1600_Means'!$B69","v":100.1575}]
[69,{"$f":"'2_Means'!$B70","v":97.5},{"$f":"'4_Means'!$B70","v":86.25},{"$f":"'16_Means'!$B70","v":98.9375},{"$f":"'25_Means'!$B70","v":101.4},{"$f":"'100_Means'!$B70","v":101.03},{"$f":"'400_Means'!$B70","v":99.962500000000006},{"$f":"'900_Means'!$B70","v":100.29888888888888},{"$f":"'1600_Means'!$B70","v":100.15062500000001},null,null,"계급","빈도수"]
[70,{"$f":"'2_Means'!$B71","v":101},{"$f":"'4_Means'!$B71","v":95},{"$f":"'16_Means'!$B71","v":92.9375},{"$f":"'25_Means'!$B71","v":104.96},{"$f":"'100_Means'!$B71","v":102.06},{"$f":"'400_Means'!$B71","v":100.23},{"$f":"'900_Means'!$B71","v":100.37777777777778},{"$f":"'1600_Means'!$B71","v":99.723124999999996},null,null,98.275000000000006,1]
[71,{"$f":"'2_Means'!$B72","v":105},{"$f":"'4_Means'!$B72","v":115.25},{"$f":"'16_Means'!$B72","v":101.625},{"$f":"'25_Means'!$B72","v":97.84},{"$f":"'100_Means'!$B72","v":103.43},{"$f":"'400_Means'!$B72","v":98.98},{"$f":"'900_Means'!$B72","v":99.982222222222219},{"$f":"'1600_Means'!$B72","v":100.28749999999999},null,null,98.610500000000002,1]
[72,{"$f":"'2_Means'!$B73","v":111},{"$f":"'4_Means'!$B73","v":99.75},{"$f":"'16_Means'!$B73","v":100.75},{"$f":"'25_Means'!$B73","v":103.32},{"$f":"'100_Means'!$B73","v":100.49},{"$f":"'400_Means'!$B73","v":99.207499999999996},{"$f":"'900_Means'!$B73","v":99.806666666666672},{"$f":"'1600_Means'!$B73","v":100.333125},null,null,98.945999999999998,6]
[73,{"$f":"'2_Means'!$B74","v":104},{"$f":"'4_Means'!$B74","v":109.25},{"$f":"'16_Means'!$B74","v":97.5},{"$f":"'25_Means'!$B74","v":101.4},{"$f":"'100_Means'!$B74","v":100.72},{"$f":"'400_Means'!$B74","v":100.55},{"$f":"'900_Means'!$B74","v":100.04444444444445},{"$f":"'1600_Means'!$B74","v":99.298124999999999},null,null,99.281500000000008,9]
[74,{"$f":"'2_Means'!$B75","v":99},{"$f":"'4_Means'!$B75","v":100.5},{"$f":"'16_Means'!$B75","v":100.625},{"$f":"'25_Means'!$B75","v":96.24},{"$f":"'100_Means'!$B75","v":100.83},{"$f":"'400_Means'!$B75","v":100.745},{"$f":"'900_Means'!$B75","v":100.75111111111111},{"$f":"'1600_Means'!$B75","v":99.588125000000005},null,null,99.617000000000004,15]
[75,{"$f":"'2_Means'!$B76","v":83},{"$f":"'4_Means'!$B76","v":92},{"$f":"'16_Means'!$B76","v":96.625},{"$f":"'25_Means'!$B76","v":100.8},{"$f":"'100_Means'!$B76","v":101.63},{"$f":"'400_Means'!$B76","v":99.597499999999997},{"$f":"'900_Means'!$B76","v":99.698888888888888},{"$f":"'1600_Means'!$B76","v":100.5025},null,null,99.952500000000001,15]
[76,{"$f":"'2_Means'!$B77","v":109},{"$f":"'4_Means'!$B77","v":107},{"$f":"'16_Means'!$B77","v":100.5625},{"$f":"'25_Means'!$B77","v":101},{"$f":"'100_Means'!$B77","v":99.04},{"$f":"'400_Means'!$B77","v":99.787499999999994},{"$f":"'900_Means'!$B77","v":100.08333333333333},{"$f":"'1600_Means'!$B77","v":100.07625},null,null,100.288,20]
[77,{"$f":"'2_Means'!$B78","v":112.5},{"$f":"'4_Means'!$B78","v":101.25},{"$f":"'16_Means'!$B78","v":103.8125},{"$f":"'25_Means'!$B78","v":103.56},{"$f":"'100_Means'!$B78","v":99.31},{"$f":"'400_Means'!$B78","v":98.517499999999998},{"$f":"'900_Means'!$B78","v":99.227777777777774},{"$f":"'1600_Means'!$B78","v":100.328125},null,null,100.62349999999999,15]
[78,{"$f":"'2_Means'!$B79","v":98},{"$f":"'4_Means'!$B79","v":108},{"$f":"'16_Means'!$B79","v":98.5625},{"$f":"'25_Means'!$B79","v":102.76},{"$f":"'100_Means'!$B79","v":97.58},{"$f":"'400_Means'!$B79","v":99.784999999999997},{"$f":"'900_Means'!$B79","v":99.782222222222217},{"$f":"'1600_Means'!$B79","v":100.8475},null,null,100.959,11]
[79,{"$f":"'2_Means'!$B80","v":93},{"$f":"'4_Means'!$B80","v":94.75},{"$f":"'16_Means'!$B80","v":103.5625},{"$f":"'25_Means'!$B80","v":100.12},{"$f":"'100_Means'!$B80","v":99.5},{"$f":"'400_Means'!$B80","v":100.07},{"$f":"'900_Means'!$B80","v":99.976666666666674},{"$f":"'1600_Means'!$B80","v":100.24375000000001},null,null,101.2945,6]
[80,{"$f":"'2_Means'!$B81","v":94.5},{"$f":"'4_Means'!$B81","v":109.75},{"$f":"'16_Means'!$B81","v":101.3125},{"$f":"'25_Means'!$B81","v":109.96},{"$f":"'100_Means'!$B81","v":98.61},{"$f":"'400_Means'!$B81","v":100.2475},{"$f":"'900_Means'!$B81","v":99.291111111111107},{"$f":"'1600_Means'!$B81","v":99.606250000000003},null,null,"기타",1]
[81,{"$f":"'2_Means'!$B82","v":113.5},{"$f":"'4_Means'!$B82","v":94.75},{"$f":"'16_Means'!$B82","v":96.375},{"$f":"'25_Means'!$B82","v":104.28},{"$f":"'100_Means'!$B82","v":99.16},{"$f":"'400_Means'!$B82","v":99.784999999999997},{"$f":"'900_Means'!$B82","v":100.34},{"$f":"'1600_Means'!$B82","v":99.108125000000001}]
[82,{"$f":"'2_Means'!$B83","v":115},{"$f":"'4_Means'!$B83","v":97.75},{"$f":"'16_Means'!$B83","v":99.75},{"$f":"'25_Means'!$B83","v":102.88},{"$f":"'100_Means'!$B83","v":98.33},{"$f":"'400_Means'!$B83","v":99.995000000000005},{"$f":"'900_Means'!$B83","v":99.926666666666662},{"$f":"'1600_Means'!$B83","v":99.921875},null,null,"계급","빈도수"]
[83,{"$f":"'2_Means'!$B84","v":123.5},{"$f":"'4_Means'!$B84","v":93.5},{"$f":"'16_Means'!$B84","v":100.0625},{"$f":"'25_Means'!$B84","v":100.6},{"$f":"'100_Means'!$B84","v":100.28},{"$f":"'400_Means'!$B84","v":100.265},{"$f":"'900_Means'!$B84","v":100.76333333333334},{"$f":"'1600_Means'!$B84","v":100.0825},null,null,98.895555555555561,1]
[84,{"$f":"'2_Means'!$B85","v":110},{"$f":"'4_Means'!$B85","v":96},{"$f":"'16_Means'!$B85","v":93.75},{"$f":"'25_Means'!$B85","v":99.48},{"$f":"'100_Means'!$B85","v":103.52},{"$f":"'400_Means'!$B85","v":99.254999999999995},{"$f":"'900_Means'!$B85","v":100.23555555555555},{"$f":"'1600_Means'!$B85","v":99.233750000000001},null,null,99.131555555555565,4]
[85,{"$f":"'2_Means'!$B86","v":104.5},{"$f":"'4_Means'!$B86","v":86},{"$f":"'16_Means'!$B86","v":102.125},{"$f":"'25_Means'!$B86","v":92.52},{"$f":"'100_Means'!$B86","v":99.71},{"$f":"'400_Means'!$B86","v":99.1},{"$f":"'900_Means'!$B86","v":99.61666666666666},{"$f":"'1600_Means'!$B86","v":100.4375},null,null,99.367555555555555,7]
[86,{"$f":"'2_Means'!$B87","v":98.5},{"$f":"'4_Means'!$B87","v":83.75},{"$f":"'16_Means'!$B87","v":98},{"$f":"'25_Means'!$B87","v":102.36},{"$f":"'100_Means'!$B87","v":99.25},{"$f":"'400_Means'!$B87","v":99.522499999999994},{"$f":"'900_Means'!$B87","v":100.34},{"$f":"'1600_Means'!$B87","v":100.125},null,null,99.603555555555559,4]
[87,{"$f":"'2_Means'!$B88","v":80.5},{"$f":"'4_Means'!$B88","v":100.25},{"$f":"'16_Means'!$B88","v":97},{"$f":"'25_Means'!$B88","v":96.12},{"$f":"'100_Means'!$B88","v":100.43},{"$f":"'400_Means'!$B88","v":100.8},{"$f":"'900_Means'!$B88","v":99.222222222222229},{"$f":"'1600_Means'!$B88","v":99.765000000000001},null,null,99.839555555555563,16]
[88,{"$f":"'2_Means'!$B89","v":89.5},{"$f":"'4_Means'!$B89","v":98},{"$f":"'16_Means'!$B89","v":96.5},{"$f":"'25_Means'!$B89","v":98.4},{"$f":"'100_Means'!$B89","v":101.65},{"$f":"'400_Means'!$B89","v":99.055000000000007},{"$f":"'900_Means'!$B89","v":101.13111111111111},{"$f":"'1600_Means'!$B89","v":100.26625},null,null,100.07555555555555,23]
[89,{"$f":"'2_Means'!$B90","v":118},{"$f":"'4_Means'!$B90","v":103.25},{"$f":"'16_Means'!$B90","v":101.4375},{"$f":"'25_Means'!$B90","v":94.72},{"$f":"'100_Means'!$B90","v":102.03},{"$f":"'400_Means'!$B90","v":101.075},{"$f":"'900_Means'!$B90","v":100.44666666666667},{"$f":"'1600_Means'!$B90","v":99.948750000000004},null,null,100.31155555555556,14]
[90,{"$f":"'2_Means'!$B91","v":99},{"$f":"'4_Means'!$B91","v":90.5},{"$f":"'16_Means'!$B91","v":100.25},{"$f":"'25_Means'!$B91","v":101.4},{"$f":"'100_Means'!$B91","v":98.48},{"$f":"'400_Means'!$B91","v":100.11499999999999},{"$f":"'900_Means'!$B91","v":100.47},{"$f":"'1600_Means'!$B91","v":99.084999999999994},null,null,100.54755555555556,15]
[91,{"$f":"'2_Means'!$B92","v":112},{"$f":"'4_Means'!$B92","v":96.5},{"$f":"'16_Means'!$B92","v":99.0625},{"$f":"'25_Means'!$B92","v":104.28},{"$f":"'100_Means'!$B92","v":98.34},{"$f":"'400_Means'!$B92","v":100.42749999999999},{"$f":"'900_Means'!$B92","v":100.21888888888888},{"$f":"'1600_Means'!$B92","v":100.14375},null,null,100.78355555555557,7]
[92,{"$f":"'2_Means'!$B93","v":102},{"$f":"'4_Means'!$B93","v":93.5},{"$f":"'16_Means'!$B93","v":103.25},{"$f":"'25_Means'!$B93","v":92.52},{"$f":"'100_Means'!$B93","v":98.42},{"$f":"'400_Means'!$B93","v":99.49},{"$f":"'900_Means'!$B93","v":100.21888888888888},{"$f":"'1600_Means'!$B93","v":100.051875},null,null,101.01955555555556,6]
[93,{"$f":"'2_Means'!$B94","v":105},{"$f":"'4_Means'!$B94","v":93},{"$f":"'16_Means'!$B94","v":105.9375},{"$f":"'25_Means'!$B94","v":95.76},{"$f":"'100_Means'!$B94","v":98.9},{"$f":"'400_Means'!$B94","v":98.275000000000006},{"$f":"'900_Means'!$B94","v":100.07111111111111},{"$f":"'1600_Means'!$B94","v":99.978125000000006},null,null,"기타",3]
[94,{"$f":"'2_Means'!$B95","v":90.5},{"$f":"'4_Means'!$B95","v":95.25},{"$f":"'16_Means'!$B95","v":103},{"$f":"'25_Means'!$B95","v":105.4},{"$f":"'100_Means'!$B95","v":101.59},{"$f":"'400_Means'!$B95","v":98.944999999999993},{"$f":"'900_Means'!$B95","v":100.94444444444444},{"$f":"'1600_Means'!$B95","v":100.21375}]
[95,{"$f":"'2_Means'!$B96","v":78},{"$f":"'4_Means'!$B96","v":115},{"$f":"'16_Means'!$B96","v":96.125},{"$f":"'25_Means'!$B96","v":92.28},{"$f":"'100_Means'!$B96","v":99.11},{"$f":"'400_Means'!$B96","v":101.13},{"$f":"'900_Means'!$B96","v":100.77555555555556},{"$f":"'1600_Means'!$B96","v":100.52312499999999},null,null,"계급","빈도수"]
[96,{"$f":"'2_Means'!$B97","v":103.5},{"$f":"'4_Means'!$B97","v":93.25},{"$f":"'16_Means'!$B97","v":97.8125},{"$f":"'25_Means'!$B97","v":95.44},{"$f":"'100_Means'!$B97","v":99.58},{"$f":"'400_Means'!$B97","v":99.762500000000003},{"$f":"'900_Means'!$B97","v":98.964444444444439},{"$f":"'1600_Means'!$B97","v":99.429374999999993},null,null,99.053124999999994,1]
[97,{"$f":"'2_Means'!$B98","v":99},{"$f":"'4_Means'!$B98","v":93},{"$f":"'16_Means'!$B98","v":106.8125},{"$f":"'25_Means'!$B98","v":101.72},{"$f":"'100_Means'!$B98","v":99.72},{"$f":"'400_Means'!$B98","v":99.4},{"$f":"'900_Means'!$B98","v":99.894444444444446},{"$f":"'1600_Means'!$B98","v":99.809375000000003},null,null,99.260750000000002,3]
[98,{"$f":"'2_Means'!$B99","v":98},{"$f":"'4_Means'!$B99","v":98},{"$f":"'16_Means'!$B99","v":99.4375},{"$f":"'25_Means'!$B99","v":99.12},{"$f":"'100_Means'!$B99","v":102.06},{"$f":"'400_Means'!$B99","v":100.8775},{"$f":"'900_Means'!$B99","v":99.876666666666665},{"$f":"'1600_Means'!$B99","v":100.31937499999999},null,null,99.468374999999995,3]
[99,{"$f":"'2_Means'!$B100","v":101},{"$f":"'4_Means'!$B100","v":99.25},{"$f":"'16_Means'!$B100","v":103.375},{"$f":"'25_Means'!$B100","v":99.72},{"$f":"'100_Means'!$B100","v":99.57},{"$f":"'400_Means'!$B100","v":99.457499999999996},{"$f":"'900_Means'!$B100","v":99.965555555555554},{"$f":"'1600_Means'!$B100","v":100.16374999999999},null,null,99.675999999999988,10]
[100,{"$f":"'2_Means'!$B101","v":104.5},{"$f":"'4_Means'!$B101","v":89.5},{"$f":"'16_Means'!$B101","v":102.0625},{"$f":"'25_Means'!$B101","v":100.56},{"$f":"'100_Means'!$B101","v":101.63},{"$f":"'400_Means'!$B101","v":100.41249999999999},{"$f":"'900_Means'!$B101","v":99.857777777777784},{"$f":"'1600_Means'!$B101","v":99.59},null,null,99.883624999999995,14]
[null,null,null,null,null,null,null,null,null,null,null,100.09125,22]
[null,null,null,null,null,null,null,null,null,null,null,100.298875,22]
[null,null,null,null,null,null,null,null,null,null,null,100.50649999999999,11]
[null,null,null,null,null,null,null,null,null,null,null,100.714125,10]
[null,null,null,null,null,null,null,null,null,null,null,100.92175,3]
[null,null,null,null,null,null,null,null,null,null,null,"기타",1]